BEGIN:VCALENDAR
VERSION:2.0
PRODID:-//Industrievandaag - ECPv6.15.18//NONSGML v1.0//EN
CALSCALE:GREGORIAN
METHOD:PUBLISH
X-WR-CALNAME:Industrievandaag
X-ORIGINAL-URL:https://industrievandaag.nl
X-WR-CALDESC:Evenementen voor Industrievandaag
REFRESH-INTERVAL;VALUE=DURATION:PT1H
X-Robots-Tag:noindex
X-PUBLISHED-TTL:PT1H
BEGIN:VTIMEZONE
TZID:Europe/Amsterdam
BEGIN:DAYLIGHT
TZOFFSETFROM:+0100
TZOFFSETTO:+0200
TZNAME:CEST
DTSTART:20240331T010000
END:DAYLIGHT
BEGIN:STANDARD
TZOFFSETFROM:+0200
TZOFFSETTO:+0100
TZNAME:CET
DTSTART:20241027T010000
END:STANDARD
BEGIN:DAYLIGHT
TZOFFSETFROM:+0100
TZOFFSETTO:+0200
TZNAME:CEST
DTSTART:20250330T010000
END:DAYLIGHT
BEGIN:STANDARD
TZOFFSETFROM:+0200
TZOFFSETTO:+0100
TZNAME:CET
DTSTART:20251026T010000
END:STANDARD
BEGIN:DAYLIGHT
TZOFFSETFROM:+0100
TZOFFSETTO:+0200
TZNAME:CEST
DTSTART:20260329T010000
END:DAYLIGHT
BEGIN:STANDARD
TZOFFSETFROM:+0200
TZOFFSETTO:+0100
TZNAME:CET
DTSTART:20261025T010000
END:STANDARD
BEGIN:DAYLIGHT
TZOFFSETFROM:+0100
TZOFFSETTO:+0200
TZNAME:CEST
DTSTART:20270328T010000
END:DAYLIGHT
BEGIN:STANDARD
TZOFFSETFROM:+0200
TZOFFSETTO:+0100
TZNAME:CET
DTSTART:20271031T010000
END:STANDARD
END:VTIMEZONE
BEGIN:VEVENT
DTSTART;TZID=Europe/Amsterdam:20260324T090000
DTEND;TZID=Europe/Amsterdam:20260326T170000
DTSTAMP:20260419T150604
CREATED:20251205T152251Z
LAST-MODIFIED:20251205T152251Z
UID:10001554-1774342800-1774544400@industrievandaag.nl
SUMMARY:LogiMAT
DESCRIPTION:LogiMAT\, the International Trade Show for Intralogistics Solutions and Process Management\, sets new standards as the biggest annual intralogistics exhibition in Europe. This is the leading international trade fair that provides a comprehensive market overview and competent knowledge-transfer. \nHow can companies best manage the raw material of the future – “data” – efficiently and securely? \nHow can interfaces between operatives\, production resources and intelligent robot assistants be defined\, in order to optimise the workplace? \nHow can virtual reality help in making key decisions on future investment? \nThe technologies needed for intralogistics solutions and process management are in focus at LogiMAT.
URL:https://industrievandaag.nl/event/logimat/
LOCATION:Messe Stuttgart\, Messepiazza 1\, Stuttgart\, 70629\, Duitsland
CATEGORIES:Vakbeurs
ORGANIZER;CN="Landesmesse Stuttgart GmbH":MAILTO:info@messe-stuttgart.de
GEO:48.6939205;9.1934891
X-APPLE-STRUCTURED-LOCATION;VALUE=URI;X-ADDRESS=Messe Stuttgart Messepiazza 1 Stuttgart 70629 Duitsland;X-APPLE-RADIUS=500;X-TITLE=Messepiazza 1:geo:9.1934891,48.6939205
END:VEVENT
BEGIN:VEVENT
DTSTART;TZID=Europe/Amsterdam:20251021T093000
DTEND;TZID=Europe/Amsterdam:20251024T170000
DTSTAMP:20260419T150604
CREATED:20250404T083750Z
LAST-MODIFIED:20250827T121815Z
UID:10001437-1761039000-1761325200@industrievandaag.nl
SUMMARY:Schweisstec
DESCRIPTION:The declared aim of the trade fair association is to present the entire process chain of cold-forming sheet metal processing and the associated thermal or mechanical cutting\, joining and connection technology. \nThe Exhibitor Forum\, which is held on all days of the fair and is free of charge for trade visitors\, has been very popular for years. Top-class speakers from exhibiting companies report in alternating lectures on the theory and practice of modern\, performance-oriented production and assembly automation.\nThe spectrum of lectures covers all relevant disciplines\, from the suitability of special components for specific requirements to reports on experiences with the use of processes and flexible assembly systems.
URL:https://industrievandaag.nl/event/schweisstec/
LOCATION:Messe Stuttgart\, Messepiazza 1\, Stuttgart\, 70629\, Duitsland
CATEGORIES:Vakbeurs
ORGANIZER;CN="Landesmesse Stuttgart GmbH":MAILTO:info@messe-stuttgart.de
GEO:48.6939205;9.1934891
X-APPLE-STRUCTURED-LOCATION;VALUE=URI;X-ADDRESS=Messe Stuttgart Messepiazza 1 Stuttgart 70629 Duitsland;X-APPLE-RADIUS=500;X-TITLE=Messepiazza 1:geo:9.1934891,48.6939205
END:VEVENT
BEGIN:VEVENT
DTSTART;TZID=Europe/Amsterdam:20251007T100000
DTEND;TZID=Europe/Amsterdam:20251009T170000
DTSTAMP:20260419T150604
CREATED:20250404T083715Z
LAST-MODIFIED:20250827T121744Z
UID:10001424-1759831200-1760029200@industrievandaag.nl
SUMMARY:parts2clean
DESCRIPTION:parts2clean – International trade fair for industrial parts and surface cleaning\nAs the only trade fair in the world focusing exclusively on industrial parts and surface cleaning\, parts2clean not only reflects today’s market in its entirety\, but also offers lots of added value in terms of its parallel three-day forum. \n\nCleaning systems and cleaning agents for\n\nwet cleaning processes\nthermal processes\nblasting processes\nspecial processes and applications\nmechanical processes\n\n\n\n\nSystems and components for cleaning systems\nContract cleaning\nDrying processes\nCorrosion protection and preservation\nQuality assurance\, lab & analyatics\nMaintenance & Recycling\nCleanrooms\nDeburring\nHandling & Automation\nServices\, Organizations & Publishers\nR&D\n\nDecision-makers welcome this platform for information and acquisitions\nThe  parts2clean clearly showed that more companies from different sectors are beginning to recognize the important role played by industrial parts and surface cleaning in maintaining quality standards in diverse stages of production. This was made evident not only by the extraordinarily high proportion of professionals who attended the event (99 percent)\, but also by the decision-making competence of the visitors within their companies. One in two visitors came from management and 85 percent of all visitors stated that they played a role in their company’s investment decisions. It was also clear that the visitors to parts2clean were keen to invest. No fewer than 82 percent of them came with clear ideas on acquisition and investment\, a figure that was slightly higher than at last year’s trade show. Some 41 percent of these potential investors had an investment budget of over 100\,000 euros at their disposal. In other words\, many of the trade visitors arrived at the International Trade Fair for Industrial Parts and Surface Cleaning with clear intentions and concrete projects in mind. \nFocus on trends and future requirements\nA tour of parts2clean showed that this flagship event is not solely focused on current needs and demand for clean industrial components and surfaces. As parts2clean organizer Daebler pointed out: “We established that digitization and automation are making rapid inroads into industrial components and surface cleaning.” The organizers responded\, therefore\, by including new display formats\, special presentations and various exhibits covering these future-focused areas.
URL:https://industrievandaag.nl/event/parts2clean/
LOCATION:Messe Stuttgart\, Messepiazza 1\, Stuttgart\, 70629\, Duitsland
CATEGORIES:Vakbeurs
ORGANIZER;CN="Landesmesse Stuttgart GmbH":MAILTO:info@messe-stuttgart.de
GEO:48.6939205;9.1934891
X-APPLE-STRUCTURED-LOCATION;VALUE=URI;X-ADDRESS=Messe Stuttgart Messepiazza 1 Stuttgart 70629 Duitsland;X-APPLE-RADIUS=500;X-TITLE=Messepiazza 1:geo:9.1934891,48.6939205
END:VEVENT
BEGIN:VEVENT
DTSTART;TZID=Europe/Amsterdam:20251007T090000
DTEND;TZID=Europe/Amsterdam:20251008T170000
DTSTAMP:20260419T150604
CREATED:20250404T083714Z
LAST-MODIFIED:20250827T121743Z
UID:10001421-1759827600-1759942800@industrievandaag.nl
SUMMARY:hy-fcell
DESCRIPTION:hy-fcell is where the hydrogen and fuel cell community meets to discuss technological advances\, transfer knowledge and tap into international markets. The annual English-language conference and exhibition with hy-fcell award ceremony in the center of Europe is unique in its more than 20-year history. hy-fcell offers an ideal industry platform for experts and newcomers alike\, in a modern exhibition and congress center in one of the strongest economic regions.
URL:https://industrievandaag.nl/event/hy-fcell/
LOCATION:Messe Stuttgart\, Messepiazza 1\, Stuttgart\, 70629\, Duitsland
CATEGORIES:Vakbeurs
ORGANIZER;CN="Landesmesse Stuttgart GmbH":MAILTO:info@messe-stuttgart.de
GEO:48.6939205;9.1934891
X-APPLE-STRUCTURED-LOCATION;VALUE=URI;X-ADDRESS=Messe Stuttgart Messepiazza 1 Stuttgart 70629 Duitsland;X-APPLE-RADIUS=500;X-TITLE=Messepiazza 1:geo:9.1934891,48.6939205
END:VEVENT
BEGIN:VEVENT
DTSTART;TZID=Europe/Amsterdam:20250506T090000
DTEND;TZID=Europe/Amsterdam:20250509T170000
DTSTAMP:20260419T150604
CREATED:20250403T142059Z
LAST-MODIFIED:20250502T044712Z
UID:10001359-1746522000-1746810000@industrievandaag.nl
SUMMARY:Control
DESCRIPTION:The Control international trade fair for quality assurance\, which will be held at the Stuttgart Exhibition\, provides suppliers and users with a globally recognised technical event which is focused strictly on relevant issues. The trade fair explores all pertinent aspects in theory and offers a highly practical presentation of current worldwide offerings for useful technologies\, processes\, products and system solutions in the field of industrial quality assurance. And thus the nearly 900 manufacturers and exhibitors of QA equipment represented at Control make it possible for manufacturing companies and their suppliers to hone their competitive edge. The supplementary programme with world-class participants and the comprehensive exhibition and information portfolio will once again transform Stuttgart into the business Mecca of the QA industry.
URL:https://industrievandaag.nl/event/control/
LOCATION:Messe Stuttgart\, Messepiazza 1\, Stuttgart\, 70629\, Duitsland
CATEGORIES:Vakbeurs
ORGANIZER;CN="Landesmesse Stuttgart GmbH":MAILTO:info@messe-stuttgart.de
GEO:48.6939205;9.1934891
X-APPLE-STRUCTURED-LOCATION;VALUE=URI;X-ADDRESS=Messe Stuttgart Messepiazza 1 Stuttgart 70629 Duitsland;X-APPLE-RADIUS=500;X-TITLE=Messepiazza 1:geo:9.1934891,48.6939205
END:VEVENT
BEGIN:VEVENT
DTSTART;TZID=Europe/Amsterdam:20250506T090000
DTEND;TZID=Europe/Amsterdam:20250509T170000
DTSTAMP:20260419T150604
CREATED:20250403T142059Z
LAST-MODIFIED:20250502T044712Z
UID:10001360-1746522000-1746810000@industrievandaag.nl
SUMMARY:Moulding Expo
DESCRIPTION:Moulding Expo\, International Trade Fair for Tool\, Pattern and Mould Making\, takes place every two years in Stuttgart and is divided into several exhibition areas. The focus is on tool\, pattern and mould making\, which is very user-oriented with its injection moulding\, die casting and forming tools\, as well as gauge construction and jig and fixtures manufacturing. In addition\, the trade fair presents systems and service providers of plastics technology and metalworking: from manufacturers of machine tools and machining tools\, suppliers of hot runner systems\, measuring and testing equipment and materials\, through to software providers.
URL:https://industrievandaag.nl/event/moulding-expo/
LOCATION:Messe Stuttgart\, Messepiazza 1\, Stuttgart\, 70629\, Duitsland
CATEGORIES:Vakbeurs
ORGANIZER;CN="Landesmesse Stuttgart GmbH":MAILTO:info@messe-stuttgart.de
GEO:48.6939205;9.1934891
X-APPLE-STRUCTURED-LOCATION;VALUE=URI;X-ADDRESS=Messe Stuttgart Messepiazza 1 Stuttgart 70629 Duitsland;X-APPLE-RADIUS=500;X-TITLE=Messepiazza 1:geo:9.1934891,48.6939205
END:VEVENT
END:VCALENDAR