BEGIN:VCALENDAR
VERSION:2.0
PRODID:-//Industrievandaag - ECPv6.15.18//NONSGML v1.0//EN
CALSCALE:GREGORIAN
METHOD:PUBLISH
X-WR-CALNAME:Industrievandaag
X-ORIGINAL-URL:https://industrievandaag.nl
X-WR-CALDESC:Evenementen voor Industrievandaag
REFRESH-INTERVAL;VALUE=DURATION:PT1H
X-Robots-Tag:noindex
X-PUBLISHED-TTL:PT1H
BEGIN:VTIMEZONE
TZID:Europe/Amsterdam
BEGIN:DAYLIGHT
TZOFFSETFROM:+0100
TZOFFSETTO:+0200
TZNAME:CEST
DTSTART:20250330T010000
END:DAYLIGHT
BEGIN:STANDARD
TZOFFSETFROM:+0200
TZOFFSETTO:+0100
TZNAME:CET
DTSTART:20251026T010000
END:STANDARD
BEGIN:DAYLIGHT
TZOFFSETFROM:+0100
TZOFFSETTO:+0200
TZNAME:CEST
DTSTART:20260329T010000
END:DAYLIGHT
BEGIN:STANDARD
TZOFFSETFROM:+0200
TZOFFSETTO:+0100
TZNAME:CET
DTSTART:20261025T010000
END:STANDARD
BEGIN:DAYLIGHT
TZOFFSETFROM:+0100
TZOFFSETTO:+0200
TZNAME:CEST
DTSTART:20270328T010000
END:DAYLIGHT
BEGIN:STANDARD
TZOFFSETFROM:+0200
TZOFFSETTO:+0100
TZNAME:CET
DTSTART:20271031T010000
END:STANDARD
END:VTIMEZONE
BEGIN:VEVENT
DTSTART;TZID=Europe/Amsterdam:20260310T090000
DTEND;TZID=Europe/Amsterdam:20260310T160000
DTSTAMP:20260419T144650
CREATED:20260127T134955Z
LAST-MODIFIED:20260127T134955Z
UID:10001643-1773133200-1773158400@industrievandaag.nl
SUMMARY:KROHNE Academy - Ridderkerk
DESCRIPTION:KROHNE Academy organiseert op 5 en 10 maart 2026 in samenwerking met SAMSON REGELTECHNIEK\, SCHNEIDER ELECTRIC en PHOENIX CONTACT enkele seminars\, met als thema “Uitdagingen in de procesindustrie”. \nDe procesindustrie staat voor grote uitdagingen. Ontwikkelingen zoals de energietransitie\, verduurzaming\, digitalisering en strengere wet- en regelgeving\, hebben invloed op de productieprocessen\, installaties en de manier waarop we werken. Tegelijkertijd blijft een solide technische basis onmisbaar. De uitdaging is het verbinden van deze ontwikkelingen met de praktijk van vandaag. Hoe zorgt u dat uw installatie klaar is voor de energietransitie? Wat betekent digitalisering echt voor het dagelijkse werk? \nWe starten de Academy met een plenaire sessie: “AI in de procesindustrie” door Marno Lips\, In een inspirerende sessie laat Marno zien hoe mens en technologie samen sterker staan. AI neemt uw expertise niet over\, maar helpt u om slimmer en veiliger te werken. Benieuwd hoe u AI praktisch kunt inzetten op de werkvloer? Ontdek hoe het uw dagelijkse processen kan ondersteunen! \nTijdens de Academy komen professionals uit de industrie samen om kennis te delen en ervaringen uit te wisselen. Geen langdradige theorie\, maar praktische inzichten waar u morgen al iets aan heeft. We gaan in op actuele thema’s\, zoals hoe kan energie worden ingezet als een bestuurbare variabele binnen het controlesysteem\, waardoor het verbruik tot op assetniveau inzichtelijk wordt. Daarnaast nemen we Ethernet APL onder de loep: een nieuwe stap in de procesautomatisering. Welke voordelen biedt dit voor uw installatie? \nOok bespreken we hoe u zich kunt voorbereiden op nieuwe wetgeving\, zoals NIS2 en CRA. Verder kijken we naar de impact van digitalisatie op regelventielen en onderhoud\, zodat ongeplande stilstand kan worden voorkomen. Daarnaast krijgt u praktische tips voor het kiezen van de juiste meetoplossing\, van Coriolis-massaflowmeters tot niveaumeting en stoommeting. \nDe Academy richt zich op (plant)managers en engineers\, die zich bezighouden met instrumentatie\, automatisering en productieprocessen in de procesindustrie. De lezingen zijn verdeeld over 3 zalen: Industriële techniek uitgelegd\, Duurzaamheid/New energy en Digitalisering/Cyber security. \nTijdens de pauzes tonen de deelnemende bedrijven in de plenaire zaal hun producten en diensten en expertise. Een goed moment om langs te lopen en vragen te stellen of\, om ervaringen en meningen uit te wisselen. \nWe sluiten de dag af met een paneldiscussie. U krijgt daarbij de kans om vragen te stellen en van gedachte te wisselen over het thema van de Academy. \nEen inspirerende dag waarin leren\, ontmoeten en vooruitdenken centraal staan.\nDeelname aan het seminar is kosteloos.* \nMeer informatie
URL:https://industrievandaag.nl/event/krohne-academy-ridderkerk/
LOCATION:Van der Valk Hotel Ridderkerk\, Krommeweg 1\, Ridderkerk\, 2988 CB
CATEGORIES:Congres
ORGANIZER;CN="KROHNE Nederland":MAILTO:academy.nl@krohne.com
END:VEVENT
BEGIN:VEVENT
DTSTART;TZID=Europe/Amsterdam:20260305T090000
DTEND;TZID=Europe/Amsterdam:20260305T160000
DTSTAMP:20260419T144650
CREATED:20260127T134622Z
LAST-MODIFIED:20260127T134935Z
UID:10001642-1772701200-1772726400@industrievandaag.nl
SUMMARY:KROHNE Academy - Assen
DESCRIPTION:KROHNE Academy organiseert op 5 en 10 maart 2026 in samenwerking met SAMSON REGELTECHNIEK\, SCHNEIDER ELECTRIC en PHOENIX CONTACT enkele seminars\, met als thema “Uitdagingen in de procesindustrie”. \nDe procesindustrie staat voor grote uitdagingen. Ontwikkelingen zoals de energietransitie\, verduurzaming\, digitalisering en strengere wet- en regelgeving\, hebben invloed op de productieprocessen\, installaties en de manier waarop we werken. Tegelijkertijd blijft een solide technische basis onmisbaar. De uitdaging is het verbinden van deze ontwikkelingen met de praktijk van vandaag. Hoe zorgt u dat uw installatie klaar is voor de energietransitie? Wat betekent digitalisering echt voor het dagelijkse werk? \nWe starten de Academy met een plenaire sessie: “AI in de procesindustrie” door Marno Lips\, In een inspirerende sessie laat Marno zien hoe mens en technologie samen sterker staan. AI neemt uw expertise niet over\, maar helpt u om slimmer en veiliger te werken. Benieuwd hoe u AI praktisch kunt inzetten op de werkvloer? Ontdek hoe het uw dagelijkse processen kan ondersteunen! \nTijdens de Academy komen professionals uit de industrie samen om kennis te delen en ervaringen uit te wisselen. Geen langdradige theorie\, maar praktische inzichten waar u morgen al iets aan heeft. We gaan in op actuele thema’s\, zoals hoe kan energie worden ingezet als een bestuurbare variabele binnen het controlesysteem\, waardoor het verbruik tot op assetniveau inzichtelijk wordt. Daarnaast nemen we Ethernet APL onder de loep: een nieuwe stap in de procesautomatisering. Welke voordelen biedt dit voor uw installatie? \nOok bespreken we hoe u zich kunt voorbereiden op nieuwe wetgeving\, zoals NIS2 en CRA. Verder kijken we naar de impact van digitalisatie op regelventielen en onderhoud\, zodat ongeplande stilstand kan worden voorkomen. Daarnaast krijgt u praktische tips voor het kiezen van de juiste meetoplossing\, van Coriolis-massaflowmeters tot niveaumeting en stoommeting. \nDe Academy richt zich op (plant)managers en engineers\, die zich bezighouden met instrumentatie\, automatisering en productieprocessen in de procesindustrie. De lezingen zijn verdeeld over 3 zalen: Industriële techniek uitgelegd\, Duurzaamheid/New energy en Digitalisering/Cyber security. \nTijdens de pauzes tonen de deelnemende bedrijven in de plenaire zaal hun producten en diensten en expertise. Een goed moment om langs te lopen en vragen te stellen of\, om ervaringen en meningen uit te wisselen. \nWe sluiten de dag af met een paneldiscussie. U krijgt daarbij de kans om vragen te stellen en van gedachte te wisselen over het thema van de Academy. \nEen inspirerende dag waarin leren\, ontmoeten en vooruitdenken centraal staan.\nDeelname aan het seminar is kosteloos.* \nMeer informatie
URL:https://industrievandaag.nl/event/krohne-academy/
LOCATION:Van der Valk Hotel Assen\, Balkenweg 1\, Assen\, 9405 CC
CATEGORIES:Congres
ORGANIZER;CN="KROHNE Nederland":MAILTO:academy.nl@krohne.com
END:VEVENT
END:VCALENDAR