BEGIN:VCALENDAR
VERSION:2.0
PRODID:-//Industrievandaag - ECPv6.15.18//NONSGML v1.0//EN
CALSCALE:GREGORIAN
METHOD:PUBLISH
X-ORIGINAL-URL:https://industrievandaag.nl
X-WR-CALDESC:Evenementen voor Industrievandaag
REFRESH-INTERVAL;VALUE=DURATION:PT1H
X-Robots-Tag:noindex
X-PUBLISHED-TTL:PT1H
BEGIN:VTIMEZONE
TZID:Europe/Amsterdam
BEGIN:DAYLIGHT
TZOFFSETFROM:+0100
TZOFFSETTO:+0200
TZNAME:CEST
DTSTART:20230326T010000
END:DAYLIGHT
BEGIN:STANDARD
TZOFFSETFROM:+0200
TZOFFSETTO:+0100
TZNAME:CET
DTSTART:20231029T010000
END:STANDARD
BEGIN:DAYLIGHT
TZOFFSETFROM:+0100
TZOFFSETTO:+0200
TZNAME:CEST
DTSTART:20240331T010000
END:DAYLIGHT
BEGIN:STANDARD
TZOFFSETFROM:+0200
TZOFFSETTO:+0100
TZNAME:CET
DTSTART:20241027T010000
END:STANDARD
BEGIN:DAYLIGHT
TZOFFSETFROM:+0100
TZOFFSETTO:+0200
TZNAME:CEST
DTSTART:20250330T010000
END:DAYLIGHT
BEGIN:STANDARD
TZOFFSETFROM:+0200
TZOFFSETTO:+0100
TZNAME:CET
DTSTART:20251026T010000
END:STANDARD
BEGIN:DAYLIGHT
TZOFFSETFROM:+0100
TZOFFSETTO:+0200
TZNAME:CEST
DTSTART:20260329T010000
END:DAYLIGHT
BEGIN:STANDARD
TZOFFSETFROM:+0200
TZOFFSETTO:+0100
TZNAME:CET
DTSTART:20261025T010000
END:STANDARD
BEGIN:DAYLIGHT
TZOFFSETFROM:+0100
TZOFFSETTO:+0200
TZNAME:CEST
DTSTART:20270328T010000
END:DAYLIGHT
BEGIN:STANDARD
TZOFFSETFROM:+0200
TZOFFSETTO:+0100
TZNAME:CET
DTSTART:20271031T010000
END:STANDARD
END:VTIMEZONE
BEGIN:VEVENT
DTSTART;TZID=Europe/Amsterdam:20260219T073000
DTEND;TZID=Europe/Amsterdam:20260219T093000
DTSTAMP:20260419T145051
CREATED:20251206T072504Z
LAST-MODIFIED:20251206T072504Z
UID:10001559-1771486200-1771493400@industrievandaag.nl
SUMMARY:iAsk Pitchontbijt hosted by Eurosafe
DESCRIPTION:Schrijf je in voor het iAsk Pitchontbijt hosted by Eurosafe in Zevenbergen op donderdag 19 februari om 07:30 uur. Laat je inspireren door de keynote\, innovatiepitches en ontmoet je het iTanks netwerk. \nSchrijf je via onderstaande button in en wij verwelkomen je graag bij het iAsk Pitchontbijt hosted by Eurosafe Solutions. \nProgramma\n07:30 uur Inloop\n08:00 uur Introductie\nKeynote\nInnovatiepitches uit het iTanks netwerk\n08:45 uur Vervolg netwerken\n09:30 uur Verwacht einde evenement
URL:https://industrievandaag.nl/event/iask-pitchontbijt-hosted-by-eurosafe/
LOCATION:Eurosafe\, Blokweg 17\, Zandbergen\, 4761 RA\, Netherlands
CATEGORIES:Workshop
ORGANIZER;CN="iTanks":MAILTO:contact@itanks.eu
END:VEVENT
BEGIN:VEVENT
DTSTART;TZID=Europe/Amsterdam:20260122T073000
DTEND;TZID=Europe/Amsterdam:20260122T093000
DTSTAMP:20260419T145051
CREATED:20251206T072320Z
LAST-MODIFIED:20251206T072320Z
UID:10001558-1769067000-1769074200@industrievandaag.nl
SUMMARY:iAsk Pitchontbijt hosted by Hogeschool Rotterdam
DESCRIPTION:Schrijf je in voor het iAsk Pitchontbijt hosted by Hogeschool Rotterdam in het Directiegbebouwop donderdag 22 januari om 07:30 uur. Laat je inspireren door de keynote\, innovatiepitches en ontmoet je het iTanks netwerk. \nSchrijf je via onderstaande button in en wij verwelkomen je graag bij het iAsk Pitchontbijt hosted by Hogeschool Rotterdam. \nProgramma\n07:30 uur Inloop\n08:00 uur Introductie\nKeynote door Hogeschool Rotterdam\nInnovatiepitches\n08:45 uur Vervolg netwerken\n09:30 uur Verwacht einde evenement
URL:https://industrievandaag.nl/event/iask-pitchontbijt-hosted-by-hogeschool-rotterdam/
LOCATION:Hogeschool Rotterdam\, G.J. de Jonghweg 4\, Rotterdam\, Rotterdam\, 3015 GG\, Netherlands
CATEGORIES:Workshop
ORGANIZER;CN="iTanks":MAILTO:contact@itanks.eu
GEO:51.91007;4.4625194
X-APPLE-STRUCTURED-LOCATION;VALUE=URI;X-ADDRESS=Hogeschool Rotterdam G.J. de Jonghweg 4 Rotterdam Rotterdam 3015 GG Netherlands;X-APPLE-RADIUS=500;X-TITLE=G.J. de Jonghweg 4:geo:4.4625194,51.91007
END:VEVENT
BEGIN:VEVENT
DTSTART;TZID=Europe/Amsterdam:20241219T073000
DTEND;TZID=Europe/Amsterdam:20241219T100000
DTSTAMP:20260419T145051
CREATED:20240928T124349Z
LAST-MODIFIED:20241217T110440Z
UID:10001174-1734593400-1734602400@industrievandaag.nl
SUMMARY:iTanks Kerstontbijt 2024
DESCRIPTION:Op donderdag 19 december 2024 organiseert iTanks om 07.30 uur het jaarlijkse Kerstontbijt bij Rotterdam Mainport Institute/STC in Rotterdam. \nBij het iTanks Kerstontbijt vier je innovatie en tref je het netwerk! \nLaat je inspireren door de keynote en innovatieve flitspitches uit het iTanks netwerk en geniet van het Kerstontbijt. \nSchrijf je via onderstaande link in en wij verwelkomen je graag tijdens het iTanks Kerstontbijt! \nDeel dit evenement met je netwerk! Kopieer deze link en mail je relaties om ook naar dit evenement te komen: https://itanks-community-2022.iseated.com/session/926609
URL:https://industrievandaag.nl/event/itanks-kerstontbijt-2024/
LOCATION:RMI/STC\, Lloydstraat 300\, Rotterdam\, 3024 EA\, Netherlands
CATEGORIES:Seminar
ORGANIZER;CN="iTanks":MAILTO:contact@itanks.eu
GEO:51.9018252;4.4612768
X-APPLE-STRUCTURED-LOCATION;VALUE=URI;X-ADDRESS=RMI/STC Lloydstraat 300 Rotterdam 3024 EA Netherlands;X-APPLE-RADIUS=500;X-TITLE=Lloydstraat 300:geo:4.4612768,51.9018252
END:VEVENT
BEGIN:VEVENT
DTSTART;TZID=Europe/Amsterdam:20241114T073000
DTEND;TZID=Europe/Amsterdam:20241114T093000
DTSTAMP:20260419T145051
CREATED:20240928T124258Z
LAST-MODIFIED:20241114T103314Z
UID:10001163-1731569400-1731576600@industrievandaag.nl
SUMMARY:iAsk Pitchontbijt hosted by Chane
DESCRIPTION:Schrijf je in voor het iAsk Pitchontbijt hosted by Chane op donderdag 14 november om 07:30 uur in de Chane Terminal Botlek. \nOntmoet het iTanks netwerk\, laat je inspireren door de keynote en flitspitches van partijen uit innovatieve partijen uit het netwerk. \nProgramma\n07:30 uur Inloop\n08:00 uur Introductie door iTanks\nKeynote\nInnovatiepitches\n08:30 uur Vervolg netwerken\n09:30 uur Verwacht einde evenement \nSchrijf je gratis in via onderstaande button. \nDeel dit evenement met je netwerk! Kopieer deze link en mail je relaties om ook naar dit evenement te komen: https://itanks-community-2022.iseated.com/session/926613
URL:https://industrievandaag.nl/event/iask-pitchontbijt-hosted-by-chane/
LOCATION:Chane Terminal Botlek\, Oude Maasweg 6\, Botlek Rotterdam\, Rotterdam\, 3197 KJ\, Netherlands
CATEGORIES:Seminar
ORGANIZER;CN="iTanks":MAILTO:contact@itanks.eu
GEO:51.8798602;4.315892
X-APPLE-STRUCTURED-LOCATION;VALUE=URI;X-ADDRESS=Chane Terminal Botlek Oude Maasweg 6 Botlek Rotterdam Rotterdam 3197 KJ Netherlands;X-APPLE-RADIUS=500;X-TITLE=Oude Maasweg 6:geo:4.315892,51.8798602
END:VEVENT
BEGIN:VEVENT
DTSTART;TZID=Europe/Amsterdam:20241017T073000
DTEND;TZID=Europe/Amsterdam:20241017T093000
DTSTAMP:20260419T145051
CREATED:20240928T124217Z
LAST-MODIFIED:20241017T051706Z
UID:10001149-1729150200-1729157400@industrievandaag.nl
SUMMARY:iAsk Pitchontbijt hosted by RWE
DESCRIPTION:Schrijf je in voor het iAsk Pitchontbijt hosted by RWE op donderdag 17 oktober om 07:30 uur in RWE Generation Amercentrale in Geertruidenberg. \nOntmoet het iTanks netwerk\, laat je inspireren door de keynote en flitspitches van partijen uit innovatieve partijen uit het netwerk. \nProgramma\n07:30 uur Inloop\n08:00 uur Introductie door iTanks\nKeynote\nInnovatiepitches\n08:30 uur Vervolg netwerken\n09:30 uur Verwacht einde evenement \nSchrijf je gratis in via onderstaande button. \nDeel dit evenement met je netwerk! Kopieer deze link en mail je relaties om ook naar dit evenement te komen: https://itanks-community-2022.iseated.com/session/926612
URL:https://industrievandaag.nl/event/iask-pitchontbijt-hosted-by-rwe/
LOCATION:RWE Generation Amercentrale\, Amerweg 1\, Geertruidenberg\, Geertruidenberg\, 4931 NC\, Netherlands
CATEGORIES:Seminar
ORGANIZER;CN="iTanks":MAILTO:contact@itanks.eu
GEO:51.7112303;4.8413405
X-APPLE-STRUCTURED-LOCATION;VALUE=URI;X-ADDRESS=RWE Generation Amercentrale Amerweg 1 Geertruidenberg Geertruidenberg 4931 NC Netherlands;X-APPLE-RADIUS=500;X-TITLE=Amerweg 1:geo:4.8413405,51.7112303
END:VEVENT
END:VCALENDAR