BEGIN:VCALENDAR
VERSION:2.0
PRODID:-//Industrievandaag - ECPv6.15.18//NONSGML v1.0//EN
CALSCALE:GREGORIAN
METHOD:PUBLISH
X-WR-CALNAME:Industrievandaag
X-ORIGINAL-URL:https://industrievandaag.nl
X-WR-CALDESC:Evenementen voor Industrievandaag
REFRESH-INTERVAL;VALUE=DURATION:PT1H
X-Robots-Tag:noindex
X-PUBLISHED-TTL:PT1H
BEGIN:VTIMEZONE
TZID:Europe/Amsterdam
BEGIN:DAYLIGHT
TZOFFSETFROM:+0100
TZOFFSETTO:+0200
TZNAME:CEST
DTSTART:20250330T010000
END:DAYLIGHT
BEGIN:STANDARD
TZOFFSETFROM:+0200
TZOFFSETTO:+0100
TZNAME:CET
DTSTART:20251026T010000
END:STANDARD
BEGIN:DAYLIGHT
TZOFFSETFROM:+0100
TZOFFSETTO:+0200
TZNAME:CEST
DTSTART:20260329T010000
END:DAYLIGHT
BEGIN:STANDARD
TZOFFSETFROM:+0200
TZOFFSETTO:+0100
TZNAME:CET
DTSTART:20261025T010000
END:STANDARD
BEGIN:DAYLIGHT
TZOFFSETFROM:+0100
TZOFFSETTO:+0200
TZNAME:CEST
DTSTART:20270328T010000
END:DAYLIGHT
BEGIN:STANDARD
TZOFFSETFROM:+0200
TZOFFSETTO:+0100
TZNAME:CET
DTSTART:20271031T010000
END:STANDARD
END:VTIMEZONE
BEGIN:VEVENT
DTSTART;TZID=Europe/Amsterdam:20260305T090000
DTEND;TZID=Europe/Amsterdam:20260305T170000
DTSTAMP:20260419T144653
CREATED:20251205T133441Z
LAST-MODIFIED:20251205T133441Z
UID:10001539-1772701200-1772730000@industrievandaag.nl
SUMMARY:Interreg COBOTASSIST Inspiratie & Praktijkdag
DESCRIPTION:Op 5 maart 2026 openen we de deuren voor de Interreg COBOTASSIST Inspiratie- & Praktijkdag. Een interactieve dag waarop je zélf ervaart wat cobots kunnen betekenen voor de nabewerking in de maakindustrie. De dag staat in het teken van kennisdeling\, live demonstraties en ontmoetingen met technologiepartners. \nTijdens deze inspiratie- en praktijkdag: \n\nLeer je het Interreg Cobotassist project kennen\nOntdek je hoe cobots de nabewerking slimmer maken\nErvaar je de technologie van dichtbij tijdens live demo’s\nBespreek je jouw automatiseringsuitdaging met experts\nMaak je kennis met technologiepartners van mogelijke oplossingen op de minibeurs\nGa je zelf aan de slag met een cobot tijdens een hands-on workshop (aparte registratie verplicht)\n\nEen dag voor iedereen die zich wil laten inspireren door slimme toepassingen van robotica in de maakindustrie.
URL:https://industrievandaag.nl/event/interreg-cobotassist-inspiratie-praktijkdag/
CATEGORIES:Seminar
ORGANIZER;CN="High Tech NL":MAILTO:office@hightechnl.nl
END:VEVENT
END:VCALENDAR