BEGIN:VCALENDAR
VERSION:2.0
PRODID:-//Industrievandaag - ECPv6.15.18//NONSGML v1.0//EN
CALSCALE:GREGORIAN
METHOD:PUBLISH
X-WR-CALNAME:Industrievandaag
X-ORIGINAL-URL:https://industrievandaag.nl
X-WR-CALDESC:Evenementen voor Industrievandaag
REFRESH-INTERVAL;VALUE=DURATION:PT1H
X-Robots-Tag:noindex
X-PUBLISHED-TTL:PT1H
BEGIN:VTIMEZONE
TZID:Europe/Amsterdam
BEGIN:DAYLIGHT
TZOFFSETFROM:+0100
TZOFFSETTO:+0200
TZNAME:CEST
DTSTART:20230326T010000
END:DAYLIGHT
BEGIN:STANDARD
TZOFFSETFROM:+0200
TZOFFSETTO:+0100
TZNAME:CET
DTSTART:20231029T010000
END:STANDARD
BEGIN:DAYLIGHT
TZOFFSETFROM:+0100
TZOFFSETTO:+0200
TZNAME:CEST
DTSTART:20240331T010000
END:DAYLIGHT
BEGIN:STANDARD
TZOFFSETFROM:+0200
TZOFFSETTO:+0100
TZNAME:CET
DTSTART:20241027T010000
END:STANDARD
BEGIN:DAYLIGHT
TZOFFSETFROM:+0100
TZOFFSETTO:+0200
TZNAME:CEST
DTSTART:20250330T010000
END:DAYLIGHT
BEGIN:STANDARD
TZOFFSETFROM:+0200
TZOFFSETTO:+0100
TZNAME:CET
DTSTART:20251026T010000
END:STANDARD
BEGIN:DAYLIGHT
TZOFFSETFROM:+0100
TZOFFSETTO:+0200
TZNAME:CEST
DTSTART:20260329T010000
END:DAYLIGHT
BEGIN:STANDARD
TZOFFSETFROM:+0200
TZOFFSETTO:+0100
TZNAME:CET
DTSTART:20261025T010000
END:STANDARD
BEGIN:DAYLIGHT
TZOFFSETFROM:+0100
TZOFFSETTO:+0200
TZNAME:CEST
DTSTART:20270328T010000
END:DAYLIGHT
BEGIN:STANDARD
TZOFFSETFROM:+0200
TZOFFSETTO:+0100
TZNAME:CET
DTSTART:20271031T010000
END:STANDARD
END:VTIMEZONE
BEGIN:VEVENT
DTSTART;TZID=Europe/Amsterdam:20260325T100000
DTEND;TZID=Europe/Amsterdam:20260326T180000
DTSTAMP:20260419T150517
CREATED:20231222T155217Z
LAST-MODIFIED:20251206T080233Z
UID:10001015-1774432800-1774548000@industrievandaag.nl
SUMMARY:Maintenance Antwerpen
DESCRIPTION:Maintenance Antwerpen – The leading trade event for industrial maintenance\nMaintenance Antwerpen is the place to be voor elke professionele speler in industrieel onderhoud\, shutdown technologie\, asset management en productiebetrouwbaarheid. \nSchaaf uw kennis bij aan de hand van masterclasses over onderhoudsstrategie\, voorbereiden shut-downs\, onderhoud 4.0\, veiligheid en cases van vakmensen. \nBezoekersprofiel Maintenance Antwerpen\n\nChemical industry\nMaintenance\nEngineering services\nProcess industry\nMetal processing\nTrade & distribution\nEducation\nWater & wastewater treatment\nFood & drink\n\nDeze Maintenance vakbeurs staat synoniem voor een unieke beleving op vlak van industrieel onderhoud\, met de focus op optimalisatie van onderhoud\, processen en productie. De beste tools en knowhow hiervoor krijgt u uit eerste hand. Overgoten met een sausje van innovatie\, automatisering en virtual reality. Bezoek\, leer bij en neem een voorsprong! \nOp één beursvloer\, op twee beursdagen\, ontmoet u professionals uit sectoren als (petro)chemie\, waterbehandeling\, procesindustrie\, energie en metaal. Zien maar ook gezien worden: u zet het gehele aanbod van uw bedrijf interactief in de schijnwerpers en blijft zo top-of-mind. \n\nUniek interactief event voor productiegericht onderhoud in Europa’s industriële zwaartepunt.\nOntmoeting met meer dan 140 andere exposanten en nieuwe én bestaande relaties.\n200% future proof\, nieuwste technieken op vlak van digital – virtual – automatic.\n\nProducten en oplossingen\n\nChemical industry\nMaintenance\nEngineering services\nProcess industry\nMetal processing\nPetrochemicals\nTrade & distribution\nEducation\nWater & wastewater treatment\nFood & drink\n\nProfessionals binnen onderhoud & asset management zijn de primaire bezoekers van deze vakbeurs. Denk daarbij o.a. aan de volgende functieprofielen: \n\nOnderhoudsmanagers\nTechnische dienstverleners\nKwaliteitsmanagers\nPlant managers\nFacility management\nOnderhoudstechnici\nVeiligheidsingenieurs
URL:https://industrievandaag.nl/event/maintenance-antwerpen/
LOCATION:Antwerp expo\, Jan van Rijswijcklaan 191\, Antwerpen\, 2020\, Belgium
CATEGORIES:Vakbeurs
ORGANIZER;CN="Easyfairs Antwerp Expo":MAILTO:antwerp@easyfairs.com
GEO:51.1914025;4.3995071
X-APPLE-STRUCTURED-LOCATION;VALUE=URI;X-ADDRESS=Antwerp expo Jan van Rijswijcklaan 191 Antwerpen 2020 Belgium;X-APPLE-RADIUS=500;X-TITLE=Jan van Rijswijcklaan 191:geo:4.3995071,51.1914025
END:VEVENT
BEGIN:VEVENT
DTSTART;TZID=Europe/Amsterdam:20260325T100000
DTEND;TZID=Europe/Amsterdam:20260326T170000
DTSTAMP:20260419T150517
CREATED:20231222T155218Z
LAST-MODIFIED:20251206T080454Z
UID:10001016-1774432800-1774544400@industrievandaag.nl
SUMMARY:Pumps & Valves Antwerpen
DESCRIPTION:Pumps & Valves – vakbeurs voor industriële vloeistof- en gastechnologie\nPumps & Valves is twee dagen lang hét netwerk- en kennisplatform voor alle professionals uit de procesindustrie. Tijdens de beurs presenteren bedrijven de nieuwste innovaties en ontwikkelingen aan de aanwezig brancheprofessionals die zich bezig houden met de verwerking en het transport van vloeistoffen en gassen. De exposanten tonen u o.a. pompen\, afsluiters\, leidingsystemen\, instrumentatie\, filters & mixers en appendages. \nNaast het aanbod van innovaties en ontwikkelingen biedt Pumps & Valves u ook een gratis kennisprogramma met de laatste trends & ontwikkelingen op het gebied van duurzaamheid\, veiligheid & machine. \nAls nationaal leidende vakbeurs voor liquid processing\, wordt deze vakbeurs bezocht door eindgebruikers en distributeurs uit diverse industrieën. U ontmoet managing directors\, technisch managers\, procestechnologen\, onderhoudsmanagers\, R&D managers en operationeel personeel uit de volgende sectoren: \n\n(Petro)chemie\nOlie & gas\nWater & afvalwater\nMetaal\nVoedingsmiddelen\n\nPumps & Valves vindt gelijktijdig plaats met Solids\, deze vakbeurs richt zich op de verwerking en het transport van bulkgoederen. Deze twee beurzen vormen samen het grootste processing platform binnen de Benelux. \nInnovation tour\nInnovatie is key op Pumps & Valves. Baanbrekende technologieën en ontwikkelingen zetten de toon voor de toekomst en zijn er vooral op gericht om u te ondersteunen bij uw uitdagingen. Geen ééndagsvliegen\, maar waardevolle innovaties. Die mag u verwachten tijdens de Innovation Tour\, uw ticket naar morgen. \nOp één beursvloer\, op twee beursdagen ontmoet u professionals uit sectoren als (petro)chemie\, waterbehandeling\, procesindustrie\, energie en metaal. Zien maar ook gezien worden: u zet het gehele aanbod van uw bedrijf interactief in de schijnwerpers en blijft zo top-of-mind. \n\nOntmoeting met meer dan 150 andere exposanten en nieuwe én bestaande relaties.\nUniek event voor industriële vloeistof- en gastechnologieën in Europa’s industriële zwaartepunt.\n\nBezoek deze vakbeurs
URL:https://industrievandaag.nl/event/pumps-valves-antwerpen/
LOCATION:Antwerp expo\, Jan van Rijswijcklaan 191\, Antwerpen\, 2020\, Belgium
CATEGORIES:Vakbeurs
ORGANIZER;CN="Easyfairs Antwerp Expo":MAILTO:antwerp@easyfairs.com
GEO:51.1914025;4.3995071
X-APPLE-STRUCTURED-LOCATION;VALUE=URI;X-ADDRESS=Antwerp expo Jan van Rijswijcklaan 191 Antwerpen 2020 Belgium;X-APPLE-RADIUS=500;X-TITLE=Jan van Rijswijcklaan 191:geo:4.3995071,51.1914025
END:VEVENT
BEGIN:VEVENT
DTSTART;TZID=Europe/Amsterdam:20251104T093000
DTEND;TZID=Europe/Amsterdam:20251106T170000
DTSTAMP:20260419T150517
CREATED:20250404T083807Z
LAST-MODIFIED:20250827T121830Z
UID:10001448-1762248600-1762448400@industrievandaag.nl
SUMMARY:AntwerpXL
DESCRIPTION:Hosted at the heart of the European breakbulk market\, AntwerpXL provides a platform for the breakbulk\, roro\, heavy lift and project cargo industry that delivers valuable connections and unforgettable experiences for visitors and exhibitors alike. \nAntwerpXL provides all-year-round knowledge and resources\, feeding into a platform for the industry to come together\, networking with people from across the industry and finding the products and solutions needed for their businesses. 
URL:https://industrievandaag.nl/event/antwerpxl/
LOCATION:Antwerp expo\, Jan van Rijswijcklaan 191\, Antwerpen\, 2020\, Belgium
CATEGORIES:Vakbeurs
ORGANIZER;CN="Easyfairs Antwerp Expo":MAILTO:antwerp@easyfairs.com
GEO:51.1914025;4.3995071
X-APPLE-STRUCTURED-LOCATION;VALUE=URI;X-ADDRESS=Antwerp expo Jan van Rijswijcklaan 191 Antwerpen 2020 Belgium;X-APPLE-RADIUS=500;X-TITLE=Jan van Rijswijcklaan 191:geo:4.3995071,51.1914025
END:VEVENT
BEGIN:VEVENT
DTSTART;TZID=Europe/Amsterdam:20251022T100000
DTEND;TZID=Europe/Amsterdam:20251023T180000
DTSTAMP:20260419T150517
CREATED:20250404T083751Z
LAST-MODIFIED:20250827T121816Z
UID:10001439-1761127200-1761242400@industrievandaag.nl
SUMMARY:Empack Mechelen
DESCRIPTION:Empack Mechelen is de vakbeurs over de toekomst van verpakkingstechnologie\nEmpack Mechelen is als industriële verpakkingsbeurs uitgegroeid tot de grootste van de Benelux en vindt plaats in Mechelen. Hier wordt de totale verpakkingsketen van materiaal\, technologie\, machines en verpakkingen gepresenteerd onder één dak. \nDe verpakkingsindustrie staat volop in bloei\, daarom presenteren onze exposanten graag hun allerlaatste ontwikkelingen en innovaties. De industriële verpakkingsbeurs is compact\, compleet en uw tijd waard\, tijdens één bezoek ontdekt u uw eigen toekomst van verpakken! \nEmpack Mechelen is het jaarlijkse verpakkingsplatform waar zowel de leveranciers als haar afnemers aanwezig zijn\, dat maakt van Empack een belangrijke en unieke gelegenheid om direct in contact te treden met de totale verpakkingsindustrie\, in slechts drie dagen tijd. \nWaarom bezoeken?\nEmpack Mechelen is het jaarlijks terugkerende platform voor de verpakkingsprofessional. Het is naast een compleet aanbod van exposanten ook de plaats om te netwerken en kennis op te doen. De industriële verpakkingsbeurs betekent face-to-face contact met de belangrijkste A-spelers van verpakkend België. Wij geven de verpakkingscommunity een toekomstvisie. Dankzij de nieuwste technieken\, samenwerkingen en kennisdeling ziet men de toekomst met vertrouwen tegemoet. \nEmpack in een notendop\nOplossingen en nieuwe mogelijkheden voor verpakken\, verpakkingen en verzending. Op de Nederlandse industriële verpakkingsbeurs komen vraag en aanbod samen. Verpakkingsspecialisten\, inkopers\, productiemanagers\, logistiekmanagers en operationsmanagers gebruiken de vakbeurs om snel en efficient face-to-face zaken te doen\, producten live te zien en op de hoogte te blijven van de laatste ontwikkelingen binnen verpakken\, verpakkingen en verzenden. \nManagement en directie van de belangrijke industriële sectoren vinden in deze industriële vakbeurs een bron voor nieuwe leveranciers van verpakkingsmachines\, industriële verpakkingen\, robotica en automatisering en logistiek & transport verpakkingen. \n\nExposanten waarderen de vakbeurs met een 7\,4\n87% van de bezoekers waardeert Empack als goed tot zeer goe\n\nTop 5 redenen om deel te nemen aan Empack\n\nVind nieuwe klanten\nOntwikkel uw bestaande relaties\nBevestig en verstevig uw aanwezigheid op de Nederlandse markt\nDemonstreer uw innovaties\nPersoonlijk contact met de Nederlandse verpakkingssector\n\nKarakteristiek van Empack\n\nTechniek en proces van verpakken\nIntralogistiek\nVerpakkingsmaterialen\nCompleet en compact\nKwalitatief conferentieprogramma i.s.m. vooraanstaande kennispartijen\nGethematiseerde innovatieroutes\nHet netwerkmoment voor de Nederlandse verpakkingssector\n\nOm elke editie van Empack Mechelen de juiste bezoekers aan te trekken wordt er samengewerkt met vooraanstaande partners die een directe link met de Belgische verpakkingsindustrie hebben. Zij informeren over het inhoudelijke conferentieprogramma\, delen content van onze exposanten en zorgen er mede voor dat er nieuws gebracht wordt zodat onze exposanten de juiste potentiele leads verwelkomen op de beurs. \nMeer informatie
URL:https://industrievandaag.nl/event/empack-mechelen/
LOCATION:Flanders Expo\, Gent\, Belgi
CATEGORIES:Vakbeurs
ORGANIZER;CN="Easyfairs Antwerp Expo":MAILTO:antwerp@easyfairs.com
END:VEVENT
BEGIN:VEVENT
DTSTART;TZID=Europe/Amsterdam:20251014T100000
DTEND;TZID=Europe/Amsterdam:20251015T180000
DTSTAMP:20260419T150517
CREATED:20250404T083735Z
LAST-MODIFIED:20250827T121800Z
UID:10001434-1760436000-1760551200@industrievandaag.nl
SUMMARY:Logistics & Automation
DESCRIPTION:Logistics & Automation vakbeurs\nLogistics & Automation vakbeurs is het nieuwe ontmoetingsplatform voor de logistieke community featuring intralogistieke oplossingen en diensten. Het gaat flink vooruit in de wereld van logistiek & supply chain. De sector wordt in sneltempo slimmer en efficiënter. Als professional gelijke tred houden met de karrenvracht aan boeiende ontwikkelingen en innovaties… daarvoor is er Logistics & Automation. Nieuw\, maar gestoeld op tonnen ervaring. \nOp de hoogte blijven van alles wat er reilt en zeilt? In één event een doeltreffende dwarsdoorsnede van je doelpubliek bereiken? Logistics & Automation\, de hoogmis voor de internationale logistieke community in de Nekkerhal-Brussels North (Mechelen) brengt je helemaal up to speed! Logistics & Automation zal tegelijkertijd met Empack Mechelen plaatsvinden. \nAutomation for Logistics\n\nAutomated Guided Vehicles (AGV)\nAutomated picking & retrieval systems\nLogistics robots & cobots\nProgrammable logic Controller (PLC)\nMotion Control Technology\nSensors & Optics\nAutomation components\n\nLogistics Information Technology > Smart Systems & Tech Solutions\n\nTracking & Tracing\nData capturing\, datacenters\, EDI & cloud solutions\nVoice recognition\, labeling & coding\, RFID\, AI\, VR\nSupply Chain Management systems\nWarehouse management software\nInventory management software\nE Fulfilment solutions\n\nWarehousing design & Logistics real estate > Logistics platforms\n\nLogistics platforms & properties\nConstruction & Industrial real estate developers\nWarehousing parts\, accessoires and components\n\nWarehouse equipment > Intralogistics & material handling\n\nMaterial handling\nConveying & sorting systems\nStorage systems\nLoading systems\nPick & Place\nWorkplace systems\nWarehousing parts\, accessoires and components\n\nLogistics Service Providers & System Integrators\n\nThirth and Fourth party logistics (3PL & 4 PL)\nWarehousing & Storage services\nReturn Logistics\nTemperature controlled logistics\nCustoms Services\nValue Added Services\nConsultancy & Advisory\n\nBezoek deze vakbeurs
URL:https://industrievandaag.nl/event/logistics-automation/
LOCATION:Flanders Expo\, Gent\, Belgi
CATEGORIES:Vakbeurs
ORGANIZER;CN="Easyfairs Antwerp Expo":MAILTO:antwerp@easyfairs.com
END:VEVENT
BEGIN:VEVENT
DTSTART;TZID=Europe/Amsterdam:20250326T100000
DTEND;TZID=Europe/Amsterdam:20250328T170000
DTSTAMP:20260419T150517
CREATED:20241218T064221Z
LAST-MODIFIED:20250303T075046Z
UID:10001230-1742983200-1743181200@industrievandaag.nl
SUMMARY:Worksafe Antwerpen
DESCRIPTION:Worksafe Antwerpen – De vakbeurs voor veilig & gezond werken\nWorksafe Antwerpen is de vakbeurs voor professionals over gezondheid\, veiligheid en welzijn op het werk. Deze vakbeurs richt zich voornamelijk op veiligheidsdeskundigen en professionals uit de industrie die zich oriënteren op trends en technologieën die bijdragen aan het creëren van een veilige en gezonde werkomgeving. Denk hierbij aan explosiebeveiliging\, rampenpreventie en – bestrijding\, persoonlijke beschermingsmiddelen en training & consultancy. \nTijdens Worksafe Antwerpen presenteren fabrikanten\, toeleveranciers en dienstverleners de laatste trends en ontwikkelingen voor de optimalisatie van het veiligheidsbeleid en bewustwording rondom veilig en gezond werkgedrag binnen de industrie. Professionals uit de industrie vinden hier o.a. explosiebeveiliging\, rampenpreventie en – bestrijding\, persoonlijke beschermingsmiddelen en training & consultancy. Minstens zo belangrijk wordt het netwerken tussen veiligheidsprofessionals onderling en het opdoen van de laatste inzichten en kennis. \nWaarom bezoeken?\n\nCompleet: een bezoek aan dit evenement levert inzicht en oplossingen voor de optimalisatie van uw veiligheidsbeleid. Er is focus op zowel proces- en machineveiligheid als de zachte kant van veiligheid.\nOptimalisatie: geen “ver-van-je-bed-show oplossingen” maar toepasbare technologie en werkwijzen om uw plant en de werkzaamheden direct veiliger en efficiënter te maken.\nKennis: tijdens de twee dagen van Worksafe Antwerpen staat tevens een conferentieprogramma centraal met gerichte kennissessies over de ontwikkelingen in machineveiligheid\, procesveiligheid\, site safety en veiligheidscultuur.\n\nSegmenten\nOp Worksafe Antwerpen vindt u onder andere fabrikanten\, importeurs\, toeleveranciers en dienstverleners met innovatieve producten of diensten voor de Health & Safety sector. Denk hierbij aan de volgende segmenten: \n\nIndustriële veiligheid & technologische risico’s\nWerfveiligheid\nSignalisatie & (rampen)preventie\nBrandpreventie & -bestrijding\nPersoonlijke beschermingsmiddelen\nOpleiding & consultancy\n\nWorksafe Antwerpen maakt deel uit van een Europese serie specialistische vakbeurzen voor de health & safety sector en heeft succesvolle edities in onder andere Gorinchem\, Dortmund en Namen. \nDe individuele beurzen staan bekend als waardevolle platforms voor veiligheid binnen de belangrijkste industrieën. Eindbeslissers van multinationals en lokale bedrijven benutten de Worksafe beurzen om nieuwe zakelijke contacten leggen\, deals te sluiten en een update te krijgen van de laatste ontwikkelingen.
URL:https://industrievandaag.nl/event/worksafe-antwerpen/
LOCATION:Antwerp expo\, Jan van Rijswijcklaan 191\, Antwerpen\, 2020\, Belgium
CATEGORIES:Vakbeurs
ORGANIZER;CN="Easyfairs Antwerp Expo":MAILTO:antwerp@easyfairs.com
GEO:51.1914025;4.3995071
X-APPLE-STRUCTURED-LOCATION;VALUE=URI;X-ADDRESS=Antwerp expo Jan van Rijswijcklaan 191 Antwerpen 2020 Belgium;X-APPLE-RADIUS=500;X-TITLE=Jan van Rijswijcklaan 191:geo:4.3995071,51.1914025
END:VEVENT
BEGIN:VEVENT
DTSTART;TZID=Europe/Amsterdam:20250326T100000
DTEND;TZID=Europe/Amsterdam:20250327T170000
DTSTAMP:20260419T150517
CREATED:20241218T064221Z
LAST-MODIFIED:20250303T075046Z
UID:10001229-1742983200-1743094800@industrievandaag.nl
SUMMARY:M+R Antwerp
DESCRIPTION:M+R is de vakbeurs voor procesinstrumentatie en automatisering\nVakbeurs M+R is een bewezen concept in België en sluit qua thema`s en technieken naadloos aan bij de doelgroepen en 250 exposanten van Solids en Pumps & Valves. Bezoekers vinden hier de laatste trends en ontwikkelingen op het gebied van meet- en regeltechniek en automatisering en krijgen antwoord op de vraag hoe zij hun plant slimmer kunnen maken voor diverse facetten op het gebied van procesoptimalisatie. \n\nComplete vakbeurs\nHet aanbod van meet-\, regel- en analyse instrumentatie en automatisering sluiten naadloos aan op dat van Solids als Pumps & Valves. De drie events versterken elkaar en maken het een compleet event voor elke technische processing professional. \n\nActualiteiten\nOm uw productieproces te digitaliseren en autonomer te werken zijn slimme sensoren onmisbaar. Op M+R komen deze en onderwerpen als big data en cloud analyses ruimschoots aan bod.
URL:https://industrievandaag.nl/event/mr-antwerp/
LOCATION:Antwerp expo\, Jan van Rijswijcklaan 191\, Antwerpen\, 2020\, Belgium
CATEGORIES:Vakbeurs
ORGANIZER;CN="Easyfairs Antwerp Expo":MAILTO:antwerp@easyfairs.com
GEO:51.1914025;4.3995071
X-APPLE-STRUCTURED-LOCATION;VALUE=URI;X-ADDRESS=Antwerp expo Jan van Rijswijcklaan 191 Antwerpen 2020 Belgium;X-APPLE-RADIUS=500;X-TITLE=Jan van Rijswijcklaan 191:geo:4.3995071,51.1914025
END:VEVENT
BEGIN:VEVENT
DTSTART;TZID=Europe/Amsterdam:20241120T100000
DTEND;TZID=Europe/Amsterdam:20241121T170000
DTSTAMP:20260419T150517
CREATED:20240928T124317Z
LAST-MODIFIED:20241120T103311Z
UID:10001165-1732096800-1732208400@industrievandaag.nl
SUMMARY:Solids
DESCRIPTION:Solids vakbeurs – hét netwerk- en kennisplatform voor alle spelers uit de procesindustrie\nSolids is twee dagen lang hét netwerk- en kennisplatform voor alle professionals uit de procesindustrie. Tijdens de beurs presenteren bedrijven de nieuwste innovaties en ontwikkelingen aan de aanwezig brancheprofessionals die zich bezig houden met de verwerking en het transport van bulkgoederen. De exposanten tonen u o.a. afscheiders\, filters\, doseer- en meetapparatuur\, droogapparatuur\, bulkverpakkingen en machinebouw. \nNaast het aanbod van innovaties en ontwikkelingen biedt deze vakbeurs u ook een gratis kennisprogramma met de laatste trends & ontwikkelingen op het gebied van duurzaamheid\, veiligheid & machine. \nTijdens de beurs presenteren toeleveranciers\, dienstverleners en fabrikanten de nieuwste ontwikkelingen en innovaties voor de verwerking en het transport van bulkgoederen. Ontmoet CEO’s\, general engineers\, technische managers\, process engineers\, operation managers\, production managers\, maintenance managers en inkopers uit de industrie. \nNetwerkmoment voor de poeder- en bulkindustrie in de Benelux\nAls Europa’s grootste knooppunt voor bulkgoederen\, is deze vakbeurs de belangrijkste ontmoetingsplek voor solids professionals. Solids speelt in op innovaties en belangrijke onderwerpen in de poeder en bulk technologie binnen de procesindustrie. \nDe Benelux edities vinden jaarlijks plaats om de complete Solids industrie te kunnen bedienen. Op deze manier presenteert u zichzelf in de even jaren op Solids Antwerpen en in de oneven jaren op Solids Rotterdam. \n\nAfscheiders\, zeven & filters\nOpslag & overslag\nDoseer-\, weeg- & meetapparatuur\nMengen & homogeniseren\nDrogers & droogapparatuur\nMachinebouw\, installatiebouw & equipering\nMalen & verkleinen\nKwaliteitscontrole\, monsterafname & onderzoek\nIntern en extern transport\n\nAls nationaal leidende vakbeurs voor bulk solids technologies\, wordt Solids bezocht door eindgebruikers en distributeurs uit diverse industrieën. \nExposanten ontmoeten CEO’s\, general engineers\, technische managers\, process engineers\, operation managers\, production managers\, maintenance managers en inkopers uit volgende industrieën: \n\nChemie\nFood & Feed\nMetaal\, kunstof & rubber\nRecycling & Afvalverwerking\nBouwmaterialen\nMachinebouw\n\nSolids Rotterdam vindt gelijktijdig plaats met Pumps & Valves\, deze vakbeurs richt zich op de verwerking en bewerking van vloeistoffen en gassen. Deze twee beurzen vormen samen het grootste processing platform binnen de Benelux. \nBezoek deze vakbeurs
URL:https://industrievandaag.nl/event/solids/
LOCATION:Antwerp expo\, Jan van Rijswijcklaan 191\, Antwerpen\, 2020\, Belgium
CATEGORIES:Vakbeurs
ORGANIZER;CN="Easyfairs Antwerp Expo":MAILTO:antwerp@easyfairs.com
GEO:51.1914025;4.3995071
X-APPLE-STRUCTURED-LOCATION;VALUE=URI;X-ADDRESS=Antwerp expo Jan van Rijswijcklaan 191 Antwerpen 2020 Belgium;X-APPLE-RADIUS=500;X-TITLE=Jan van Rijswijcklaan 191:geo:4.3995071,51.1914025
END:VEVENT
END:VCALENDAR