BEGIN:VCALENDAR
VERSION:2.0
PRODID:-//Industrievandaag - ECPv6.15.18//NONSGML v1.0//EN
CALSCALE:GREGORIAN
METHOD:PUBLISH
X-WR-CALNAME:Industrievandaag
X-ORIGINAL-URL:https://industrievandaag.nl
X-WR-CALDESC:Evenementen voor Industrievandaag
REFRESH-INTERVAL;VALUE=DURATION:PT1H
X-Robots-Tag:noindex
X-PUBLISHED-TTL:PT1H
BEGIN:VTIMEZONE
TZID:Europe/Amsterdam
BEGIN:DAYLIGHT
TZOFFSETFROM:+0100
TZOFFSETTO:+0200
TZNAME:CEST
DTSTART:20250330T010000
END:DAYLIGHT
BEGIN:STANDARD
TZOFFSETFROM:+0200
TZOFFSETTO:+0100
TZNAME:CET
DTSTART:20251026T010000
END:STANDARD
BEGIN:DAYLIGHT
TZOFFSETFROM:+0100
TZOFFSETTO:+0200
TZNAME:CEST
DTSTART:20260329T010000
END:DAYLIGHT
BEGIN:STANDARD
TZOFFSETFROM:+0200
TZOFFSETTO:+0100
TZNAME:CET
DTSTART:20261025T010000
END:STANDARD
BEGIN:DAYLIGHT
TZOFFSETFROM:+0100
TZOFFSETTO:+0200
TZNAME:CEST
DTSTART:20270328T010000
END:DAYLIGHT
BEGIN:STANDARD
TZOFFSETFROM:+0200
TZOFFSETTO:+0100
TZNAME:CET
DTSTART:20271031T010000
END:STANDARD
END:VTIMEZONE
BEGIN:VEVENT
DTSTART;TZID=Europe/Amsterdam:20260203T090000
DTEND;TZID=Europe/Amsterdam:20260206T170000
DTSTAMP:20260421T125443
CREATED:20250404T084101Z
LAST-MODIFIED:20250827T122037Z
UID:10001465-1770109200-1770397200@industrievandaag.nl
SUMMARY:NORTEC
DESCRIPTION:NORTEC is the trade fair for production covers all stages of the metalworking value chain\nNORTEC (before METAV)\, the leading exhibition for metalworking technologies in Germany’s biggest conurbation\, will be taking place at its traditional location in Düsseldorf. What began here in 1980 has evolved over the last 40 years to become an indispensable part of the technological trends that have affected virtually all aspects of production technology – within a radius of 300 kilometres of the exhibition’s location. So 40 years of NORTEC have given rise to this sector’s marketplace in the direct vicinity of metalworking manufacturers and users. \nAdditive Manufacturing Area\nTake advantage of the differentiated package solutions for your trade fair presence at the joint stand in the ADDITIVE MANUFACTURING AREA\, all of which will have you well placed amidst the presentation of additive manufacturing processes for small-batch metal or plastics production. \nMedical Area\nTake advantage of the differentiated package solutions for your trade fair presence at the joint stand in the MEDICAL AREA\, all of which will have you well placed amidst the whole Spektrum of production in medical technology – new materials\, surface technology\, production systems\, medical engineering etc. \nMoulding Area\nTake advantage of the differentiated package solutions for your trade fair presence at the joint stand in the MOULDING AREA\, all of which will have you well placed with a holistic overview of the process chains in tool\, model\, and mould construction: modern product developments and new manufacturing technologies. \nQuality Area\nTake advantage of the differentiated package solutions for your trade fair presence at the joint stand in the QUALITY AREA\, all of which will have you well placed across the whole range of measuring and testing technology\, as well as QM and evaluation systems – for all phases of manufacturing and in all dimensions. \nMain Product Categories\nMachining centres\, flexible manufacturing\, milling machines\, Turning machines and automatic lathes\, Drilling and boring machines\,Sawing machines\, saw blades\, parting-off grinders\, Gear cutting machines\, EDM machines\, metal-removing machine tools\, Grinding machines\, abrasives\, Tool grinding machines\, honing\, lapping\, polishing\, and deburring machines\, surface finishing machines\, hardening and heating machines\, heat treatment\, sheet metal working machines and centres\, shears\, punches\, nibbeling machines\, laser- and water jet cutting machines\, forming machine tools\, material handling and material flow\, assembly\, handling\, industrial robots\, storage and transport automation\, precision tools\, chucks and clamps\, tool and mould making\, generative manufacture\, Rapid Prototyping (RPD)\,- measurements and testing\, quality assurance\, industrial electronics\, controllers and drives\, information technology and automation\, hardware und software\, internet applications\, e-business\, machine elements\, mechanical\, hydraulic and pneumatic components\, lubrication and cooling\, disposal\, service providers\, associations\, publishers\, engineering offices\, etc.
URL:https://industrievandaag.nl/event/nortec/
LOCATION:Dusseldorf Exhibition Centre\, Stockumer Kirchstrasse 61\, Dusseldorf\, 40474\, Duitsland
CATEGORIES:Vakbeurs
GEO:51.258858;6.742522
X-APPLE-STRUCTURED-LOCATION;VALUE=URI;X-ADDRESS=Dusseldorf Exhibition Centre Stockumer Kirchstrasse 61 Dusseldorf 40474 Duitsland;X-APPLE-RADIUS=500;X-TITLE=Stockumer Kirchstrasse 61:geo:6.742522,51.258858
END:VEVENT
END:VCALENDAR