BEGIN:VCALENDAR
VERSION:2.0
PRODID:-//Industrievandaag - ECPv6.15.18//NONSGML v1.0//EN
CALSCALE:GREGORIAN
METHOD:PUBLISH
X-ORIGINAL-URL:https://industrievandaag.nl
X-WR-CALDESC:Evenementen voor Industrievandaag
REFRESH-INTERVAL;VALUE=DURATION:PT1H
X-Robots-Tag:noindex
X-PUBLISHED-TTL:PT1H
BEGIN:VTIMEZONE
TZID:Europe/Amsterdam
BEGIN:DAYLIGHT
TZOFFSETFROM:+0100
TZOFFSETTO:+0200
TZNAME:CEST
DTSTART:20240331T010000
END:DAYLIGHT
BEGIN:STANDARD
TZOFFSETFROM:+0200
TZOFFSETTO:+0100
TZNAME:CET
DTSTART:20241027T010000
END:STANDARD
BEGIN:DAYLIGHT
TZOFFSETFROM:+0100
TZOFFSETTO:+0200
TZNAME:CEST
DTSTART:20250330T010000
END:DAYLIGHT
BEGIN:STANDARD
TZOFFSETFROM:+0200
TZOFFSETTO:+0100
TZNAME:CET
DTSTART:20251026T010000
END:STANDARD
BEGIN:DAYLIGHT
TZOFFSETFROM:+0100
TZOFFSETTO:+0200
TZNAME:CEST
DTSTART:20260329T010000
END:DAYLIGHT
BEGIN:STANDARD
TZOFFSETFROM:+0200
TZOFFSETTO:+0100
TZNAME:CET
DTSTART:20261025T010000
END:STANDARD
END:VTIMEZONE
BEGIN:VEVENT
DTSTART;TZID=Europe/Amsterdam:20251125T090000
DTEND;TZID=Europe/Amsterdam:20251127T180000
DTSTAMP:20260422T124927
CREATED:20250404T083824Z
LAST-MODIFIED:20250827T122022Z
UID:10001457-1764061200-1764266400@industrievandaag.nl
SUMMARY:SPS – Smart Production Solutions
DESCRIPTION:With its unique concept\, SPS covers the entire spectrum of smart and digital automation – from simple sensors to intelligent solutions\, from what is feasible today to the vision of a fully digitalized industrial world. \nThe focus is on practical solutions for your specific business area. Find answers to your current needs on-site\, as well as possible solutions for the challenges of tomorrow. With the participation of highly qualified exhibitors and visitors\, an exchange on equal terms is facilitated guaranteeing a worthwhile and successful visit.
URL:https://industrievandaag.nl/event/sps-smart-production-solutions/
LOCATION:NürnbergMesse\, Messeplatz 1\, Nürnberg\, 90471\, Duitsland
CATEGORIES:Vakbeurs
GEO:49.4160241;11.1234079
X-APPLE-STRUCTURED-LOCATION;VALUE=URI;X-ADDRESS=NürnbergMesse Messeplatz 1 Nürnberg 90471 Duitsland;X-APPLE-RADIUS=500;X-TITLE=Messeplatz 1:geo:11.1234079,49.4160241
END:VEVENT
END:VCALENDAR