BEGIN:VCALENDAR
VERSION:2.0
PRODID:-//Industrievandaag - ECPv6.15.18//NONSGML v1.0//EN
CALSCALE:GREGORIAN
METHOD:PUBLISH
X-ORIGINAL-URL:https://industrievandaag.nl
X-WR-CALDESC:Evenementen voor Industrievandaag
REFRESH-INTERVAL;VALUE=DURATION:PT1H
X-Robots-Tag:noindex
X-PUBLISHED-TTL:PT1H
BEGIN:VTIMEZONE
TZID:Europe/Amsterdam
BEGIN:DAYLIGHT
TZOFFSETFROM:+0100
TZOFFSETTO:+0200
TZNAME:CEST
DTSTART:20240331T010000
END:DAYLIGHT
BEGIN:STANDARD
TZOFFSETFROM:+0200
TZOFFSETTO:+0100
TZNAME:CET
DTSTART:20241027T010000
END:STANDARD
BEGIN:DAYLIGHT
TZOFFSETFROM:+0100
TZOFFSETTO:+0200
TZNAME:CEST
DTSTART:20250330T010000
END:DAYLIGHT
BEGIN:STANDARD
TZOFFSETFROM:+0200
TZOFFSETTO:+0100
TZNAME:CET
DTSTART:20251026T010000
END:STANDARD
BEGIN:DAYLIGHT
TZOFFSETFROM:+0100
TZOFFSETTO:+0200
TZNAME:CEST
DTSTART:20260329T010000
END:DAYLIGHT
BEGIN:STANDARD
TZOFFSETFROM:+0200
TZOFFSETTO:+0100
TZNAME:CET
DTSTART:20261025T010000
END:STANDARD
END:VTIMEZONE
BEGIN:VEVENT
DTSTART;TZID=Europe/Amsterdam:20250122T173000
DTEND;TZID=Europe/Amsterdam:20250122T200000
DTSTAMP:20260419T164745
CREATED:20250113T110257Z
LAST-MODIFIED:20250113T110257Z
UID:10001261-1737567000-1737576000@industrievandaag.nl
SUMMARY:Innovation Dinner Modulair en Circulair Bouwen
DESCRIPTION:Ontdek de wereld van modulair en circulair bouwen met Thijs Asselbergs. \nWe gaan het hebben over de voordelen\, mogelijkheden en toepassingen van de laatste innovatieve en duurzame bouwmethoden voor geïndustrialiseerde woning- en scholenbouw. \nWaarom houden we ons bezig met het industrialiseren van de woning- en scholenbouw en hoe implementeren we innovaties? \nJe komt het te weten tijdens dit Innovation Dinner.
URL:https://industrievandaag.nl/event/innovation-dinner-modulair-en-circulair-bouwen-2/
LOCATION:Oudeweg 91-95\, Haarlem\, Oudeweg 91-95\, Haarlem\, 2031 CC\, Netherlands
ORGANIZER;CN="BouwLab R&amp%3BDo":MAILTO:lieke@bouwlab.com
GEO:52.385364;4.6568258
X-APPLE-STRUCTURED-LOCATION;VALUE=URI;X-ADDRESS=Oudeweg 91-95 Haarlem Oudeweg 91-95 Haarlem 2031 CC Netherlands;X-APPLE-RADIUS=500;X-TITLE=Oudeweg 91-95:geo:4.6568258,52.385364
END:VEVENT
END:VCALENDAR