BEGIN:VCALENDAR
VERSION:2.0
PRODID:-//Industrievandaag - ECPv6.15.18//NONSGML v1.0//EN
CALSCALE:GREGORIAN
METHOD:PUBLISH
X-WR-CALNAME:Industrievandaag
X-ORIGINAL-URL:https://industrievandaag.nl
X-WR-CALDESC:Evenementen voor Industrievandaag
REFRESH-INTERVAL;VALUE=DURATION:PT1H
X-Robots-Tag:noindex
X-PUBLISHED-TTL:PT1H
BEGIN:VTIMEZONE
TZID:Europe/Amsterdam
BEGIN:DAYLIGHT
TZOFFSETFROM:+0100
TZOFFSETTO:+0200
TZNAME:CEST
DTSTART:20230326T010000
END:DAYLIGHT
BEGIN:STANDARD
TZOFFSETFROM:+0200
TZOFFSETTO:+0100
TZNAME:CET
DTSTART:20231029T010000
END:STANDARD
BEGIN:DAYLIGHT
TZOFFSETFROM:+0100
TZOFFSETTO:+0200
TZNAME:CEST
DTSTART:20240331T010000
END:DAYLIGHT
BEGIN:STANDARD
TZOFFSETFROM:+0200
TZOFFSETTO:+0100
TZNAME:CET
DTSTART:20241027T010000
END:STANDARD
BEGIN:DAYLIGHT
TZOFFSETFROM:+0100
TZOFFSETTO:+0200
TZNAME:CEST
DTSTART:20250330T010000
END:DAYLIGHT
BEGIN:STANDARD
TZOFFSETFROM:+0200
TZOFFSETTO:+0100
TZNAME:CET
DTSTART:20251026T010000
END:STANDARD
END:VTIMEZONE
BEGIN:VEVENT
DTSTART;TZID=Europe/Amsterdam:20241211T173000
DTEND;TZID=Europe/Amsterdam:20241211T200000
DTSTAMP:20260419T183624
CREATED:20241126T104822Z
LAST-MODIFIED:20241211T104939Z
UID:10001200-1733938200-1733947200@industrievandaag.nl
SUMMARY:Innovation Dinner – The bullshit of innovation
DESCRIPTION:Op woensdag 11 december organiseren BouwLab R&Do en 3D Makers Zone vanuit het programma van de EDIH Digital Hub Noordwest het laatste Innovation Dinner van dit jaar.\n\nWe sluiten 2024 af met het thema: The bullshit of Innovation\n\nHet woord innovatie vliegt je om de oren: ‘We moeten innoveren\, anders overleven we niet!’ Maar hoe vaak is dit echt effectief? Hoe vaak struikelen organisaties niet over hun eigen cultuur\, budgetten of kortetermijndenken voordat er iets wordt bereikt?\nTijdens ons laatste Innovation Dinner dit jaar pakken we deze vraagstukken zonder pardon aan. \nEen mooi moment om samen 2024 af te sluiten en ideeën op te doen voor een nieuw innovatief jaar. \n\nMarc Nelen is oprichter van MNPD\, een organisatie-adviesbureau gericht op onder meer woningbouw en projectontwikkeling. Met zijn analytisch vermogen\, creativiteit en vleugje humor neemt Marc je mee in de valkuilen en kansen van innovatie. \nPetra Eussen is manager duurzaam wonen bij Rabobank en winnaar van een innovatie-award. Met meer dan 20 jaar ervaring in productontwikkeling deelt ze openhartig\, nuchter en inspirerend haar lessen uit hoogte- en dieptepunten. \nProgramma\n17:30 – 18:00 uur: Inloop + drankje\n18:00 – 20:00 uur: Innovation Dinner met presentaties\n\nSchuif je ook aan?\nTijdens dit Innovation Dinner is er alle ruimte om met elkaar in gesprek te gaan over Innovatie. Uiteraard onder het genot van een heerlijke maaltijd. Deelname aan het Innovation Dinner is kosteloos. Meld je aan via onderstaande knop. We hopen je 11 december te mogen ontvangen.\n\n 
URL:https://industrievandaag.nl/event/innovation-dinner-the-bullshit-of-innovation/
LOCATION:Oudeweg 91-95\, Haarlem\, Oudeweg 91-95\, Haarlem\, 2031 CC\, Netherlands
ORGANIZER;CN="BouwLab R&amp%3BDo":MAILTO:lieke@bouwlab.com
GEO:52.385364;4.6568258
X-APPLE-STRUCTURED-LOCATION;VALUE=URI;X-ADDRESS=Oudeweg 91-95 Haarlem Oudeweg 91-95 Haarlem 2031 CC Netherlands;X-APPLE-RADIUS=500;X-TITLE=Oudeweg 91-95:geo:4.6568258,52.385364
END:VEVENT
END:VCALENDAR