BEGIN:VCALENDAR
VERSION:2.0
PRODID:-//Industrievandaag - ECPv6.15.18//NONSGML v1.0//EN
CALSCALE:GREGORIAN
METHOD:PUBLISH
X-WR-CALNAME:Industrievandaag
X-ORIGINAL-URL:https://industrievandaag.nl
X-WR-CALDESC:Evenementen voor Industrievandaag
REFRESH-INTERVAL;VALUE=DURATION:PT1H
X-Robots-Tag:noindex
X-PUBLISHED-TTL:PT1H
BEGIN:VTIMEZONE
TZID:Europe/Amsterdam
BEGIN:DAYLIGHT
TZOFFSETFROM:+0100
TZOFFSETTO:+0200
TZNAME:CEST
DTSTART:20240331T010000
END:DAYLIGHT
BEGIN:STANDARD
TZOFFSETFROM:+0200
TZOFFSETTO:+0100
TZNAME:CET
DTSTART:20241027T010000
END:STANDARD
BEGIN:DAYLIGHT
TZOFFSETFROM:+0100
TZOFFSETTO:+0200
TZNAME:CEST
DTSTART:20250330T010000
END:DAYLIGHT
BEGIN:STANDARD
TZOFFSETFROM:+0200
TZOFFSETTO:+0100
TZNAME:CET
DTSTART:20251026T010000
END:STANDARD
BEGIN:DAYLIGHT
TZOFFSETFROM:+0100
TZOFFSETTO:+0200
TZNAME:CEST
DTSTART:20260329T010000
END:DAYLIGHT
BEGIN:STANDARD
TZOFFSETFROM:+0200
TZOFFSETTO:+0100
TZNAME:CET
DTSTART:20261025T010000
END:STANDARD
END:VTIMEZONE
BEGIN:VEVENT
DTSTART;TZID=Europe/Amsterdam:20250611T173000
DTEND;TZID=Europe/Amsterdam:20250611T200000
DTSTAMP:20260420T070057
CREATED:20250530T023206Z
LAST-MODIFIED:20250606T044713Z
UID:10001492-1749663000-1749672000@industrievandaag.nl
SUMMARY:Innovation Dinner Cybersecurity
DESCRIPTION:3D Makers Zone\, BouwLab R&Do en EDIH Noordwest organiseren een kosteloos Innovation Dinner over cybersecurity voor het mkb. Met de toenemende digitale dreiging is een aanval slechts een kwestie van tijd. Gastspreker Erno Doorenspleet\, Directeur Cyber Resilience bij Cyberbit (voorheen VP Security Strategy bij KPN)\, deelt inzichten over cyberdreigingen\, databeveiliging en herstelstrategieën na een aanval. \nProgramma 11 juni: \n\n\n17:30 – 18:00: Inloop met drankje \n\n\n18:00 – 20:00: Innovation Dinner & keynote \n\n\nAanvullende gratis workshops (in Haarlem): \n\n\n18 juni | 13:00 – 17:00: Hoe voorkom je een cyberaanval? \n\n\n25 juni | 13:00 – 17:00: Hoe start je weer op na een cyberaanval? \n\n\nAanmelden verplicht – beperkte plekken beschikbaar.
URL:https://industrievandaag.nl/event/innovation-dinner-cybersecurity/
LOCATION:Oudeweg 91-95\, Haarlem\, Oudeweg 91-95\, Haarlem\, 2031 CC\, Netherlands
ORGANIZER;CN="3DMZ (3D Makers Zone)":MAILTO:hello@3dmakerszone.com
GEO:52.385364;4.6568258
X-APPLE-STRUCTURED-LOCATION;VALUE=URI;X-ADDRESS=Oudeweg 91-95 Haarlem Oudeweg 91-95 Haarlem 2031 CC Netherlands;X-APPLE-RADIUS=500;X-TITLE=Oudeweg 91-95:geo:4.6568258,52.385364
END:VEVENT
END:VCALENDAR