BEGIN:VCALENDAR
VERSION:2.0
PRODID:-//Industrievandaag - ECPv6.15.18//NONSGML v1.0//EN
CALSCALE:GREGORIAN
METHOD:PUBLISH
X-WR-CALNAME:Industrievandaag
X-ORIGINAL-URL:https://industrievandaag.nl
X-WR-CALDESC:Evenementen voor Industrievandaag
REFRESH-INTERVAL;VALUE=DURATION:PT1H
X-Robots-Tag:noindex
X-PUBLISHED-TTL:PT1H
BEGIN:VTIMEZONE
TZID:Europe/Amsterdam
BEGIN:DAYLIGHT
TZOFFSETFROM:+0100
TZOFFSETTO:+0200
TZNAME:CEST
DTSTART:20250330T010000
END:DAYLIGHT
BEGIN:STANDARD
TZOFFSETFROM:+0200
TZOFFSETTO:+0100
TZNAME:CET
DTSTART:20251026T010000
END:STANDARD
BEGIN:DAYLIGHT
TZOFFSETFROM:+0100
TZOFFSETTO:+0200
TZNAME:CEST
DTSTART:20260329T010000
END:DAYLIGHT
BEGIN:STANDARD
TZOFFSETFROM:+0200
TZOFFSETTO:+0100
TZNAME:CET
DTSTART:20261025T010000
END:STANDARD
BEGIN:DAYLIGHT
TZOFFSETFROM:+0100
TZOFFSETTO:+0200
TZNAME:CEST
DTSTART:20270328T010000
END:DAYLIGHT
BEGIN:STANDARD
TZOFFSETFROM:+0200
TZOFFSETTO:+0100
TZNAME:CET
DTSTART:20271031T010000
END:STANDARD
END:VTIMEZONE
BEGIN:VEVENT
DTSTART;TZID=Europe/Amsterdam:20261103T090000
DTEND;TZID=Europe/Amsterdam:20261103T160000
DTSTAMP:20260420T005147
CREATED:20260331T125246Z
LAST-MODIFIED:20260331T125246Z
UID:10001670-1793696400-1793721600@industrievandaag.nl
SUMMARY:Pilz Masterclass Machineveiligheid 2026
DESCRIPTION:Na het volgen van de vier cursusdagen heeft u een gedegen kennisniveau bereikt om veiligheidsvraagstukken in de praktijk aan te pakken en hiervoor oplossingen te vinden. Aan het einde van dag 4 van de Masterclass Machineveiligheid wordt een examen afgenomen. Wanneer u deze toets met een voldoende afrondt\, ontvangt u\neen certificaat. \nInhoud\nDag 1 De procesflow van machineveiligheid\nDag 2 Risicobeoordelingen in theorie en praktijk\nDag 3 Ontwerpen van veiligheidsmaatregelen\nDag 4 Functionele veiligheid volgens ISO 13849 \nLeerdoelen\n\nWet- en regelgeving rondom machineveiligheid beschrijven\nEssentiële veiligheids- en gezondheidseisen benoemen\nHet proces van CE markeren verwoorden\nHet proces van risicobeoordeling implementeren\nAan de hand van relevante normen veiligheidsmaatregelen selecteren\nBegrippen zoals MTTFd\, B10d en PFHd toelichten\nClassificaties van veligheidsfuncties volgens  Performance Level (ISO 13849) toepassen\n\nDoelgroepen\n\nConstructeurs van machines en installaties\nProjectleiders\nBeheerders van machineparken\nVeiligheidskundigen\nHSE-managers\n\n  \nMeer informatie \n\n 
URL:https://industrievandaag.nl/event/pilz-masterclass-machineveiligheid-2026/2026-11-03/
LOCATION:pilz\, Nederland
CATEGORIES:Cursus
ORGANIZER;CN="Pilz Nederland":MAILTO:info@pilz.nl
END:VEVENT
BEGIN:VEVENT
DTSTART;TZID=Europe/Amsterdam:20261105T090000
DTEND;TZID=Europe/Amsterdam:20261105T170000
DTSTAMP:20260420T005147
CREATED:20250425T120332Z
LAST-MODIFIED:20251208T120104Z
UID:10001476-1793869200-1793898000@industrievandaag.nl
SUMMARY:IAM Diploma in Asset Management
DESCRIPTION:Word IAM gediplomeerd voor asset management naar internationale standaard met het diploma in asset management \n\n\n\n\nHet gestructureerd veranderingen doorvoeren in uw organisatie; proces en bedrijfsmiddelen staat in deze opleiding centraal. Als ervaren asset manager leert u lange termijn investerings- en onderhoudsplannen af te stemmen op de corporate strategie en bereid u zich voor op een leidende rol. Zo zet u verschillende belangen van uw stakeholders op de juiste plaats. Ervaar tijdens de management game wat de implementatie van u als manager vraagt. Om voor deze opleiding in aanmerking te komen moet u in het bezit zijn van het IAM Certificate in Asset Management. Met deze vervolgopleiding behaalt u het Diploma in Asset Management naar internationale standaard. \n\n\n\n\n\n\n\n\n\n\n\n\n\n\n\n\n\n\n\n\n\n\n\nWaarom deze opleiding?\n\n\n\n\n\n\n\n\n\nHet praktijkgericht programma brengt ervaring en kennis uit de praktijk samen in een Management Game Format\nVanwege de samenwerking tussen Outvie en IES Asset Management\, bieden onze ervaren IAM endorsed trainers u de beste voorbereiding om het examen te behalen\nGericht op professionals die al flink wat ervaring hebben opgedaan in asset management in de industrie\, bouw\, infrastructuur of food sector
URL:https://industrievandaag.nl/event/iam-diploma-in-asset-management-2/
LOCATION:Outvie\, Kingsfordweg 151\, Amsterdam\, 1043 GR\, Netherlands
CATEGORIES:Training
ORGANIZER;CN="Outvie":MAILTO:info@outvie.nl
GEO:52.3856056;4.8433463
X-APPLE-STRUCTURED-LOCATION;VALUE=URI;X-ADDRESS=Outvie Kingsfordweg 151 Amsterdam 1043 GR Netherlands;X-APPLE-RADIUS=500;X-TITLE=Kingsfordweg 151:geo:4.8433463,52.3856056
END:VEVENT
BEGIN:VEVENT
DTSTART;TZID=Europe/Amsterdam:20261110T090000
DTEND;TZID=Europe/Amsterdam:20261110T170000
DTSTAMP:20260420T005147
CREATED:20251208T115747Z
LAST-MODIFIED:20251208T115747Z
UID:10001569-1794301200-1794330000@industrievandaag.nl
SUMMARY:AI & Automation Day
DESCRIPTION:Tijdens AI & Automation Day ontdekt u hoe u AI en automatisering concreet inzet om processen slimmer\, efficiënter en toekomstbestendig te maken. Geen toekomstmuziek\, maar praktijkgerichte inzichten waarmee u vandaag nog stappen zet richting modernere werkwijzen. Op dit event brengen we beslissers\, strategen en veranderaars samen om te ontdekken hoe technologie de kern van de bedrijfsvoering versterkt. \nVan finance tot operations\, van HR tot klantenservice: elke organisatie zoekt naar manieren om processen te stroomlijnen en waarde toe te voegen. Deze dag verbindt visie\, praktijk en technologie. Met aandacht voor ethiek\, integratie\, leiderschap en vooral: hoe u uw bedrijfsprocessen structureel verbetert door de slimme inzet van AI en automatisering. \n 
URL:https://industrievandaag.nl/event/ai-automation-day/
CATEGORIES:Congres
END:VEVENT
BEGIN:VEVENT
DTSTART;TZID=Europe/Amsterdam:20261110T100000
DTEND;TZID=Europe/Amsterdam:20261112T210000
DTSTAMP:20260420T005147
CREATED:20251206T075958Z
LAST-MODIFIED:20251206T075958Z
UID:10001563-1794304800-1794517200@industrievandaag.nl
SUMMARY:Recycling vakbeurs
DESCRIPTION:De recyclingsector staat voor een grote uitdaging: de wereldwijde afvalstromen blijven groeien en efficiënte verwerking is noodzakelijk om de circulaire economie te realiseren. \nTegelijkertijd is het voor bedrijven lastig om bij te blijven met de nieuwste technologische ontwikkelingen. Hoe kunnen AI\, automatisering en onderhoud bijdragen aan duurzamere en efficiëntere recyclingprocessen? En waar vindt u de juiste kennis en samenwerkingen om deze innovaties te implementeren? \nRecycling – Het event voor duurzame recyclingtechniek biedt de oplossing. Dit is dé plek waar technologie en samenwerking samenkomen om de toekomst van recycling vorm te geven.
URL:https://industrievandaag.nl/event/recycling-vakbeurs/
LOCATION:Evenementenhal Gorinchem\, Franklinweg 2\, Gorinchem\, 4207 HZ\, Nederland
CATEGORIES:Vakbeurs
ORGANIZER;CN="Easyfairs Gorinchem":MAILTO:mailto:gorinchem@evenementenhal.nl
GEO:51.8399749;5.0092331
X-APPLE-STRUCTURED-LOCATION;VALUE=URI;X-ADDRESS=Evenementenhal Gorinchem Franklinweg 2 Gorinchem 4207 HZ Nederland;X-APPLE-RADIUS=500;X-TITLE=Franklinweg 2:geo:5.0092331,51.8399749
END:VEVENT
BEGIN:VEVENT
DTSTART;TZID=Europe/Amsterdam:20261118T100000
DTEND;TZID=Europe/Amsterdam:20261119T170000
DTSTAMP:20260420T005147
CREATED:20250404T083809Z
LAST-MODIFIED:20251208T122414Z
UID:10001451-1794996000-1795107600@industrievandaag.nl
SUMMARY:Precisiebeurs
DESCRIPTION:De vakbeurs voor de gehele precisietechnologie waardeketen\nPrecisietechnologie is razendsnel uitgegroeid tot dé stabiele basis van vele apparaten en componenten om ons heen. Niet voor niets vormt precisietechnologie een van de fundamenten voor de Nederlandse kennis- en innovatie-economie. De grens is echter nog lang niet bereikt. Ontmoeten\, samenwerken en kennisdelen zijn onmisbaar om mee te gaan in snelle technologische ontwikkelingen. Al 23 edities brengt de Precisiebeurs de gehele waardeketen bij elkaar om samen te werken aan de volgende generatie technologische innovaties. \n\nRuim  400 exposanten: internationale bedrijven\, organisaties\, onderwijs- en kennisinstellingen die zich bezighouden met productie\, onderzoek en ontwikkeling in het hoog nauwkeurige bereik.\n40 inspiratiesessies: hoor de laatste ontwikkelingen en ontvang praktische insights door vakexperts\, exposanten en jonge talenten uit de sector.\nNetwerkarena: in twee dagen komt hier de gehele ecosysteem van ultra precisie en de hightech maakindustrie samen. Je ontmoet laagdrempelig hightechbedrijven\, branche- en netwerkorganisaties\, onderwijs- en wetenschapsinstellingen\, studententeams en de Big Science projecten.
URL:https://industrievandaag.nl/event/precisiebeurs/
LOCATION:Brabanthallen Den Bosch\, Diezekade 2\, 's-Hertogenbosch\, Nederland\, 5222 AK\, Netherlands
CATEGORIES:Vakbeurs
GEO:51.7009927;5.290412
X-APPLE-STRUCTURED-LOCATION;VALUE=URI;X-ADDRESS=Brabanthallen Den Bosch Diezekade 2 's-Hertogenbosch Nederland 5222 AK Netherlands;X-APPLE-RADIUS=500;X-TITLE=Diezekade 2:geo:5.290412,51.7009927
END:VEVENT
BEGIN:VEVENT
DTSTART;TZID=Europe/Amsterdam:20261118T100000
DTEND;TZID=Europe/Amsterdam:20261119T170000
DTSTAMP:20260420T005147
CREATED:20250404T083810Z
LAST-MODIFIED:20251218T175714Z
UID:10001454-1794996000-1795107600@industrievandaag.nl
SUMMARY:Future Lighting
DESCRIPTION:Future Lighting keert in 2024 terug voor alweer de derde editie van hét toonaangevende event voor de verlichtingsindustrie in Nederland en Vlaanderen. Op woensdag 20 en donderdag 21 november komt de volledige lichtsector samen in Next Level\, Evenementenhal Gorinchem. \nFuture Lighting is een confex: \n\nNSVV\, IBE-BIV en Groen Licht Vlaanderen organiseren de wetenschappelijke conferentievan Future Lighting. Het thema van dit jaar is “Light beyond led”. Door het toepassen van led kan met veel minder elektrische energie een gelijkwaardig lichtniveau worden gerealiseerd dan met de conventionele lichtbronnen. Dat is alom bekend. Maar daar houdt het niet op. Licht is veel meer dan dat. Tijdens Future Lighting duik je dankzij verschillende interessante sprekers dieper in deze materie.\nMet de kennis uit de conferentie loop je zo de beursvloer op. Hier staat 75 exposanten te popelen om hun nieuwste lichtoplossingen te presenteren.\n\nDit jaar gaan ze helemaal Future met de nieuwste innovaties. Exposanten krijgen de mogelijkheid om voor het event hun meest vooruitstrevende producten of diensten in te dienen. Een vakjury van experts selecteert de 10 meest innovatieve oplossingen die een plek verdienen op het Innovatieplein. Bezoekers kunnen via hun smart badge stemmen op hun favoriete innovatie. Spannend! \nDe vakbeurs is vooral interessant voor: \n\nLichtontwerpers\nArchitecten\nAdviseurs\nFacilitair managers\nGebouwbeheerders\nInstallateurs
URL:https://industrievandaag.nl/event/future-lighting/
LOCATION:Evenementenhal Gorinchem\, Franklinweg 2\, Gorinchem\, 4207 HZ\, Nederland
CATEGORIES:Vakbeurs
ORGANIZER;CN="Easyfairs Gorinchem":MAILTO:mailto:gorinchem@evenementenhal.nl
GEO:51.8399749;5.0092331
X-APPLE-STRUCTURED-LOCATION;VALUE=URI;X-ADDRESS=Evenementenhal Gorinchem Franklinweg 2 Gorinchem 4207 HZ Nederland;X-APPLE-RADIUS=500;X-TITLE=Franklinweg 2:geo:5.0092331,51.8399749
END:VEVENT
BEGIN:VEVENT
DTSTART;TZID=Europe/Amsterdam:20261119T090000
DTEND;TZID=Europe/Amsterdam:20261119T170000
DTSTAMP:20260420T005147
CREATED:20240723T112942Z
LAST-MODIFIED:20251208T120236Z
UID:10001135-1795078800-1795107600@industrievandaag.nl
SUMMARY:Nationaal Seveso Congres
DESCRIPTION:Het enige kennis- en netwerkplatform dat Seveso-bedrijven en overheden verbindt met praktijkgerichte inzichten \nMomenteel verandert de speelruimte voor industriële veiligheid fundamenteel. Nieuwe wetgeving\, maatschappelijke druk en complexe risico’s vragen om scherpe keuzes. Tijdens het Nationaal Seveso Congres komt de sector samen: om kennis te delen\, ervaringen uit te wisselen en oplossingen te vinden die écht werken. U hoort hoe anderen omgaan met dezelfde uitdagingen en gaat naar huis met nieuwe ideeën\, concrete aanknopingspunten en waardevolle contacten. Zo leert u hoe u binnen uw organisatie het verschil maakt. \n\n\n\n\n\n\n\n\nU hoort tijdens dit congres onder meer \n\n\n\n\n\n\n\n\n\nHoe Seveso bedrijven omgaan met geopolitieke spanningen en investeringsdruk\nWat we leren van incidenten zoals de scheepsbrand in het Westelijk Havengebied en de impact daarvan op toezicht en beleid\nWaarom bedrijven als Shell\, Dow en Vopak pleiten voor meer transparantie in toezicht en voorspelbaarheid in inspecties\nWat de praktijk leert over participatie onder de Omgevingswet; van frustratie naar houvast (gemeenten\, havenbedrijven\, juridische experts)
URL:https://industrievandaag.nl/event/nationaal-seveso-congres/
LOCATION:Van der Valk Utrecht\, Winthontlaan 4\, Utrecht\, 3526 KV\, Netherlands
CATEGORIES:Congres
ORGANIZER;CN="Outvie":MAILTO:info@outvie.nl
GEO:52.0610791;5.1083622
X-APPLE-STRUCTURED-LOCATION;VALUE=URI;X-ADDRESS=Van der Valk Utrecht Winthontlaan 4 Utrecht 3526 KV Netherlands;X-APPLE-RADIUS=500;X-TITLE=Winthontlaan 4:geo:5.1083622,52.0610791
END:VEVENT
BEGIN:VEVENT
DTSTART;TZID=Europe/Amsterdam:20261126T090000
DTEND;TZID=Europe/Amsterdam:20261126T170000
DTSTAMP:20260420T005147
CREATED:20251208T115615Z
LAST-MODIFIED:20251208T115615Z
UID:10001568-1795683600-1795712400@industrievandaag.nl
SUMMARY:Cyber Security Experience
DESCRIPTION:Cyber Security Experience biedt meer dan alleen inzichten in AI: het legt de vinger op de zere plek in een vakgebied dat voortdurend onder druk staat. In één dag krijg je een scherp en realistisch beeld van wat er speelt op het snijvlak van technologie\, dreiging en beleid. Je ontmoet vakgenoten die met dezelfde strategische en operationele uitdagingen worstelen – van governance en risicomanagement tot cultuurverandering en talentontwikkeling. \nDit congres is geen herhaling van bekende verhalen\, maar een programma samengesteld mét en vóór ervaren securityprofessionals. Je gaat naar huis met inspiratie\, toepasbare inzichten en waardevolle nieuwe connecties.
URL:https://industrievandaag.nl/event/cyber-security-experience/
CATEGORIES:Congres
END:VEVENT
END:VCALENDAR