BEGIN:VCALENDAR
VERSION:2.0
PRODID:-//Industrievandaag - ECPv6.15.18//NONSGML v1.0//EN
CALSCALE:GREGORIAN
METHOD:PUBLISH
X-WR-CALNAME:Industrievandaag
X-ORIGINAL-URL:https://industrievandaag.nl
X-WR-CALDESC:Evenementen voor Industrievandaag
REFRESH-INTERVAL;VALUE=DURATION:PT1H
X-Robots-Tag:noindex
X-PUBLISHED-TTL:PT1H
BEGIN:VTIMEZONE
TZID:Europe/Amsterdam
BEGIN:DAYLIGHT
TZOFFSETFROM:+0100
TZOFFSETTO:+0200
TZNAME:CEST
DTSTART:20250330T010000
END:DAYLIGHT
BEGIN:STANDARD
TZOFFSETFROM:+0200
TZOFFSETTO:+0100
TZNAME:CET
DTSTART:20251026T010000
END:STANDARD
BEGIN:DAYLIGHT
TZOFFSETFROM:+0100
TZOFFSETTO:+0200
TZNAME:CEST
DTSTART:20260329T010000
END:DAYLIGHT
BEGIN:STANDARD
TZOFFSETFROM:+0200
TZOFFSETTO:+0100
TZNAME:CET
DTSTART:20261025T010000
END:STANDARD
BEGIN:DAYLIGHT
TZOFFSETFROM:+0100
TZOFFSETTO:+0200
TZNAME:CEST
DTSTART:20270328T010000
END:DAYLIGHT
BEGIN:STANDARD
TZOFFSETFROM:+0200
TZOFFSETTO:+0100
TZNAME:CET
DTSTART:20271031T010000
END:STANDARD
END:VTIMEZONE
BEGIN:VEVENT
DTSTART;TZID=Europe/Amsterdam:20261215T090000
DTEND;TZID=Europe/Amsterdam:20261215T160000
DTSTAMP:20260419T230205
CREATED:20250113T110403Z
LAST-MODIFIED:20260309T103404Z
UID:10001656-1797325200-1797350400@industrievandaag.nl
SUMMARY:Industrial Network Communication (EN)
DESCRIPTION:This practical training is for engineers and technicians that are responsible for the design and maintenance of industrial network communication systems. Exercises are an important part of this training. \nExplanation\nThe role of communications in industrial automation systems has changed in recent decades from a minor role to a key role. This change makes industrial automation dependent on these communications. And this means new requirements\, such as; availability\, scalability and maintenance. New demands can lead to new and different types of technologies. \nA consequence of the increasing role of communications is that some industrial automation systems use unsecured protocols. This increases the risk of a cyber-attack. This increases the need for cybersecurity\, which is why the cybersecurity requirement was created. \nEngineers and technicians responsible for industrial automation systems need a better understanding of network communications as a result. This helps them design and maintain industrial automation systems. \nContent\n\nIntroduction of industrial network technology\nEthernet technology\nTransmission media\, access methods\, MAC addressing\, Ethernet message format\, switching mechanisms\nNetwork infrastructure devices hub\, switch\, router and gateway\nInternet Protocol (IP)\, IP Adressierung\, IP Subnetting\, Routing\, TCP\, DNS\nNetwork protocols ARP\, ICMP\, BOOTP\, DHCP\, SNMP\, (R)STP\, VLAN\nNetwork diagnostics with Wireshark\nDangers in industrial networks\nSecurity Concepts: Protection of end devices and networks; User-dependent network access; Encrypted communication in unprotected networks\nNetwork Address Translation (NAT): IP-Masquerading; Port Forwarding; 1:1 NAT\nFirewall: packet filter based on Mac addresses\, IP addresses and port numbers; Stateful Package Inspection; Protection against denial-of-service attacks; Individual firewall rules for different users\nOperating modes; Stealth; Router\nRemote access via HTTPS\nRecovery procedure; support tools\nVirtual Private Network (VPN)\nSecured communication\nAuthentication via pre-shared key (PSK) and X.509v3 certificates\nPractical exercises
URL:https://industrievandaag.nl/event/industrial-network-communication-en/2026-12-15/
LOCATION:Phoenix Contact\, Technologie- en Trainingscentrum Zevenaar\, Hengelder 56\, Zevenaar\, 6902 PA\, Nederland
CATEGORIES:Workshop
ORGANIZER;CN="Phoenix Contact":MAILTO:info@phoenixcontact.nl
GEO:51.9273187;6.1042486
X-APPLE-STRUCTURED-LOCATION;VALUE=URI;X-ADDRESS=Phoenix Contact Technologie- en Trainingscentrum Zevenaar Hengelder 56 Zevenaar 6902 PA Nederland;X-APPLE-RADIUS=500;X-TITLE=Hengelder 56:geo:6.1042486,51.9273187
END:VEVENT
BEGIN:VEVENT
DTSTART;TZID=Europe/Amsterdam:20261215T090000
DTEND;TZID=Europe/Amsterdam:20261215T160000
DTSTAMP:20260419T230205
CREATED:20251211T100808Z
LAST-MODIFIED:20260408T053533Z
UID:10001671-1797325200-1797350400@industrievandaag.nl
SUMMARY:Industrial Network Communication: ontdek industriële netwerken (NL)
DESCRIPTION:Doelgroep\nDeze praktische training is bedoeld voor engineers en technici die verantwoordelijk zijn voor het ontwerp en onderhoud van industriële netwerkcommunicatiesystemen. Oefeningen vormen een belangrijk onderdeel van deze training. \n\n\n\n\n\n\nToelichting\nDe rol van communicatie in industriële automatiseringssystemen is de afgelopen decennia veranderd van een ondergeschikte rol in een sleutelrol. Deze verandering maakt de industriële automatisering afhankelijk van deze communicatie. En dit betekent nieuwe eisen zoals; beschikbaarheid\, schaalbaarheid en onderhoud. Nieuwe eisen kunnen leiden tot nieuwe en andere type technologieën. \nEen gevolg van de toenemende rol van communicatie is dat sommige industriële automatiseringssystemen onbeveiligde protocollen gebruiken. Hierdoor neemt het risico op een cyberaanval toe. Dit verhoogt de behoefte aan cybersecurity en daarom is de eis cybersecurity ontstaan. \nEngineers en technici\, verantwoordelijk voor industriële automatiseringssystemen\, hebben hierdoor meer inzicht nodig in de netwerkcommunicatie. Dit helpt ze bij het ontwerpen en onderhouden van industriële automatiseringssystemen. \n\n\n\n\n\n\nInhoud\nOnderstaande onderwerpen komen aan bod: \n\nIntroductie van industriële netwerktechnologie\nEthernet technologie\nTransmissiemedia\, toegangsmethoden\, MAC adressering\, Ethernet-berichtopbouw\, werking switches\nNetwerkinfrastructuur hub\, switch\, router en gateway\nInternet Protocol (IP)\, IP-adressen\, IP-subnetting\, routering\, TCP\, DNS\nNetwerkprotocollen ARP\, ICMP\, BOOTP\, DHCP\, SNMP\, (R)STP\, VLAN\nNetwerkdiagnostiek met Wireshark\nGevaren in industriële netwerken\nSecurity principles: Bescherming van eindapparaten en netwerken gebruikersafhankelijke netwerktoegang; gecodeerde communicatie in onbeveiligde netwerken\nNetwork Address Translation (NAT): IP-Masquerading; Port Forwarding; 1:1 NAT\nFirewall: packet filter gebaseerd op Mac adressen\, IP-adressen en poortnummers; Statefull Package Inspection; bescherming tegen denial-of-service-aanvallen; individuele firewallregels voor verschillende gebruikers\nOperating modes; Stealth; Router\nToegang op afstand via HTTPS\nHerstelprocedure; ondersteuningshulpmiddelen\nVirtual Private Network (VPN)\nBeveiligde communicatie\nAuthenticatie via pre-shared key (PSK) en X.509v3 certificaten\nPraktische oefeningen\n\nAgenda\n• Dag 1 t/m 3 09.00 – 16.00 u. Training\n• Dag 4 09.00 – 13.00 u. Examen \nHoud er rekening mee dat er tijdens deze week ’s avonds extra studietijd nodig kan zijn vanwege het examen dat op de laatste dag van de trainingsweek wordt afgenomen. \n  \nKlik hier voor meer informatie \n 
URL:https://industrievandaag.nl/event/workshop-industrial-network-communication-nederlands/2026-12-15/
LOCATION:Phoenix Contact\, Technologie- en Trainingscentrum Zevenaar\, Hengelder 56\, Zevenaar\, 6902 PA\, Nederland
CATEGORIES:Workshop
ORGANIZER;CN="Phoenix Contact":MAILTO:info@phoenixcontact.nl
GEO:51.9273187;6.1042486
X-APPLE-STRUCTURED-LOCATION;VALUE=URI;X-ADDRESS=Phoenix Contact Technologie- en Trainingscentrum Zevenaar Hengelder 56 Zevenaar 6902 PA Nederland;X-APPLE-RADIUS=500;X-TITLE=Hengelder 56:geo:6.1042486,51.9273187
END:VEVENT
END:VCALENDAR