BEGIN:VCALENDAR
VERSION:2.0
PRODID:-//Industrievandaag - ECPv6.15.18//NONSGML v1.0//EN
CALSCALE:GREGORIAN
METHOD:PUBLISH
X-WR-CALNAME:Industrievandaag
X-ORIGINAL-URL:https://industrievandaag.nl
X-WR-CALDESC:Evenementen voor Industrievandaag
REFRESH-INTERVAL;VALUE=DURATION:PT1H
X-Robots-Tag:noindex
X-PUBLISHED-TTL:PT1H
BEGIN:VTIMEZONE
TZID:Europe/Amsterdam
BEGIN:DAYLIGHT
TZOFFSETFROM:+0100
TZOFFSETTO:+0200
TZNAME:CEST
DTSTART:20250330T010000
END:DAYLIGHT
BEGIN:STANDARD
TZOFFSETFROM:+0200
TZOFFSETTO:+0100
TZNAME:CET
DTSTART:20251026T010000
END:STANDARD
BEGIN:DAYLIGHT
TZOFFSETFROM:+0100
TZOFFSETTO:+0200
TZNAME:CEST
DTSTART:20260329T010000
END:DAYLIGHT
BEGIN:STANDARD
TZOFFSETFROM:+0200
TZOFFSETTO:+0100
TZNAME:CET
DTSTART:20261025T010000
END:STANDARD
BEGIN:DAYLIGHT
TZOFFSETFROM:+0100
TZOFFSETTO:+0200
TZNAME:CEST
DTSTART:20270328T010000
END:DAYLIGHT
BEGIN:STANDARD
TZOFFSETFROM:+0200
TZOFFSETTO:+0100
TZNAME:CET
DTSTART:20271031T010000
END:STANDARD
END:VTIMEZONE
BEGIN:VEVENT
DTSTART;TZID=Europe/Amsterdam:20260115T120000
DTEND;TZID=Europe/Amsterdam:20260115T170000
DTSTAMP:20260422T160616
CREATED:20251210T123016Z
LAST-MODIFIED:20251210T123016Z
UID:10001580-1768478400-1768496400@industrievandaag.nl
SUMMARY:Aanbesteden: De basis van het aanbestedingsrecht
DESCRIPTION:Aanbestedingen vormen voor veel organisaties in de technologiebranches een terugkerende uitdaging. Inschrijven op een aanbesteding betekent vaak veel papierwerk\, vage of onredelijke eisen\, en procedures die lastig te doorgronden zijn. Het kan voelen alsof de spelregels vooral in het voordeel van de aanbestedende partij zijn. \nIn één middag legt advocaat Bob van der Kamp je de basisbeginselen van het aanbestedingsrecht uit. De workshop is praktisch ingestoken en laat je zien hoe je als inschrijver je positie kunt versterken.
URL:https://industrievandaag.nl/event/aanbesteden-de-basis-van-het-aanbestedingsrecht/
LOCATION:FHI\, Leusderend 12\, Leusden\, 3832 RC\, Nederland
CATEGORIES:Workshop
ORGANIZER;CN="FHI%2C federatie van technologiebranches":MAILTO:info@fhi.nl
GEO:52.1308;5.391672
X-APPLE-STRUCTURED-LOCATION;VALUE=URI;X-ADDRESS=FHI Leusderend 12 Leusden 3832 RC Nederland;X-APPLE-RADIUS=500;X-TITLE=Leusderend 12:geo:5.391672,52.1308
END:VEVENT
BEGIN:VEVENT
DTSTART;TZID=Europe/Amsterdam:20260122T073000
DTEND;TZID=Europe/Amsterdam:20260122T093000
DTSTAMP:20260422T160616
CREATED:20251206T072320Z
LAST-MODIFIED:20251206T072320Z
UID:10001558-1769067000-1769074200@industrievandaag.nl
SUMMARY:iAsk Pitchontbijt hosted by Hogeschool Rotterdam
DESCRIPTION:Schrijf je in voor het iAsk Pitchontbijt hosted by Hogeschool Rotterdam in het Directiegbebouwop donderdag 22 januari om 07:30 uur. Laat je inspireren door de keynote\, innovatiepitches en ontmoet je het iTanks netwerk. \nSchrijf je via onderstaande button in en wij verwelkomen je graag bij het iAsk Pitchontbijt hosted by Hogeschool Rotterdam. \nProgramma\n07:30 uur Inloop\n08:00 uur Introductie\nKeynote door Hogeschool Rotterdam\nInnovatiepitches\n08:45 uur Vervolg netwerken\n09:30 uur Verwacht einde evenement
URL:https://industrievandaag.nl/event/iask-pitchontbijt-hosted-by-hogeschool-rotterdam/
LOCATION:Hogeschool Rotterdam\, G.J. de Jonghweg 4\, Rotterdam\, Rotterdam\, 3015 GG\, Netherlands
CATEGORIES:Workshop
ORGANIZER;CN="iTanks":MAILTO:contact@itanks.eu
GEO:51.91007;4.4625194
X-APPLE-STRUCTURED-LOCATION;VALUE=URI;X-ADDRESS=Hogeschool Rotterdam G.J. de Jonghweg 4 Rotterdam Rotterdam 3015 GG Netherlands;X-APPLE-RADIUS=500;X-TITLE=G.J. de Jonghweg 4:geo:4.4625194,51.91007
END:VEVENT
END:VCALENDAR