BEGIN:VCALENDAR
VERSION:2.0
PRODID:-//Industrievandaag - ECPv6.15.18//NONSGML v1.0//EN
CALSCALE:GREGORIAN
METHOD:PUBLISH
X-ORIGINAL-URL:https://industrievandaag.nl
X-WR-CALDESC:Evenementen voor Industrievandaag
REFRESH-INTERVAL;VALUE=DURATION:PT1H
X-Robots-Tag:noindex
X-PUBLISHED-TTL:PT1H
BEGIN:VTIMEZONE
TZID:Europe/Amsterdam
BEGIN:DAYLIGHT
TZOFFSETFROM:+0100
TZOFFSETTO:+0200
TZNAME:CEST
DTSTART:20240331T010000
END:DAYLIGHT
BEGIN:STANDARD
TZOFFSETFROM:+0200
TZOFFSETTO:+0100
TZNAME:CET
DTSTART:20241027T010000
END:STANDARD
BEGIN:DAYLIGHT
TZOFFSETFROM:+0100
TZOFFSETTO:+0200
TZNAME:CEST
DTSTART:20250330T010000
END:DAYLIGHT
BEGIN:STANDARD
TZOFFSETFROM:+0200
TZOFFSETTO:+0100
TZNAME:CET
DTSTART:20251026T010000
END:STANDARD
BEGIN:DAYLIGHT
TZOFFSETFROM:+0100
TZOFFSETTO:+0200
TZNAME:CEST
DTSTART:20260329T010000
END:DAYLIGHT
BEGIN:STANDARD
TZOFFSETFROM:+0200
TZOFFSETTO:+0100
TZNAME:CET
DTSTART:20261025T010000
END:STANDARD
END:VTIMEZONE
BEGIN:VEVENT
DTSTART;TZID=Europe/Amsterdam:20251209T130000
DTEND;TZID=Europe/Amsterdam:20251209T180000
DTSTAMP:20260422T180434
CREATED:20251031T152345Z
LAST-MODIFIED:20251031T152345Z
UID:10001527-1765285200-1765303200@industrievandaag.nl
SUMMARY:Cybersecurity
DESCRIPTION:Cyberaanvallen zijn allang geen ver-van-je-bed-show meer. Ransomware en datalekken leggen bedrijven stil\, kosten tonnen en schaden reputaties. Toch hebben veel mkb-bedrijven nog geen plan voor als het misgaat. Wat doe je als je systemen gegijzeld worden? Hoe zorg je dat je bedrijf zo snel mogelijk weer operationeel is? \nWaarmee beperk je schade\, minimaliseer je je kosten en herstel snel na een aanval? Je wordt stap voor stap  meegenomen: van risicoanalyse en crisismanagement tot realistische scenario’s en oefeningen. Zo weet je precies wat je moet doen als jouw bedrijf doelwit wordt van een cyberaanval. \nTijdens deze masterclass komt Erik-Jan Koedijk\, expert in cybersecurity\, vertellen over hoe organisaties hun security-afdelingen beter kunnen inrichten. \nOok komt Jan Willem Hidding\, COO bij Applitech\, langs. Hij vertelt over hoe zijn organisatie werd getroffen door een cyberaanval en hoe zij daarna hun processen succesvol hebben herstart.
URL:https://industrievandaag.nl/event/cybersecurity/
LOCATION:3D Makers Zone\, Oudeweg 91\, Haarlem\, NH\, 2031 CC\, Netherlands
CATEGORIES:Workshop
ORGANIZER;CN="3DMZ (3D Makers Zone)":MAILTO:hello@3dmakerszone.com
GEO:52.3850393;4.6574415
X-APPLE-STRUCTURED-LOCATION;VALUE=URI;X-ADDRESS=3D Makers Zone Oudeweg 91 Haarlem NH 2031 CC Netherlands;X-APPLE-RADIUS=500;X-TITLE=Oudeweg 91:geo:4.6574415,52.3850393
END:VEVENT
BEGIN:VEVENT
DTSTART;TZID=Europe/Amsterdam:20251216T090000
DTEND;TZID=Europe/Amsterdam:20251216T163000
DTSTAMP:20260422T180434
CREATED:20250404T083827Z
LAST-MODIFIED:20251210T183132Z
UID:10001464-1765875600-1765902600@industrievandaag.nl
SUMMARY:Industrial Network Communication (NL)
DESCRIPTION:Deze praktische training is bedoeld voor engineers en technici die verantwoordelijk zijn voor het ontwerp en onderhoud van industriële netwerkcommunicatiesystemen. Oefeningen vormen een belangrijk onderdeel van deze training. \nToelichting\nDe rol van communicatie in industriële automatiseringssystemen is de afgelopen decennia veranderd van een ondergeschikte rol in een sleutelrol. Deze verandering maakt de industriële automatisering afhankelijk van deze communicatie. En dit betekent nieuwe eisen zoals; beschikbaarheid\, schaalbaarheid en onderhoud. Nieuwe eisen kunnen leiden tot nieuwe en andere type technologieën. \nEen gevolg van de toenemende rol van communicatie is dat sommige industriële automatiseringssystemen onbeveiligde protocollen gebruiken. Hierdoor neemt het risico op een cyberaanval toe. Dit verhoogt de behoefte aan cybersecurity en daarom is de eis cybersecurity ontstaan. \nEngineers en technici\, verantwoordelijk voor industriële automatiseringssystemen\, hebben hierdoor meer inzicht nodig in de netwerkcommunicatie. Dit helpt ze bij het ontwerpen en onderhouden van industriële automatiseringssystemen. \nInhoud\nOnderstaande onderwerpen komen aan bod: \n\nIntroductie van industriële netwerktechnologie\nEthernet technologie\nTransmissiemedia\, toegangsmethoden\, MAC adressering\, Ethernet-berichtopbouw\, werking switches.\nNetwerkinfrastructuur hub\, switch\, router en gateway\nInternet Protocol (IP)\, IP-adressen\, IP-subnetting\, routering\, TCP\, DNSNetwerkprotocollen ARP\, ICMP\, BOOTP\, DHCP\, SNMP\, (R)STP\, VLAN\nNetwerkdiagnostiek met Wireshark\nGevaren in industriële netwerken\nSecurity principles: Bescherming van eindapparaten en netwerken; gebruikersafhankelijke netwerktoegang; gecodeerde communicatie in onbeveiligde netwerken\nNetwork Address Translation (NAT): IP-Masquerading; Port Forwarding; 1:1 NAT\nFirewall: packet filter gebaseerd op Mac adressen\, IP-adressen en poortnummers; Statefull Package Inspection; bescherming tegen denial-of-service-aanvallen; individuele firewallregels voor verschillende gebruikers\nOperating modes; Stealth; Router\nToegang op afstand via HTTPS\nHerstelprocedure; ondersteuningshulpmiddelen\nVirtual Private Network (VPN)\nBeveiligde communicatie\nAuthenticatie via pre-shared key (PSK) en X.509v3 certificaten\nPraktische oefeningen
URL:https://industrievandaag.nl/event/industrial-network-communication-nl-2/
LOCATION:Phoenix Contact\, Technologie- en Trainingscentrum Zevenaar\, Hengelder 56\, Zevenaar\, 6902 PA\, Nederland
CATEGORIES:Workshop
ORGANIZER;CN="Phoenix Contact":MAILTO:info@phoenixcontact.nl
GEO:51.9273187;6.1042486
X-APPLE-STRUCTURED-LOCATION;VALUE=URI;X-ADDRESS=Phoenix Contact Technologie- en Trainingscentrum Zevenaar Hengelder 56 Zevenaar 6902 PA Nederland;X-APPLE-RADIUS=500;X-TITLE=Hengelder 56:geo:6.1042486,51.9273187
END:VEVENT
END:VCALENDAR