BEGIN:VCALENDAR
VERSION:2.0
PRODID:-//Industrievandaag - ECPv6.15.18//NONSGML v1.0//EN
CALSCALE:GREGORIAN
METHOD:PUBLISH
X-WR-CALNAME:Industrievandaag
X-ORIGINAL-URL:https://industrievandaag.nl
X-WR-CALDESC:Evenementen voor Industrievandaag
REFRESH-INTERVAL;VALUE=DURATION:PT1H
X-Robots-Tag:noindex
X-PUBLISHED-TTL:PT1H
BEGIN:VTIMEZONE
TZID:Europe/Amsterdam
BEGIN:DAYLIGHT
TZOFFSETFROM:+0100
TZOFFSETTO:+0200
TZNAME:CEST
DTSTART:20240331T010000
END:DAYLIGHT
BEGIN:STANDARD
TZOFFSETFROM:+0200
TZOFFSETTO:+0100
TZNAME:CET
DTSTART:20241027T010000
END:STANDARD
BEGIN:DAYLIGHT
TZOFFSETFROM:+0100
TZOFFSETTO:+0200
TZNAME:CEST
DTSTART:20250330T010000
END:DAYLIGHT
BEGIN:STANDARD
TZOFFSETFROM:+0200
TZOFFSETTO:+0100
TZNAME:CET
DTSTART:20251026T010000
END:STANDARD
BEGIN:DAYLIGHT
TZOFFSETFROM:+0100
TZOFFSETTO:+0200
TZNAME:CEST
DTSTART:20260329T010000
END:DAYLIGHT
BEGIN:STANDARD
TZOFFSETFROM:+0200
TZOFFSETTO:+0100
TZNAME:CET
DTSTART:20261025T010000
END:STANDARD
END:VTIMEZONE
BEGIN:VEVENT
DTSTART;TZID=Europe/Amsterdam:20251106T080000
DTEND;TZID=Europe/Amsterdam:20251106T170000
DTSTAMP:20260422T194038
CREATED:20251211T101341Z
LAST-MODIFIED:20251211T101341Z
UID:10001616-1762416000-1762448400@industrievandaag.nl
SUMMARY:Workshop Industrial Network Communication (EN)
DESCRIPTION:Target audience\nThis practical training is for engineers and technicians that are responsible for the design and maintenance of industrial network communication systems. Exercises are an important part of this training. \n\n\n\n\n\n\nExplanation\nThe role of communications in industrial automation systems has changed in recent decades from a minor role to a key role. This change makes industrial automation dependent on these communications. And this means new requirements\, such as; availability\, scalability and maintenance. New demands can lead to new and different types of technologies. \nA consequence of the increasing role of communications is that some industrial automation systems use unsecured protocols. This increases the risk of a cyber-attack. This increases the need for cybersecurity\, which is why the cybersecurity requirement was created. \nEngineers and technicians responsible for industrial automation systems need a better understanding of network communications as a result. This helps them design and maintain industrial automation systems. \n\n\n\n\n\n\nContent\n• Introduction of industrial network technology\n• Ethernet technology\n• Transmission media\, access methods\, MAC addressing\, Ethernet message format\, switching mechanisms\n• Network infrastructure devices hub\, switch\, router and gateway\n• Internet Protocol (IP)\, IP Addresses\, IP Subnetting\, Routing\, TCP\, DNS\n• Network protocols ARP\, ICMP\, BOOTP\, DHCP\, SNMP\, (R)STP\, VLAN\n• Network diagnostics with Wireshark\n• Dangers in industrial networks\n• Security Concepts: Protection of end devices and networks; user-dependent network access; encrypted communication in unprotected networks\n• Network Address Translation (NAT): IP-Masquerading; Port Forwarding; 1:1 NAT\n• Firewall: packet filter based on Mac addresses\, IP addresses and port numbers; Stateful Package Inspection; Protection against denial-of-service attacks; Individual firewall rules for different users\n• Operating modes; Stealth; Router\n• Remote access via HTTPS\n• Recovery procedure; support tools\n• Virtual Private Network (VPN)\n• Secured communication\n• Authentication via pre-shared key (PSK) and X.509v3 certificates\n• Practical exercises \nTime schedule\n• Day 1 till 3 09.00 – 16.00 h. Training course\n• Day 4 09.00 – 13.00 h. Final exam \nPlease be aware that additional study time could be required in the evening during this week due to the exam which will take place on the last day of the training week. \n  \nClick here for more information \n 
URL:https://industrievandaag.nl/event/workshop-industrial-network-communication-en/
LOCATION:Phoenix Contact\, Technologie- en Trainingscentrum Zevenaar\, Hengelder 56\, Zevenaar\, 6902 PA\, Nederland
CATEGORIES:Workshop
ORGANIZER;CN="Phoenix Contact":MAILTO:info@phoenixcontact.nl
GEO:51.9273187;6.1042486
X-APPLE-STRUCTURED-LOCATION;VALUE=URI;X-ADDRESS=Phoenix Contact Technologie- en Trainingscentrum Zevenaar Hengelder 56 Zevenaar 6902 PA Nederland;X-APPLE-RADIUS=500;X-TITLE=Hengelder 56:geo:6.1042486,51.9273187
END:VEVENT
END:VCALENDAR