BEGIN:VCALENDAR
VERSION:2.0
PRODID:-//Industrievandaag - ECPv6.15.18//NONSGML v1.0//EN
CALSCALE:GREGORIAN
METHOD:PUBLISH
X-WR-CALNAME:Industrievandaag
X-ORIGINAL-URL:https://industrievandaag.nl
X-WR-CALDESC:Evenementen voor Industrievandaag
REFRESH-INTERVAL;VALUE=DURATION:PT1H
X-Robots-Tag:noindex
X-PUBLISHED-TTL:PT1H
BEGIN:VTIMEZONE
TZID:Europe/Amsterdam
BEGIN:DAYLIGHT
TZOFFSETFROM:+0100
TZOFFSETTO:+0200
TZNAME:CEST
DTSTART:20240331T010000
END:DAYLIGHT
BEGIN:STANDARD
TZOFFSETFROM:+0200
TZOFFSETTO:+0100
TZNAME:CET
DTSTART:20241027T010000
END:STANDARD
BEGIN:DAYLIGHT
TZOFFSETFROM:+0100
TZOFFSETTO:+0200
TZNAME:CEST
DTSTART:20250330T010000
END:DAYLIGHT
BEGIN:STANDARD
TZOFFSETFROM:+0200
TZOFFSETTO:+0100
TZNAME:CET
DTSTART:20251026T010000
END:STANDARD
BEGIN:DAYLIGHT
TZOFFSETFROM:+0100
TZOFFSETTO:+0200
TZNAME:CEST
DTSTART:20260329T010000
END:DAYLIGHT
BEGIN:STANDARD
TZOFFSETFROM:+0200
TZOFFSETTO:+0100
TZNAME:CET
DTSTART:20261025T010000
END:STANDARD
END:VTIMEZONE
BEGIN:VEVENT
DTSTART;TZID=Europe/Amsterdam:20250306T090000
DTEND;TZID=Europe/Amsterdam:20250306T120000
DTSTAMP:20260423T120048
CREATED:20250213T113352Z
LAST-MODIFIED:20250303T073847Z
UID:10001311-1741251600-1741262400@industrievandaag.nl
SUMMARY:Workshop de nieuwe machineverordening
DESCRIPTION:We hebben vier\, gratis workshops gepland op onze trainingslocatie in Barneveld. Omdat niet iedereen in de gelegenheid zal zijn om naar Barneveld te komen\, hebben we daarnaast ook twee webinars gepland. \nInhoud\nWe zullen ingaan op de volgende zaken: \n\nWijzigingen van de nieuwe Machineverordening 2023/1230. Alle wijzigingen op een rijtje.\nDe definitie van de machine en veiligheidscomponenten. Deze wordt gewijzigd. Ook is er meer duidelijkheid over de niet-voltooide machine.\nDe belangrijkste verschillen betreffen de significante wijziging van machines. Belangrijk bij aanpassingen aan een machine\, die bij veel bedrijven regelmatig voor komen. Met daarbij ook aandacht voor het veiligheid technisch aanpassen van bestaande machines.\nIntrede van de Cyber Security en toepassing AI (Artificiële/ kunstmatige).\n\nVoor- en nadelen\, bedreigingen t.a.v. machineveiligheid.\nVeiligheid van besturingssystemen.\nBeveiliging tegen corruptie\n\n\nLijst met machines met hoog risico en lijst veiligheidscomponenten\nAangepaste en extra toegevoegde essentiële veiligheids- en gezondheidseisen\n\nDe workshop zal bestaan uit een presentatie van ca. 1 ½ uur. Zoals jullie van ons gewend zijn\, zal er steeds gelegenheid zijn om je vragen te stellen. Het geheel zal dan zo’n 3 uur duren. \nData\nWorkshops \nDe live workshop zal plaatsvinden op onze trainingslocatie in Barneveld aan de Compagnieweg 3. \n\nDonderdag 6 maart 2025 – 9:00 – 12:00 uur (inloop vanaf 8:30 uur)\nDonderdag 6 maart 2025 – 13:30 – 16:30 uur (inloop vanaf 13:00 uur)\nWoensdag 26 maart 2025 – 9:00 – 12:00 uur (inloop vanaf 8:30 uur)\nWoensdag 26 maart 2025 – 13:30 – 16:30 uur (inloop vanaf 13:00 uur)\n\nWebinar \n\nWoensdag 2 april 2025 – 9:00 – 12:00 uur\nDonderdag 3 april 2025 – 13:30 – 16:30 uur\n\nDeelname\nDeelname aan de Workshop of Webinar is gratis voor één deelnemer per bedrijf. Opgave via het opgaveformulier. Per workshop of webinar is er plaats voor 14 deelnemers. Geef altijd twee data op als voorkeur\, zodat wij op de momenten kunnen plannen waarvoor de meeste animo is. Je krijgt van ons een bevestiging van het definitieve moment. \nAfhankelijk van het aantal aanmeldingen zullen we eventueel in de loop van april nog extra momenten inplannen. Als er te weinig  aanmeldingen zijn voor een bepaalde datum\, zullen we met de aanmelders in overleg gaan voor deelname op een andere datum.
URL:https://industrievandaag.nl/event/workshop-de-nieuwe-machineverordening-2/
LOCATION:IVOB\, Compagnieweg 3\, Barneveld\, 3771 NH
CATEGORIES:Workshop
ORGANIZER;CN="IVOB":MAILTO:info@ivob-opleidingen.nl
END:VEVENT
BEGIN:VEVENT
DTSTART;TZID=Europe/Amsterdam:20250326T090000
DTEND;TZID=Europe/Amsterdam:20250326T120000
DTSTAMP:20260423T120048
CREATED:20250213T113330Z
LAST-MODIFIED:20250303T074846Z
UID:10001310-1742979600-1742990400@industrievandaag.nl
SUMMARY:Workshop de nieuwe machineverordening
DESCRIPTION:We hebben vier\, gratis workshops gepland op onze trainingslocatie in Barneveld. Omdat niet iedereen in de gelegenheid zal zijn om naar Barneveld te komen\, hebben we daarnaast ook twee webinars gepland. \nInhoud\nWe zullen ingaan op de volgende zaken: \n\nWijzigingen van de nieuwe Machineverordening 2023/1230. Alle wijzigingen op een rijtje.\nDe definitie van de machine en veiligheidscomponenten. Deze wordt gewijzigd. Ook is er meer duidelijkheid over de niet-voltooide machine.\nDe belangrijkste verschillen betreffen de significante wijziging van machines. Belangrijk bij aanpassingen aan een machine\, die bij veel bedrijven regelmatig voor komen. Met daarbij ook aandacht voor het veiligheid technisch aanpassen van bestaande machines.\nIntrede van de Cyber Security en toepassing AI (Artificiële/ kunstmatige).\n\nVoor- en nadelen\, bedreigingen t.a.v. machineveiligheid.\nVeiligheid van besturingssystemen.\nBeveiliging tegen corruptie\n\n\nLijst met machines met hoog risico en lijst veiligheidscomponenten\nAangepaste en extra toegevoegde essentiële veiligheids- en gezondheidseisen\n\nDe workshop zal bestaan uit een presentatie van ca. 1 ½ uur. Zoals jullie van ons gewend zijn\, zal er steeds gelegenheid zijn om je vragen te stellen. Het geheel zal dan zo’n 3 uur duren. \nData\nWorkshops \nDe live workshop zal plaatsvinden op onze trainingslocatie in Barneveld aan de Compagnieweg 3. \n\nDonderdag 6 maart 2025 – 9:00 – 12:00 uur (inloop vanaf 8:30 uur)\nDonderdag 6 maart 2025 – 13:30 – 16:30 uur (inloop vanaf 13:00 uur)\nWoensdag 26 maart 2025 – 9:00 – 12:00 uur (inloop vanaf 8:30 uur)\nWoensdag 26 maart 2025 – 13:30 – 16:30 uur (inloop vanaf 13:00 uur)\n\nWebinar \n\nWoensdag 2 april 2025 – 9:00 – 12:00 uur\nDonderdag 3 april 2025 – 13:30 – 16:30 uur\n\nDeelname\nDeelname aan de Workshop of Webinar is gratis voor één deelnemer per bedrijf. Opgave via het opgaveformulier. Per workshop of webinar is er plaats voor 14 deelnemers. Geef altijd twee data op als voorkeur\, zodat wij op de momenten kunnen plannen waarvoor de meeste animo is. Je krijgt van ons een bevestiging van het definitieve moment. \nAfhankelijk van het aantal aanmeldingen zullen we eventueel in de loop van april nog extra momenten inplannen. Als er te weinig  aanmeldingen zijn voor een bepaalde datum\, zullen we met de aanmelders in overleg gaan voor deelname op een andere datum.
URL:https://industrievandaag.nl/event/workshop-de-nieuwe-machineverordening/
LOCATION:IVOB\, Compagnieweg 3\, Barneveld\, 3771 NH
CATEGORIES:Workshop
ORGANIZER;CN="IVOB":MAILTO:info@ivob-opleidingen.nl
END:VEVENT
BEGIN:VEVENT
DTSTART;TZID=Europe/Amsterdam:20250326T093000
DTEND;TZID=Europe/Amsterdam:20250326T160000
DTSTAMP:20260423T120048
CREATED:20250113T110419Z
LAST-MODIFIED:20250303T074846Z
UID:10001278-1742981400-1743004800@industrievandaag.nl
SUMMARY:Lasal workshop
DESCRIPTION:Lasal CLASS staat voor Control Logic Application Software Systeem. Een Class is een abstract data type\, ADT. Net als standaard types kunt u deze declareren en aanvullen. Tijdens de workshop wordt gesproken over: \n\nObject\, Class\, Overerving\, Inkapseling\nClass-bibliotheken bieden hergebruik van resourcen\nProgrammeren wordt modelleren; de functionaliteit speelt naast de eigenschappen\, de relaties\, de onderlinge communicatie (interfaces)\, de coordinatie en de omhulling een belangrijke rol.\nOvererving; als een Class is afgeleid van een basisclass. De Class heeft dan alle eigenschappen van de basisclass plus de extra eigenschappen die in de afgeleide Class toegevoegd worden.\n\nGraag laten wij u ervaren hoe dit alles is vertaald in een programmeertool voor DIAS en IPC machine besturingen. \nBelangrijk\nDe workshop is GRATIS\, echter wij hebben plaats voor maximaal 10 personen. Wees er op tijd bij!\nAls u na uw inschrijving alsnog niet aanwezig kunt zijn\, aanvaarden wij een afmelding ten minsten 3 dagen op voorhand anders zijn we genoodzaakt de gemaakte kosten van €100\,- door te rekenen. \nDoelgroep\nDeze workshop is voor een ieder die kennis wil maken met LASAL of introductie nodig heeft i.v.m. toekomstige projecten. \nDuur\nDeze workshop duurt de gehele dag (start 9.30 einde 16.00u) en is volledig verzorgd. \nStarterkit\nOp een comfortabele manier thuis raken en oefenen met de object georienteerde wereld van SIGMATEK en Motion? Schaf een starterkit aan! Deze compacte set wordt geleverd in handige draagkoffer.  Inclusief 7” scherm\, krachtige machinebesturing\, safety controller\, de nodige IO en 2 kleine servomotoren.\nEen complete set met PLC / Scherm / Safety en Motion. Zet je makkelijk op je bureau om even wat te testen. \nMeer informatie
URL:https://industrievandaag.nl/event/lasal-workshop-6/
LOCATION:SigmaControl BV\, Bijdorp West 24\, Barendrecht\, 2992 LC\, Nederland
CATEGORIES:Workshop
ORGANIZER;CN="SigmaControl":MAILTO:office@sigmacontrol.eu
GEO:51.861221;4.5188665
X-APPLE-STRUCTURED-LOCATION;VALUE=URI;X-ADDRESS=SigmaControl BV Bijdorp West 24 Barendrecht 2992 LC Nederland;X-APPLE-RADIUS=500;X-TITLE=Bijdorp West 24:geo:4.5188665,51.861221
END:VEVENT
BEGIN:VEVENT
DTSTART;TZID=Europe/Amsterdam:20250326T173000
DTEND;TZID=Europe/Amsterdam:20250326T200000
DTSTAMP:20260423T120048
CREATED:20250303T075046Z
LAST-MODIFIED:20250303T075046Z
UID:10001319-1743010200-1743019200@industrievandaag.nl
SUMMARY:Innovation Dinner ‘Cultuurverandering in de bouw’
DESCRIPTION:Deze keer organiseren BouwLab R&D en 3D Makers Zone vanuit het programma van de EDIH het Innovation Dinner Cultuurverandering in de bouw. \nDe bouwsector staat op een keerpunt. Jarenlang werd er traditioneel en lineair gewerkt\, maar de uitdagingen van vandaag – verduurzaming\, digitalisering en circulariteit – vragen om een fundamentele transformatie. Wie niet meebeweegt\, blijft achter.\n\n\nTijdens deze avond gaan we dieper in op de volgende thema’s:\n\nVan afval naar waarde – Hoe maken we circulair bouwen de norm? De Nederlandse bouwsector produceert jaarlijks meer dan 20 miljoen ton afval—onhoudbaar in een wereld met schaarse grondstoffen. Innovatieve bedrijven tonen aan dat het anders kan: sloop met een materialenpaspoort geeft onderdelen een tweede leven\, en prefab houtbouw vervangt traditionele bouw\, wat zorgt voor snellere\, lichtere en CO2-armere woningen.\nDigitalisering als versneller – Hoe benutten we AI\, digital twins en data? Ook digitalisering speelt een cruciale rol in de modernisering van de bouw. Digital twins\, AI en big data kunnen bouwprocessen optimaliseren\, terwijl drones en 3D-scans de veiligheid en nauwkeurigheid vergroten.\nSamenwerken of stagneren? – Hoe doorbreken we silo’s en creëren we ketensamenwerking? Verandering komt alleen tot stand als bedrijven over hun eigen schaduw heen stappen. Ketensamenwerking\, waarin partijen niet alleen contractueel maar ook inhoudelijk verantwoordelijkheid delen\, is noodzakelijk voor circulariteit en digitalisering.\nVan traditie naar toekomst – Hoe breken we met oude patronen?
URL:https://industrievandaag.nl/event/innovation-dinner-cultuurverandering-in-de-bouw-2/
LOCATION:Oudeweg 91-95\, Haarlem\, Oudeweg 91-95\, Haarlem\, 2031 CC\, Netherlands
CATEGORIES:Lezing,Workshop
ORGANIZER;CN="BouwLab R&amp%3BDo":MAILTO:lieke@bouwlab.com
GEO:52.385364;4.6568258
X-APPLE-STRUCTURED-LOCATION;VALUE=URI;X-ADDRESS=Oudeweg 91-95 Haarlem Oudeweg 91-95 Haarlem 2031 CC Netherlands;X-APPLE-RADIUS=500;X-TITLE=Oudeweg 91-95:geo:4.6568258,52.385364
END:VEVENT
END:VCALENDAR