BEGIN:VCALENDAR
VERSION:2.0
PRODID:-//Industrievandaag - ECPv6.15.18//NONSGML v1.0//EN
CALSCALE:GREGORIAN
METHOD:PUBLISH
X-ORIGINAL-URL:https://industrievandaag.nl
X-WR-CALDESC:Evenementen voor Industrievandaag
REFRESH-INTERVAL;VALUE=DURATION:PT1H
X-Robots-Tag:noindex
X-PUBLISHED-TTL:PT1H
BEGIN:VTIMEZONE
TZID:Europe/Amsterdam
BEGIN:DAYLIGHT
TZOFFSETFROM:+0100
TZOFFSETTO:+0200
TZNAME:CEST
DTSTART:20240331T010000
END:DAYLIGHT
BEGIN:STANDARD
TZOFFSETFROM:+0200
TZOFFSETTO:+0100
TZNAME:CET
DTSTART:20241027T010000
END:STANDARD
BEGIN:DAYLIGHT
TZOFFSETFROM:+0100
TZOFFSETTO:+0200
TZNAME:CEST
DTSTART:20250330T010000
END:DAYLIGHT
BEGIN:STANDARD
TZOFFSETFROM:+0200
TZOFFSETTO:+0100
TZNAME:CET
DTSTART:20251026T010000
END:STANDARD
BEGIN:DAYLIGHT
TZOFFSETFROM:+0100
TZOFFSETTO:+0200
TZNAME:CEST
DTSTART:20260329T010000
END:DAYLIGHT
BEGIN:STANDARD
TZOFFSETFROM:+0200
TZOFFSETTO:+0100
TZNAME:CET
DTSTART:20261025T010000
END:STANDARD
END:VTIMEZONE
BEGIN:VEVENT
DTSTART;TZID=Europe/Amsterdam:20250206T090000
DTEND;TZID=Europe/Amsterdam:20250206T130000
DTSTAMP:20260423T135316
CREATED:20241119T103353Z
LAST-MODIFIED:20251210T170654Z
UID:10001187-1738832400-1738846800@industrievandaag.nl
SUMMARY:✅ IEC-62443 Netwerkswitch Hardening – Operationele veerkracht door verhoogde cyberweerbaarheid
DESCRIPTION:Ben je bekend met de algemene betekenis van NIS2 en de inhoud ervan? Wil je weten hoe je dit kunt vertalen naar de praktijk voor je OT-domein? Dan is onze workshop precies wat je nodig hebt! \nWat kun je verwachten?\nIn één ochtend leer je op eenvoudige wijze je managed switches te hardenen\, onder begeleiding van onze OT-netwerk en -cybersecurity experts. Je maakt gebruik van beschikbare tooling en voldoet zo aan de eisen uit de IEC-62443 standaard. \nWaarom deze workshop?\nCybersecurity wet- en regelgeving zoals NIS2 en CRA zijn een feit. Maar hoe vertaal je deze naar een praktische en brede aanpak in je OT-domein? In onze workshop ligt de focus op hands-on activiteiten. Je gaat zelf aan de slag om netwerkswitches te hardenen volgens de IEC-62443 standaard\, waarmee je een stap dichterbij komt om te voldoen aan de Nederlandse Cyberbeveiligingswet (NIS2-richtlijn). \nErvaar de toegevoegde waarde van IEC-62443 securitylevel 2 (SL2) gecertificeerde netwerkoplossingen. Als system integrator en eindgebruiker heb je hiermee een veilige netwerkoplossing voor de gehele product lifecycle\, zoals vereist door de CRA. \nWorkshop details\nAan de slag met duidelijke instructies om je netwerkswitches te hardenen. De focus ligt op de IEC-62443 standaard en de verschillende securitylevels. Dit zorgt voor een goed lifecycle management binnen je OT-domein. \nMeld je aan voor onze workshop. Zet samen met ons de volgende stap om te voldoen aan de NIS2 eisen. \nWaarom je dit niet wilt missen? \n\nPraktische vaardigheden: Leer hoe je IEC-62443 securitylevels vertaalt naar switch- en netwerkconfiguratie.\nNetwerkoptimalisatie: Ontdek hoe je door zonering (segmenteren) je netwerk kunt optimaliseren.\n\nWaarom deelnemen aan deze workshop? \n\nGebruik de IEC-62443 standaard om te voldoen aan de Nederlandse Cyberbeveiligingswet (NIS2-richtlijn)\nHands-on kennis die direct toepasbaar in je eigen omgeving\n\nVoor wie is deze workshop? \n\nOT-netwerk engineers/-beheerders\nOT-security engineers\nWerkvoorbereiders\nServicetechnici\nIedereen die geïnteresseerd is in OT-cybersecurity\n\nPraktische info\nWorkshop datums\n⬡ dinsdag 19 november 2024\n⬡ donderdag 23 januari 2025\n⬡ donderdag 6 februari 2025\n⬡ dinsdag 18 februari 2025 \nProgramma\n09:00u         Ontvangst\n09:30u         Workshop hardenen volgens IEC-62443\n                         ⬡ Intro\n                         ⬡ Tooling\n                           – Basisconfiguratie\n                           – Hardenen netwerkswitches\n                         ⬡ Zonering\n                         ⬡ Triple-A\n12:30u         Lunch \nTijdstip\n09:00 – 13:00 uur \nLocatie\nBij MODELEC in Ede \nGoed om te weten\nEr is een beperkt aantal plaatsen beschikbaar. De groepsgrootte is maximaal 8 deelnemers per sessie. Zo is er voldoende aandacht voor iedereen. \nMeld je snel aan en zet samen met ons de volgende stap om te voldoen aan de NIS2 eisen! \n 
URL:https://industrievandaag.nl/event/%e2%9c%85-iec-62443-netwerkswitch-hardening-operationele-veerkracht-door-verhoogde-cyberweerbaarheid-3/
LOCATION:Modelec\, Galvanistraat 38\, Ede\, 6716 AE\, Netherlands
CATEGORIES:Workshop
ORGANIZER;CN="MODELEC Data-Industrie":MAILTO:contact@modelec.nl
GEO:52.0284277;5.6263513
X-APPLE-STRUCTURED-LOCATION;VALUE=URI;X-ADDRESS=Modelec Galvanistraat 38 Ede 6716 AE Netherlands;X-APPLE-RADIUS=500;X-TITLE=Galvanistraat 38:geo:5.6263513,52.0284277
END:VEVENT
BEGIN:VEVENT
DTSTART;TZID=Europe/Amsterdam:20250218T090000
DTEND;TZID=Europe/Amsterdam:20250218T130000
DTSTAMP:20260423T135316
CREATED:20241120T103339Z
LAST-MODIFIED:20250129T064550Z
UID:10001188-1739869200-1739883600@industrievandaag.nl
SUMMARY:✅ IEC-62443 Netwerkswitch Hardening – Operationele veerkracht door verhoogde cyberweerbaarheid
DESCRIPTION:Ben je bekend met de algemene betekenis van NIS2 en de inhoud ervan? Wil je weten hoe je dit kunt vertalen naar de praktijk voor je OT-domein? Dan is onze workshop precies wat je nodig hebt! \nWat kun je verwachten?\nIn één ochtend leer je op eenvoudige wijze je managed switches te hardenen\, onder begeleiding van onze OT-netwerk en -cybersecurity experts. Je maakt gebruik van beschikbare tooling en voldoet zo aan de eisen uit de IEC-62443 standaard. \nWaarom deze workshop?\nCybersecurity wet- en regelgeving zoals NIS2 en CRA zijn een feit. Maar hoe vertaal je deze naar een praktische en brede aanpak in je OT-domein? In onze workshop ligt de focus op hands-on activiteiten. Je gaat zelf aan de slag om netwerkswitches te hardenen volgens de IEC-62443 standaard\, waarmee je een stap dichterbij komt om te voldoen aan de Nederlandse Cyberbeveiligingswet (NIS2-richtlijn). \nErvaar de toegevoegde waarde van IEC-62443 securitylevel 2 (SL2) gecertificeerde netwerkoplossingen. Als system integrator en eindgebruiker heb je hiermee een veilige netwerkoplossing voor de gehele product lifecycle\, zoals vereist door de CRA. \nWorkshop details\nAan de slag met duidelijke instructies om je netwerkswitches te hardenen. De focus ligt op de IEC-62443 standaard en de verschillende securitylevels. Dit zorgt voor een goed lifecycle management binnen je OT-domein. \nMeld je aan voor onze workshop. Zet samen met ons de volgende stap om te voldoen aan de NIS2 eisen. \nWaarom je dit niet wilt missen? \n\nPraktische vaardigheden: Leer hoe je IEC-62443 securitylevels vertaalt naar switch- en netwerkconfiguratie.\nNetwerkoptimalisatie: Ontdek hoe je door zonering (segmenteren) je netwerk kunt optimaliseren.\n\nWaarom deelnemen aan deze workshop? \n\nGebruik de IEC-62443 standaard om te voldoen aan de Nederlandse Cyberbeveiligingswet (NIS2-richtlijn)\nHands-on kennis die direct toepasbaar in je eigen omgeving\n\nVoor wie is deze workshop? \n\nOT-netwerk engineers/-beheerders\nOT-security engineers\nWerkvoorbereiders\nServicetechnici\nIedereen die geïnteresseerd is in OT-cybersecurity\n\nPraktische info\nWorkshop datums\n⬡ dinsdag 19 november 2024\n⬡ donderdag 23 januari 2025\n⬡ donderdag 6 februari 2025\n⬡ dinsdag 18 februari 2025 \nProgramma\n09:00u         Ontvangst\n09:30u         Workshop hardenen volgens IEC-62443\n                         ⬡ Intro\n                         ⬡ Tooling\n                           – Basisconfiguratie\n                           – Hardenen netwerkswitches\n                         ⬡ Zonering\n                         ⬡ Triple-A\n12:30u         Lunch \nTijdstip\n09:00 – 13:00 uur \nLocatie\nBij MODELEC in Ede \nGoed om te weten\nEr is een beperkt aantal plaatsen beschikbaar. De groepsgrootte is maximaal 8 deelnemers per sessie. Zo is er voldoende aandacht voor iedereen. \nMeld je snel aan en zet samen met ons de volgende stap om te voldoen aan de NIS2 eisen! \n 
URL:https://industrievandaag.nl/event/%e2%9c%85-iec-62443-netwerkswitch-hardening-operationele-veerkracht-door-verhoogde-cyberweerbaarheid-4/
LOCATION:Modelec\, Galvanistraat 38\, Ede\, 6716 AE\, Netherlands
CATEGORIES:Workshop
ORGANIZER;CN="MODELEC Data-Industrie":MAILTO:contact@modelec.nl
GEO:52.0284277;5.6263513
X-APPLE-STRUCTURED-LOCATION;VALUE=URI;X-ADDRESS=Modelec Galvanistraat 38 Ede 6716 AE Netherlands;X-APPLE-RADIUS=500;X-TITLE=Galvanistraat 38:geo:5.6263513,52.0284277
END:VEVENT
BEGIN:VEVENT
DTSTART;TZID=Europe/Amsterdam:20250226T093000
DTEND;TZID=Europe/Amsterdam:20250226T160000
DTSTAMP:20260423T135316
CREATED:20250113T110347Z
LAST-MODIFIED:20250226T010503Z
UID:10001269-1740562200-1740585600@industrievandaag.nl
SUMMARY:Lasal workshop
DESCRIPTION:Lasal CLASS staat voor Control Logic Application Software Systeem. Een Class is een abstract data type\, ADT. Net als standaard types kunt u deze declareren en aanvullen. Tijdens de workshop wordt gesproken over: \n\nObject\, Class\, Overerving\, Inkapseling\nClass-bibliotheken bieden hergebruik van resourcen\nProgrammeren wordt modelleren; de functionaliteit speelt naast de eigenschappen\, de relaties\, de onderlinge communicatie (interfaces)\, de coordinatie en de omhulling een belangrijke rol.\nOvererving; als een Class is afgeleid van een basisclass. De Class heeft dan alle eigenschappen van de basisclass plus de extra eigenschappen die in de afgeleide Class toegevoegd worden.\n\nGraag laten wij u ervaren hoe dit alles is vertaald in een programmeertool voor DIAS en IPC machine besturingen. \nBelangrijk\nDe workshop is GRATIS\, echter wij hebben plaats voor maximaal 10 personen. Wees er op tijd bij!\nAls u na uw inschrijving alsnog niet aanwezig kunt zijn\, aanvaarden wij een afmelding ten minsten 3 dagen op voorhand anders zijn we genoodzaakt de gemaakte kosten van €100\,- door te rekenen. \nDoelgroep\nDeze workshop is voor een ieder die kennis wil maken met LASAL of introductie nodig heeft i.v.m. toekomstige projecten. \nDuur\nDeze workshop duurt de gehele dag (start 9.30 einde 16.00u) en is volledig verzorgd. \nStarterkit\nOp een comfortabele manier thuis raken en oefenen met de object georienteerde wereld van SIGMATEK en Motion? Schaf een starterkit aan! Deze compacte set wordt geleverd in handige draagkoffer.  Inclusief 7” scherm\, krachtige machinebesturing\, safety controller\, de nodige IO en 2 kleine servomotoren.\nEen complete set met PLC / Scherm / Safety en Motion. Zet je makkelijk op je bureau om even wat te testen. \nMeer informatie
URL:https://industrievandaag.nl/event/lasal-workshop-5/
LOCATION:SigmaControl BV\, Bijdorp West 24\, Barendrecht\, 2992 LC\, Nederland
CATEGORIES:Workshop
ORGANIZER;CN="SigmaControl":MAILTO:office@sigmacontrol.eu
GEO:51.861221;4.5188665
X-APPLE-STRUCTURED-LOCATION;VALUE=URI;X-ADDRESS=SigmaControl BV Bijdorp West 24 Barendrecht 2992 LC Nederland;X-APPLE-RADIUS=500;X-TITLE=Bijdorp West 24:geo:4.5188665,51.861221
END:VEVENT
END:VCALENDAR