BEGIN:VCALENDAR
VERSION:2.0
PRODID:-//Industrievandaag - ECPv6.15.18//NONSGML v1.0//EN
CALSCALE:GREGORIAN
METHOD:PUBLISH
X-WR-CALNAME:Industrievandaag
X-ORIGINAL-URL:https://industrievandaag.nl
X-WR-CALDESC:Evenementen voor Industrievandaag
REFRESH-INTERVAL;VALUE=DURATION:PT1H
X-Robots-Tag:noindex
X-PUBLISHED-TTL:PT1H
BEGIN:VTIMEZONE
TZID:Europe/Amsterdam
BEGIN:DAYLIGHT
TZOFFSETFROM:+0100
TZOFFSETTO:+0200
TZNAME:CEST
DTSTART:20230326T010000
END:DAYLIGHT
BEGIN:STANDARD
TZOFFSETFROM:+0200
TZOFFSETTO:+0100
TZNAME:CET
DTSTART:20231029T010000
END:STANDARD
BEGIN:DAYLIGHT
TZOFFSETFROM:+0100
TZOFFSETTO:+0200
TZNAME:CEST
DTSTART:20240331T010000
END:DAYLIGHT
BEGIN:STANDARD
TZOFFSETFROM:+0200
TZOFFSETTO:+0100
TZNAME:CET
DTSTART:20241027T010000
END:STANDARD
BEGIN:DAYLIGHT
TZOFFSETFROM:+0100
TZOFFSETTO:+0200
TZNAME:CEST
DTSTART:20250330T010000
END:DAYLIGHT
BEGIN:STANDARD
TZOFFSETFROM:+0200
TZOFFSETTO:+0100
TZNAME:CET
DTSTART:20251026T010000
END:STANDARD
END:VTIMEZONE
BEGIN:VEVENT
DTSTART;TZID=Europe/Amsterdam:20241119T090000
DTEND;TZID=Europe/Amsterdam:20241119T130000
DTSTAMP:20260425T145051
CREATED:20241119T103318Z
LAST-MODIFIED:20241119T103318Z
UID:10001185-1732006800-1732021200@industrievandaag.nl
SUMMARY:✅ IEC-62443 Netwerkswitch Hardening – Operationele veerkracht door verhoogde cyberweerbaarheid
DESCRIPTION:Ben je bekend met de algemene betekenis van NIS2 en de inhoud ervan? Wil je weten hoe je dit kunt vertalen naar de praktijk voor je OT-domein? Dan is onze workshop precies wat je nodig hebt! \nWat kun je verwachten?\nIn één ochtend leer je op eenvoudige wijze je managed switches te hardenen\, onder begeleiding van onze OT-netwerk en -cybersecurity experts. Je maakt gebruik van beschikbare tooling en voldoet zo aan de eisen uit de IEC-62443 standaard. \nWaarom deze workshop?\nCybersecurity wet- en regelgeving zoals NIS2 en CRA zijn een feit. Maar hoe vertaal je deze naar een praktische en brede aanpak in je OT-domein? In onze workshop ligt de focus op hands-on activiteiten. Je gaat zelf aan de slag om netwerkswitches te hardenen volgens de IEC-62443 standaard\, waarmee je een stap dichterbij komt om te voldoen aan de Nederlandse Cyberbeveiligingswet (NIS2-richtlijn). \nErvaar de toegevoegde waarde van IEC-62443 securitylevel 2 (SL2) gecertificeerde netwerkoplossingen. Als system integrator en eindgebruiker heb je hiermee een veilige netwerkoplossing voor de gehele product lifecycle\, zoals vereist door de CRA. \nWorkshop details\nAan de slag met duidelijke instructies om je netwerkswitches te hardenen. De focus ligt op de IEC-62443 standaard en de verschillende securitylevels. Dit zorgt voor een goed lifecycle management binnen je OT-domein. \nMeld je aan voor onze workshop. Zet samen met ons de volgende stap om te voldoen aan de NIS2 eisen. \nWaarom je dit niet wilt missen? \n\nPraktische vaardigheden: Leer hoe je IEC-62443 securitylevels vertaalt naar switch- en netwerkconfiguratie.\nNetwerkoptimalisatie: Ontdek hoe je door zonering (segmenteren) je netwerk kunt optimaliseren.\n\nWaarom deelnemen aan deze workshop? \n\nGebruik de IEC-62443 standaard om te voldoen aan de Nederlandse Cyberbeveiligingswet (NIS2-richtlijn)\nHands-on kennis die direct toepasbaar in je eigen omgeving\n\nVoor wie is deze workshop? \n\nOT-netwerk engineers/-beheerders\nOT-security engineers\nWerkvoorbereiders\nServicetechnici\nIedereen die geïnteresseerd is in OT-cybersecurity\n\nPraktische info\nWorkshop datums\n⬡ dinsdag 19 november 2024\n⬡ donderdag 23 januari 2025\n⬡ donderdag 6 februari 2025\n⬡ dinsdag 18 februari 2025 \nProgramma\n09:00u         Ontvangst\n09:30u         Workshop hardenen volgens IEC-62443\n                         ⬡ Intro\n                         ⬡ Tooling\n                           – Basisconfiguratie\n                           – Hardenen netwerkswitches\n                         ⬡ Zonering\n                         ⬡ Triple-A\n12:30u         Lunch \nTijdstip\n09:00 – 13:00 uur \nLocatie\nBij MODELEC in Ede \nGoed om te weten\nEr is een beperkt aantal plaatsen beschikbaar. De groepsgrootte is maximaal 8 deelnemers per sessie. Zo is er voldoende aandacht voor iedereen. \nMeld je snel aan en zet samen met ons de volgende stap om te voldoen aan de NIS2 eisen! \n 
URL:https://industrievandaag.nl/event/%e2%9c%85-iec-62443-netwerkswitch-hardening-operationele-veerkracht-door-verhoogde-cyberweerbaarheid/
LOCATION:Modelec\, Galvanistraat 38\, Ede\, 6716 AE\, Netherlands
CATEGORIES:Workshop
ORGANIZER;CN="MODELEC Data-Industrie":MAILTO:contact@modelec.nl
GEO:52.0284277;5.6263513
X-APPLE-STRUCTURED-LOCATION;VALUE=URI;X-ADDRESS=Modelec Galvanistraat 38 Ede 6716 AE Netherlands;X-APPLE-RADIUS=500;X-TITLE=Galvanistraat 38:geo:5.6263513,52.0284277
END:VEVENT
BEGIN:VEVENT
DTSTART;TZID=Europe/Amsterdam:20241127T090000
DTEND;TZID=Europe/Amsterdam:20241127T123000
DTSTAMP:20260425T145051
CREATED:20231112T151524Z
LAST-MODIFIED:20241231T133935Z
UID:10000970-1732698000-1732710600@industrievandaag.nl
SUMMARY:Roadmap naar een geslaagde beursdeelname
DESCRIPTION:Tijdens deze workshop helpen we je aan de hand van een duidelijke roadmap de deelname van jouw bedrijf aan een vakbeurs beter voor te bereiden\, uit te voeren en na te bewerken. Cruciaal voor een geslaagde beursdeelname. Want die bestaat niet alleen uit een mooie stand en een paar gezellige beursdagen. \nDoel workshop\nJe krijgt meer inzicht in het belang van een goede voorbereiding en nabewerking van een beurs en wat dit voor de beursdagen zelf betekent. Aan de hand van een heldere roadmap ga je tijdens de workshop al aan de slag met: \n\n wat je met de beurs wilt bereiken en wat je daarvoor vooraf moet regelen;\n welke activiteit tijdens de beurs daarvoor van belang is;\n wat er nodig is om na afloop het succes van de beurs te verhogen.\n\nVoor wie bestemd?\nDeze workshop is relevant voor mensen die betrokken zijn binnen hun organisatie om een beursdeelname te organiseren of te coördineren. En meer willen halen uit hun volgende beursdeelname of van mening zijn dat er nog meer uit te halen valt. \nResultaat\nHet resultaat van de workshop zelf is een aandachtspuntenlijst op basis van de roadmap waaraan je de komende tijd gaat werken. Je werkt dus aan een concreet stappenplan om een beter resultaat tijdens een volgende vakbeurs te behalen. \nNa afloop van de workshop maken we afspraken voor online individuele overlegmomenten om de voortgang te bespreken. Ook zullen nog enkele gezamenlijke online momenten plaatsvinden om ervaringen te delen en elkaar te inspireren. \nPrijs & facturatie\nDeelname aan deze workshop + online begeleiding bedraagt € 789\,00 (excl. 21% btw per persoon). Je ontvangt de factuur na inschrijving. Deze dient vooraf aan de workshop te worden voldaan. \nDeelnemers aan het eXplain of eXpand programma van STEM Industrial Marketing Community profiteren en betalen slechts € 689\,00 exclusief 21% btw. \nSpeciaal secretaressedag aaanbod\nDonderdag 18 april 2024 is het Secretaressedag. We weten dat in technische B2B bedrijven de organisatie van deelname aan een beurs/tentoonstelling tot het takenpakket van het secretariaat behoort. \nDan is deze workshop zeker de moeite waard om te volgen om nog meer rendement te halen uit de volgende beursdeelname van jouw bedrijf. En vanwege secretaressedag is dat nu extra voordelig. Want iedereen die aantoonbaar vanuit een secretariële functie de deelname van een bedrijf. \norganiseert aan beurzen/tentoonstellingen bieden we nu  een korting € 100\,– aan op het normale tarief. \nDeze korting geldt ook op het community tarief voor eXplain/eXpand deelnemers. \nVermeld bij je aanmelding de code SCRD2024RBD \n  \nMeld je hier aan voor deelname aan deze workshop
URL:https://industrievandaag.nl/event/roadmap-naar-een-geslaagde-beursdeelname-workshop/
CATEGORIES:Workshop
ORGANIZER;CN="STEM Industrial Marketing Community":MAILTO:contact@stem-imc.com
END:VEVENT
END:VCALENDAR