BEGIN:VCALENDAR
VERSION:2.0
PRODID:-//Industrievandaag - ECPv6.15.18//NONSGML v1.0//EN
CALSCALE:GREGORIAN
METHOD:PUBLISH
X-WR-CALNAME:Industrievandaag
X-ORIGINAL-URL:https://industrievandaag.nl
X-WR-CALDESC:Evenementen voor Industrievandaag
REFRESH-INTERVAL;VALUE=DURATION:PT1H
X-Robots-Tag:noindex
X-PUBLISHED-TTL:PT1H
BEGIN:VTIMEZONE
TZID:Europe/Amsterdam
BEGIN:DAYLIGHT
TZOFFSETFROM:+0100
TZOFFSETTO:+0200
TZNAME:CEST
DTSTART:20230326T010000
END:DAYLIGHT
BEGIN:STANDARD
TZOFFSETFROM:+0200
TZOFFSETTO:+0100
TZNAME:CET
DTSTART:20231029T010000
END:STANDARD
BEGIN:DAYLIGHT
TZOFFSETFROM:+0100
TZOFFSETTO:+0200
TZNAME:CEST
DTSTART:20240331T010000
END:DAYLIGHT
BEGIN:STANDARD
TZOFFSETFROM:+0200
TZOFFSETTO:+0100
TZNAME:CET
DTSTART:20241027T010000
END:STANDARD
BEGIN:DAYLIGHT
TZOFFSETFROM:+0100
TZOFFSETTO:+0200
TZNAME:CEST
DTSTART:20250330T010000
END:DAYLIGHT
BEGIN:STANDARD
TZOFFSETFROM:+0200
TZOFFSETTO:+0100
TZNAME:CET
DTSTART:20251026T010000
END:STANDARD
END:VTIMEZONE
BEGIN:VEVENT
DTSTART;TZID=Europe/Amsterdam:20241015T090000
DTEND;TZID=Europe/Amsterdam:20241015T160000
DTSTAMP:20260425T163105
CREATED:20240928T124200Z
LAST-MODIFIED:20241011T051459Z
UID:10001146-1728982800-1729008000@industrievandaag.nl
SUMMARY:Leer betere netwerken te ontwikkelen en sneller problemen in het netwerk op te lossen
DESCRIPTION:The communication function in industrial automation systems changed from a minor function to a key function the last decades. Availability\, scalability\, maintainability etc. are new requirements because of the change to key function. New functions means new and usually more technologies. But also the industrial automation depends more and more on the network because of this change. \nOne of the drawbacks of the growing communication function is that industrial automation systems are increasingly more open. This openness means a higher risks of a cyber-attack and because of that a higher need for cyber security. \nEngineers\, technicians that are responsible for industrial automation systems needs more insight in the network communication. Otherwise it is hard to design and/or maintain an industrial automation system. \nContent\n\nIntroduction of industrial network technology\nEthernet technology\nTransmission media\, access methods\, MAC addressing\, Ethernet message format\, switching mechanisms\nNetwork infrastructure devices hub\, switch\, router and gateway\nInternet Protocol (IP)\, IP Adressierung\, IP Subnetting\, Routing\, TCP\, DNS\nNetwork protocols ARP\, ICMP\, BOOTP\, DHCP\, SNMP\, (R)STP\, VLAN\nNetwork diagnostics with Wireshark\nDangers in industrial networks\nSecurity Concepts: Protection of end devices and networks; User-dependent network access; Encrypted communication in unprotected networks\nNetwork Address Translation (NAT): IP-Masquerading; Port Forwarding; 1:1 NAT\nFirewall: packet filter based on Mac addresses\, IP addresses and port numbers; Stateful Package Inspection; Protection against denial-of-service\nattacks; Individual firewall rules for different users\nOperating modes; Stealth; Router\nRemote access via HTTPS\nRecovery procedure; support tools\nVirtual Private Network (VPN)\nSecured communication\nAuthentication via pre-shared key (PSK) and X.509v3 certificates\nPractical exercises\n\nFor whom?\nThis practical training is for engineers and technicians that are responsible for the design and maintenance of industrial network communication systems. Exercises are an important part of this training. \nThis is the benefit\nThe engineers and technicians are be able to develop better designs and solve faster problems in the network. This results in a higher availability of the system. \n \nClick here for more information \n 
URL:https://industrievandaag.nl/event/leer-betere-netwerken-te-ontwikkelen-en-sneller-problemen-in-het-netwerk-op-te-lossen-2/
LOCATION:Phoenix Contact\, Technologie- en Trainingscentrum Zevenaar\, Hengelder 56\, Zevenaar\, 6902 PA\, Nederland
CATEGORIES:Workshop
ORGANIZER;CN="Phoenix Contact":MAILTO:info@phoenixcontact.nl
GEO:51.9273187;6.1042486
X-APPLE-STRUCTURED-LOCATION;VALUE=URI;X-ADDRESS=Phoenix Contact Technologie- en Trainingscentrum Zevenaar Hengelder 56 Zevenaar 6902 PA Nederland;X-APPLE-RADIUS=500;X-TITLE=Hengelder 56:geo:6.1042486,51.9273187
END:VEVENT
END:VCALENDAR