BEGIN:VCALENDAR
VERSION:2.0
PRODID:-//Industrievandaag - ECPv6.15.18//NONSGML v1.0//EN
CALSCALE:GREGORIAN
METHOD:PUBLISH
X-WR-CALNAME:Industrievandaag
X-ORIGINAL-URL:https://industrievandaag.nl
X-WR-CALDESC:Evenementen voor Industrievandaag
REFRESH-INTERVAL;VALUE=DURATION:PT1H
X-Robots-Tag:noindex
X-PUBLISHED-TTL:PT1H
BEGIN:VTIMEZONE
TZID:Europe/Amsterdam
BEGIN:DAYLIGHT
TZOFFSETFROM:+0100
TZOFFSETTO:+0200
TZNAME:CEST
DTSTART:20250330T010000
END:DAYLIGHT
BEGIN:STANDARD
TZOFFSETFROM:+0200
TZOFFSETTO:+0100
TZNAME:CET
DTSTART:20251026T010000
END:STANDARD
BEGIN:DAYLIGHT
TZOFFSETFROM:+0100
TZOFFSETTO:+0200
TZNAME:CEST
DTSTART:20260329T010000
END:DAYLIGHT
BEGIN:STANDARD
TZOFFSETFROM:+0200
TZOFFSETTO:+0100
TZNAME:CET
DTSTART:20261025T010000
END:STANDARD
BEGIN:DAYLIGHT
TZOFFSETFROM:+0100
TZOFFSETTO:+0200
TZNAME:CEST
DTSTART:20270328T010000
END:DAYLIGHT
BEGIN:STANDARD
TZOFFSETFROM:+0200
TZOFFSETTO:+0100
TZNAME:CET
DTSTART:20271031T010000
END:STANDARD
END:VTIMEZONE
BEGIN:VEVENT
DTSTART;TZID=Europe/Amsterdam:20260512T133000
DTEND;TZID=Europe/Amsterdam:20260512T150000
DTSTAMP:20260419T224536
CREATED:20251211T084146Z
LAST-MODIFIED:20260112T101355Z
UID:10001635-1778592600-1778598000@industrievandaag.nl
SUMMARY:Industriële Netwerkarchitectuur: ontdek de basisbegrippen
DESCRIPTION:Doelgroep\n\nHardware engineers\nSoftware engineers\nManagers\nAdviseurs\nInstallateurs\nMonteurs\nAndere belanghebbenden in een productiebedrijf of system integrator\n\n\n\n\n\n\n\nToelichting\nVeranderende omgeving\nProductiebedrijven willen zich aanpassen aan de veranderende omgeving. Industriële netwerken vormen tegenwoordig de ruggengraat van deze productiebedrijven en spelen dus een rol in deze gewenste verandering. \nEen platte netwerkarchitectuur geeft veel flexibiliteit en past zich makkelijk aan maar is in conflict met andere eisen zoals de prestatie\, veiligheid\, schaalbaarheid\, betrouwbaarheid en andere constructie-eisen. Een noodzakelijke ad-hoc verandering in een plat netwerk is dan ook zo doorgevoerd\, maar kan ongemerkt resulteren in een negatief effect op de kwaliteit/prestatie. \nModulaire netwerkarchitectuur\nEen modulaire netwerkarchitectuur daarin tegen is onderwerp van een ontwerpproces en implementeert de gestelde ontwerpprincipes. Daardoor borgt een netwerkarchitectuur het evenwicht tussen alle constructie-eisen. Een aangebrachte verandering zal moeten voldoen aan de ontwerpregels en daardoor blijft het netwerken presteren tijdens de volledige levenscyclus.\nDe industriële omgeving en applicaties stellen eisen die verschillen van een IT-omgeving en dit heeft effect op de industriële netwerkarchitectuur. \n\n\n\n\n\n\nInhoud\nOnderstaande onderwerpen komen aan bod: \n\nIntroductie industriële datacommunicatie\nBasisprincipes netwerken\n\nCircuit-based\nPacket-based\n\n\nIntroductie op modulaire/gelaagde netwerken\n\nTCP/IP\nEthernet\n\n\nOSI-model en compatibiliteit\nIndustriële netwerkarchitecturen\n\nIndustriële omgeving\nConstructie-eisen\nOverzicht netwerktechnologieën\n\n\n\n\n\n\n\n\n\nErkenning\nDe deelnemer ontvangt een Verklaring van deelname. \n  \nKlik hier voor meer informatie \n 
URL:https://industrievandaag.nl/event/webinar-industriele-netwerkarchitectuur/2026-05-12/
LOCATION:Online event
CATEGORIES:Webinar
ORGANIZER;CN="Phoenix Contact":MAILTO:info@phoenixcontact.nl
END:VEVENT
BEGIN:VEVENT
DTSTART;TZID=Europe/Amsterdam:20260528T090000
DTEND;TZID=Europe/Amsterdam:20260528T100000
DTSTAMP:20260419T224536
CREATED:20251211T083657Z
LAST-MODIFIED:20260109T130446Z
UID:10001593-1779958800-1779962400@industrievandaag.nl
SUMMARY:Wi-Fi 6: de nieuwste technieken betekenen nieuwe kansen
DESCRIPTION:Doelgroep\nWi-Fi 6 is een interessant webinar voor iedereen die op de industriële werkvloer te maken krijgt met vragen over draadloze oplossingen. \n\n\n\n\n\n\nToelichting\nZitten communicatiekabels u soms letterlijk in de weg en wilt u ze graag verwijderen? U bent in goed gezelschap\, want Steve Jobs was ze ook zat. Hij wilde geen kabels meer zien bij een computer. Om deze reden stond hij aan de basis van Wi-Fi. \nDe wereld ziet er anders uit dan bij de introductie van Wi-Fi. Inmiddels komt de zesde generatie Wi-Fi eraan. Hogere computerdichtheid\, technologieën die elkaar verstoren\, verschillende soorten computers\, meer bandbreedte en lagere vertraging vormen uitdagingen die Wi-Fi 6 voor ons gaat oplossen. Deze nieuwe generatie maakt gebruik van de 802.11ax standaard. \nDraadloze netwerken zijn ook niet meer weg te denken uit de industriële automatisering – denk hierbij aan AGV’s en tablets. Wi-Fi 6 betekent nieuwe kansen en mogelijkheden voor uw automatiseringsoplossing. \n\n\n\n\n\n\nInhoud\nNieuwe behoeftes en gestelde eisen leiden tot de introductie van nieuwe technieken. Deze optimaal geïntegreerde technieken maken Wi-Fi 6 mogelijk. In dit webinar komen de belangrijkste nieuwe technieken aan de orde die Wi-Fi 6 onderscheid van de eerdere generaties. \nOnderstaande onderwerpen komen aan bod:\n• Orthogonal Frequency Division Multiple Access (OFDMA); deze techniek creëert Wi-Fi fundementaal door subkanalen te creëren\, waardoor meerdere gebruikers gelijktijdig toegang hebben tot het netwerk.\n• Multiple Multiple In/Multiple Out (Multiple MIMO); deze techniek breidt het aantal antennes uit\, waardoor een Access Point (AP) gelijktijdig kan communiceren met meerdere deelnemers.\n• BSS Coloring; BSS staat voor Basic Service Set en deze techniek verbetert de prestatie van Wi-Fi in gebieden met een hoge kanaaldichtheid. \n\n\n\n\n\n\nErkenning\nDe deelnemer ontvangt een Verklaring van deelname. \n  \nKlik hier voor meer informatie \n 
URL:https://industrievandaag.nl/event/webinar-wi-fi-6-de-nieuwe-standaard/
LOCATION:Online event
CATEGORIES:Webinar
ORGANIZER;CN="Phoenix Contact":MAILTO:info@phoenixcontact.nl
END:VEVENT
BEGIN:VEVENT
DTSTART;TZID=Europe/Amsterdam:20260619T091500
DTEND;TZID=Europe/Amsterdam:20260619T094500
DTSTAMP:20260419T224536
CREATED:20251128T121919Z
LAST-MODIFIED:20251128T121919Z
UID:10001536-1781860500-1781862300@industrievandaag.nl
SUMMARY:Electrical measurements on machines: testing and safe operation in compliance with standards
DESCRIPTION:Take part in our webinar to find out more about which electrical measurements are required before setup in accordance with EN 60204 and how to carry out regular inspections correctly. We’ll also take you through how to avoid faults by constructing the control cabinet properly and how to improve long-term reliability. \nThere are no requirements for participation.\nParticipation in our webinars is free of charge. \nMore information
URL:https://industrievandaag.nl/event/electrical-measurements-on-machines-testing-and-safe-operation-in-compliance-with-standards/
LOCATION:Online event
CATEGORIES:Webinar
ORGANIZER;CN="EUCHNER":MAILTO:info@euchner.nl
END:VEVENT
BEGIN:VEVENT
DTSTART;TZID=Europe/Amsterdam:20260717T091500
DTEND;TZID=Europe/Amsterdam:20260717T094500
DTSTAMP:20260419T224536
CREATED:20251128T122036Z
LAST-MODIFIED:20251128T122036Z
UID:10001537-1784279700-1784281500@industrievandaag.nl
SUMMARY:Safe remote access to machines: minimizing risks and protecting systems
DESCRIPTION:Industrial security is more important than ever\, especially when it comes to remote access to machines and systems. Our webinar explains how to identify and prevent safety gaps in remote access and sets out the crucial aspects of remote machine access and how you can protect your systems for the long term. \nThere are no requirements for participation.\nParticipation in our webinars is free of charge. \nMore information
URL:https://industrievandaag.nl/event/safe-remote-access-to-machines-minimizing-risks-and-protecting-systems/
LOCATION:Online event
CATEGORIES:Webinar
ORGANIZER;CN="EUCHNER":MAILTO:info@euchner.nl
END:VEVENT
END:VCALENDAR