BEGIN:VCALENDAR
VERSION:2.0
PRODID:-//Industrievandaag - ECPv6.15.18//NONSGML v1.0//EN
CALSCALE:GREGORIAN
METHOD:PUBLISH
X-ORIGINAL-URL:https://industrievandaag.nl
X-WR-CALDESC:Evenementen voor Industrievandaag
REFRESH-INTERVAL;VALUE=DURATION:PT1H
X-Robots-Tag:noindex
X-PUBLISHED-TTL:PT1H
BEGIN:VTIMEZONE
TZID:Europe/Amsterdam
BEGIN:DAYLIGHT
TZOFFSETFROM:+0100
TZOFFSETTO:+0200
TZNAME:CEST
DTSTART:20230326T010000
END:DAYLIGHT
BEGIN:STANDARD
TZOFFSETFROM:+0200
TZOFFSETTO:+0100
TZNAME:CET
DTSTART:20231029T010000
END:STANDARD
BEGIN:DAYLIGHT
TZOFFSETFROM:+0100
TZOFFSETTO:+0200
TZNAME:CEST
DTSTART:20240331T010000
END:DAYLIGHT
BEGIN:STANDARD
TZOFFSETFROM:+0200
TZOFFSETTO:+0100
TZNAME:CET
DTSTART:20241027T010000
END:STANDARD
BEGIN:DAYLIGHT
TZOFFSETFROM:+0100
TZOFFSETTO:+0200
TZNAME:CEST
DTSTART:20250330T010000
END:DAYLIGHT
BEGIN:STANDARD
TZOFFSETFROM:+0200
TZOFFSETTO:+0100
TZNAME:CET
DTSTART:20251026T010000
END:STANDARD
BEGIN:DAYLIGHT
TZOFFSETFROM:+0100
TZOFFSETTO:+0200
TZNAME:CEST
DTSTART:20260329T010000
END:DAYLIGHT
BEGIN:STANDARD
TZOFFSETFROM:+0200
TZOFFSETTO:+0100
TZNAME:CET
DTSTART:20261025T010000
END:STANDARD
END:VTIMEZONE
BEGIN:VEVENT
DTSTART;TZID=Europe/Amsterdam:20250130T100000
DTEND;TZID=Europe/Amsterdam:20250130T110000
DTSTAMP:20260419T184458
CREATED:20250113T110314Z
LAST-MODIFIED:20250129T064532Z
UID:10001263-1738231200-1738234800@industrievandaag.nl
SUMMARY:Ontdek ontbranding van batterijen op tijd
DESCRIPTION:Het gebruik van batterijtechnologie brengt risico’s met zich mee. Accubranden en -explosies komen helaas steeds vaker voor. En voor veilige opslag van elektriciteit in energieopslagsystemen (EOS) en de opslag van lithiumhoudende energiedragers gelden de PGS 37 1 en 2-richtlijnen die stellen dat zowel opslaglocaties als betrokken medewerkers aan belangrijke veiligheidseisen moeten voldoen. Gelukkig is het nu met behulp van gasdetectie mogelijk ontbranding van batterijen een stap voor te zijn én bovendien te voldoen aan de PGS-eisen. \nMet de Molecular Property Spectrometer-sensortechnologie (MPS) wordt thermische runaway op efficiënte en betrouwbare wijze voorkomen. Hoe dat werkt leggen gasdetectiespecialisten Peter Adema (Hitma) en Edward Heitlager (Crowcon Detection Instruments) donderdag 30 januari a.s. vanaf 10:00 uur uit tijdens een gratis webinar. \nNu ook beveiliging in niet ATEX-omgevingen\nMeer dan 100 bedrijven volgden vorig jaar al het Hitma-webinar over het beveiligen van oplaadbare lithium-ion-accu’s. \nSinds kort is de MPS-sensortechnologie ook geschikt voor niet ATEX-omgevingen. Daarom organiseert Hitma donderdag 30 januari a.s. om 10:00 uur dit webinar ook voor bedrijven waar een ATEX-certificering niet noodzakelijk is. Deelnemers komen binnen 60 minuten te weten hoe de innovatieve MPS-sensor vroegtijdige detectie mogelijk maakt\, waardoor potentiële gevaren worden geminimaliseerd. \nAgenda webinar 30 januari van 10:00 tot 11:00 uur \n–          Introductie \n–          Uitleg over werking Lio-ion-accu’s en thermal runaway (ook in niet ATEX-omgevingen) \n–          Thermal runaway: hoe te detecteren? \n–          Vragen en afsluiting \nAanmelden voor gratis webinar\nGeïnteresseerden die willen weten hoe ze batterijbranden een stap voor kunnen zijn door op tijd noodzakelijke maatregelen te nemen\, kunnen zich aanmelden via deze link. \nTijdens het webinar is er uiteraard gelegenheid om vragen te stellen. Ook worden er voorbeelden besproken\, zodat er een goed beeld ontstaat van de mogelijkheden van deze sensortechnologie. Het webinar is te volgen via computer\, tablet of telefoon. \nGratis e-book voor deelnemers\nDeelnemers ontvangen het gratis e-book ‘THE BATTERY BOOM The explosive rise of thermal runaway and how you can prevent it’ \nOver Hitma\nHitma is een technische handelsmaatschappij. Sinds 1926 biedt het bedrijf producten en service voor de procesindustrie\, farmacie\, olie- en gaswinning\, energiebedrijven\, high tech-sector\, ziekenhuizen en de installatiebranche. Bij Hitma werken technische specialisten die bedrijfsprocessen en knelpunten begrijpen en hiervoor maatoplossingen verzorgen.
URL:https://industrievandaag.nl/event/ontdek-ontbranding-van-batterijen-op-tijd/
LOCATION:Horizon Flevoland\, Adresgegevens volgen na aanmelding\, Lelystad\, Select a Country:
CATEGORIES:Webinar
ORGANIZER;CN="Hitma":MAILTO:info@hitma.nl
END:VEVENT
BEGIN:VEVENT
DTSTART;TZID=Europe/Amsterdam:20241218T103000
DTEND;TZID=Europe/Amsterdam:20241218T120000
DTSTAMP:20260419T184458
CREATED:20241129T104838Z
LAST-MODIFIED:20241217T110440Z
UID:10001206-1734517800-1734523200@industrievandaag.nl
SUMMARY:Oplossingen voor energie- en wateruitdagingen in het transitieproces
DESCRIPTION:De wereld verandert snel door klimaatverandering en geopolitieke ontwikkelingen. Dit vraagt om grote aanpassingen in hoe organisaties omgaan met energie\, water en grondstoffen. Verduurzaming en besparing zijn essentieel\, maar de oplossingen en realisatie zijn vaak complex. \nAls VEMW-lid weet u hoe belangrijk het is om vooruit te kijken en de noodzakelijke stappen op het juiste moment te zetten. Daarom nodigen we u graag uit voor ons inspirerende webinar! Samen verkennen we de uitdagingen én kansen van verduurzaming en bespreken we hoe we de transitie naar een groene economie kunnen versnellen. \nMet inspirerende presentaties en praktijkvoorbeelden van Yara\, FrieslandCampina en Nobian\, krijgt u waardevolle inzichten die u kunnen helpen in uw eigen transitieproces.
URL:https://industrievandaag.nl/event/oplossingen-voor-energie-en-wateruitdagingen-in-het-transitieproces/
LOCATION:Horizon Flevoland\, Adresgegevens volgen na aanmelding\, Lelystad\, Select a Country:
CATEGORIES:Webinar
ORGANIZER;CN="VEMW":MAILTO:tr@vemw.nl
END:VEVENT
BEGIN:VEVENT
DTSTART;TZID=Europe/Amsterdam:20241128T110000
DTEND;TZID=Europe/Amsterdam:20241128T120000
DTSTAMP:20260419T184458
CREATED:20241114T103331Z
LAST-MODIFIED:20241128T104811Z
UID:10001184-1732791600-1732795200@industrievandaag.nl
SUMMARY:✅ Hoe ontsluit en integreer je data in de maakindustrie\, handel en logistiek?
DESCRIPTION:Data in de maakindustrie\, handel en logistiek staat nog in de kinderschoenen. Veel fabrieken draaien nog op 10 tot 30 jaar oude machines zonder data-uitwisseling. Dit probleem speelt ook in transport en warehousing. Hoewel fabrieken zelfstandig werken\, is er meer inzicht nodig in machine-uitval\, rituitval en productiekwaliteit. Er is meer inzicht nodig in de hele supply chain. \nDit webinar gaat over data-driven manufacturing en logistics. Hoe verbeter je de productkwaliteit en verhoog je de winstgevendheid in de hele keten? \n𝐖𝐚𝐭 𝐥𝐞𝐞𝐫 𝐣𝐞 𝐢𝐧 𝐝𝐢𝐭 𝐰𝐞𝐛𝐢𝐧𝐚𝐫?\n• Hoe ontsluit en integreer je data?\n• Hoe breng je IT en OT samen?\n• Hoe stuur je beter op operationele performance? Wanneer moet je bijsturen? Hoe voorkom je uitval van operaties of productiebatches?\n• Hoe los je handmatige interfaces tussen machines en IT-systemen op\, ook in logistieke processen?\n• Hoe krijg je je productieplanning onder controle met Data Analytics & Machine learning? \n𝐖𝐞 𝐛𝐞𝐬𝐩𝐫𝐞𝐤𝐞𝐧 𝐩𝐫𝐚𝐤𝐭𝐢𝐣𝐤𝐯𝐨𝐨𝐫𝐛𝐞𝐞𝐥𝐝𝐞𝐧:\n• Euramax onthult hoe slimme data-integratie de kwaliteit versterkt: van machinegegevens tot gestabiliseerde parameters als temperatuur – een essentiële stap om statistische fouten te verminderen en betrouwbare relaties te ontdekken.\n• Met machine learning heeft Euramax productieplanning onder controle: alle business rules geïntegreerd\, zodat men nu nauwkeurig voorspelt wat er gaat gebeuren. \nOntdek hoe je met data direct meer controle en winstgevendheid in je hele keten bereikt.
URL:https://industrievandaag.nl/event/%e2%9c%85-hoe-ontsluit-en-integreer-je-data-in-de-maakindustrie-handel-en-logistiek/
CATEGORIES:Webinar
ORGANIZER;CN="Brimit":MAILTO:engage@brimit.nl
END:VEVENT
BEGIN:VEVENT
DTSTART;TZID=Europe/Amsterdam:20241128T100000
DTEND;TZID=Europe/Amsterdam:20241128T110000
DTSTAMP:20260419T184458
CREATED:20241005T044539Z
LAST-MODIFIED:20241128T104810Z
UID:10001177-1732788000-1732791600@industrievandaag.nl
SUMMARY:Bescherm je bedrijf: open sessie over cyberveiligheid in de maakindustrie
DESCRIPTION:In deze exclusieve roundtables wisselen MKB’ers uit de maakindustrie ervaringen uit over cyberdreigingen en succesvolle beveiligingsstrategieën. Leer van concullega’s\, deel inzichten en versterk jouw positie in de toeleveringsketen. In deze eerste sessie neemt Edwin van Kempen\, Commercieel Directeur van EuroSort\, het voortouw. \nLeer van een echte bedrijfscase\nWat gebeurt er echt bij een hack in de maakindustrie? Wat zijn industrie-specifieke cyberrisico’s\, en nog belangrijker: wat kan je er tegen doen? \nDeze exclusieve roundtables bieden een unieke setting om in een veilige omgeving openlijk te discussiëren over cyberproblemen. We zullen ingaan op ervaringen met ransomware aanvallen\, phishing\, verloren klanten door hacks\, en andere incidenten waarbij data op straat kwam te liggen. \nWaarom deelnemen?\n\n\nInzichten van experts: leer van toonaangevende professionals in cyberbeveiliging.\nErvaringen delen: hoor van collega-bedrijven wat hen is overkomen en hoe zij hebben gereageerd.\nPraktische tips: ontvang direct toepasbare adviezen om uw eigen beveiliging te versterken.\n\n\nPlanning\n\nWelkom en agenda\nIntroductie door Stef Liethoff van SBL Cyber Monitoring\nIntroductie Edwin van Kempen en Ton de Nijs van EuroSort\nIntroductierondje: wie ben je en waarom neem je deel aan deze interactieve sessie?\nEdwin en Ton vertellen over hoe EuroSort van cybersecurity een strategisch voordeel maakte\nGroepsdiscussie\n\nPraktische informatie\n\nDatum: Donderdag 28 november\nTijd: 10:00\nDuur: 60-75 minuten\nLocatie: Microsoft Teams\nSetting: Interactieve sessie
URL:https://industrievandaag.nl/event/bescherm-je-bedrijf-open-sessie-over-cyberveiligheid-in-de-maakindustrie/
LOCATION:Online event
CATEGORIES:Webinar
END:VEVENT
BEGIN:VEVENT
DTSTART;TZID=Europe/Amsterdam:20241016T001000
DTEND;TZID=Europe/Amsterdam:20241016T130000
DTSTAMP:20260419T184458
CREATED:20230519T074855Z
LAST-MODIFIED:20241015T051704Z
UID:10000811-1729037400-1729083600@industrievandaag.nl
SUMMARY:Neem de proef op de som: gratis proefcollege business development in B2B
DESCRIPTION:De rol van marketing\, sales\, innovatie en communicatie bij Business Development in technische B2B is een vak apart. Ben je werkzaam bij een OEM’er\, fabrikant\, componenten leverancier\, constructiebedrijf\, installateur of technische groothandel? Tijdens dit proefcollege krijg je een indruk van de gereedschappen die binnen een technische omgeving bijdragen aan het creëren van waarde. \nNeem de proef op de som en volg dit proefcollege!\n– 50 minuten\n– Online via Teams \nMeld je aan en maak kennis met de STEM opleiding Business Development in technische B2B.
URL:https://industrievandaag.nl/event/neem-de-proef-op-de-som-gratis-proefcollege-business-development-in-b2b/
LOCATION:Horizon Flevoland\, Adresgegevens volgen na aanmelding\, Lelystad\, Select a Country:
CATEGORIES:Webinar
ORGANIZER;CN="STEM Industrial Marketing Community":MAILTO:contact@stem-imc.com
END:VEVENT
BEGIN:VEVENT
DTSTART;TZID=Europe/Amsterdam:20241010T110000
DTEND;TZID=Europe/Amsterdam:20241010T120000
DTSTAMP:20260419T184458
CREATED:20240918T075413Z
LAST-MODIFIED:20241010T051510Z
UID:10001137-1728558000-1728561600@industrievandaag.nl
SUMMARY:Optimalisatie van persluchtsystemen
DESCRIPTION:Op donderdag 10 oktober vindt de Festo & ERIKS webinar “Optimalisatie van persluchtsystemen” plaats. Geïnteresseerden uit het bedrijfsleven in Nederland en België kunnen de webinar kosteloos bijwonen. Lucht- en pneumatiekexperts Lennard van Onselen (Festo) en Michel Pekel (ERIKS) praten de deelnemers bij over het realiseren van kostenbesparingen en de naleving van wettelijke verplichtingen om tot een optimalisatie van persluchtsystemen te komen. \nProgrammaoverzicht\n10 oktober 2024 om 11:00 uur \nDe volgende onderwerpen worden besproken tijdens de webinar: \n\nWaarom luchtlekkagemeting uitvoeren? Wat levert lekkagedetectie en optimalisatie van persluchtverbruik op?\nNaleving van wettelijke verplichtingen\nRapportage en analyse\nPraktijkvoorbeelden\nAdvies over toekomstige optimalisaties en duurzaamheid\n\nOver de sprekers\n\nLennard van Onselen\, Product Marketing Manager Air Supply – Festo. Lennard werkt 8 jaar bij Festo en heeft veel kennis van perslucht\, netware\, slangen & koppelingen en druk- & flow sensoren.\n\n\nMichel Pekel\, Application Engineer Pneumatiek – ERIKS. Met ruim 23 jaar ervaring is Michel de lucht- en pneumatiekexpert bij ERIKS. Michel weet alles van perslucht\, de kwaliteit en van de energiebesparingsplicht\, in diverse sectoren.\n\nAchtergrondinformatie Festo en ERIKS\nFesto is een gerenommeerd merk op het gebied van automatiserings- en sturingstechniek. ERIKS levert een breed scala aan industriële producten en services\, waaronder oplossingen voor luchtkwaliteit en besturingskastenbouw. Festo en ERIKS werken intensief samen om innovatieve en duurzame pneumatische componenten bij industriële bedrijven te implementeren. \nDoelgroep\nDe webinar “Optimalisatie van persluchtsystemen” richt zicht op de volgende marktsegmenten in Nederland en België: voedingsmiddelenindustrie\, farmaceutische industrie\, verpakkingsindustrie met een MRO- of OEM-behoefte. Interessant voor de functiegroepen: Inkoop\, Technische dienst\, Onderhoud\, HSEQ en Energiebeheer. \nMeer informatie\nDeelname is kosteloos. Bekijk het complete programma en de mogelijkheid tot inschrijven.
URL:https://industrievandaag.nl/event/optimalisatie-van-persluchtsystemen/
LOCATION:Horizon Flevoland\, Adresgegevens volgen na aanmelding\, Lelystad\, Select a Country:
CATEGORIES:Webinar
ORGANIZER;CN="ERIKS Nederland":MAILTO:georges.freijser@eriks.nl
END:VEVENT
END:VCALENDAR