BEGIN:VCALENDAR
VERSION:2.0
PRODID:-//Industrievandaag - ECPv6.15.18//NONSGML v1.0//EN
CALSCALE:GREGORIAN
METHOD:PUBLISH
X-ORIGINAL-URL:https://industrievandaag.nl
X-WR-CALDESC:Evenementen voor Industrievandaag
REFRESH-INTERVAL;VALUE=DURATION:PT1H
X-Robots-Tag:noindex
X-PUBLISHED-TTL:PT1H
BEGIN:VTIMEZONE
TZID:Europe/Amsterdam
BEGIN:DAYLIGHT
TZOFFSETFROM:+0100
TZOFFSETTO:+0200
TZNAME:CEST
DTSTART:20250330T010000
END:DAYLIGHT
BEGIN:STANDARD
TZOFFSETFROM:+0200
TZOFFSETTO:+0100
TZNAME:CET
DTSTART:20251026T010000
END:STANDARD
BEGIN:DAYLIGHT
TZOFFSETFROM:+0100
TZOFFSETTO:+0200
TZNAME:CEST
DTSTART:20260329T010000
END:DAYLIGHT
BEGIN:STANDARD
TZOFFSETFROM:+0200
TZOFFSETTO:+0100
TZNAME:CET
DTSTART:20261025T010000
END:STANDARD
BEGIN:DAYLIGHT
TZOFFSETFROM:+0100
TZOFFSETTO:+0200
TZNAME:CEST
DTSTART:20270328T010000
END:DAYLIGHT
BEGIN:STANDARD
TZOFFSETFROM:+0200
TZOFFSETTO:+0100
TZNAME:CET
DTSTART:20271031T010000
END:STANDARD
END:VTIMEZONE
BEGIN:VEVENT
DTSTART;TZID=Europe/Amsterdam:20260116T091500
DTEND;TZID=Europe/Amsterdam:20260116T094500
DTSTAMP:20260419T142730
CREATED:20251128T121111Z
LAST-MODIFIED:20251128T121111Z
UID:10001531-1768554900-1768556700@industrievandaag.nl
SUMMARY:Operating machines safely: requirements for operating modes and access rights
DESCRIPTION:Our webinar explains the definition of operating modes and the option of assigning specific roles to different groups of people depending on their duties and qualification. You can also find out more about how person-specific access rights not only prevent machine tampering but also increase efficiency and the safety of your employees. \nThere are no requirements for participation.\nParticipation in our webinars is free of charge. \nMore information
URL:https://industrievandaag.nl/event/operating-machines-safely-requirements-for-operating-modes-and-access-rights/
LOCATION:Online event
CATEGORIES:Webinar
ORGANIZER;CN="EUCHNER":MAILTO:info@euchner.nl
END:VEVENT
END:VCALENDAR