BEGIN:VCALENDAR
VERSION:2.0
PRODID:-//Industrievandaag - ECPv6.15.18//NONSGML v1.0//EN
CALSCALE:GREGORIAN
METHOD:PUBLISH
X-WR-CALNAME:Industrievandaag
X-ORIGINAL-URL:https://industrievandaag.nl
X-WR-CALDESC:Evenementen voor Industrievandaag
REFRESH-INTERVAL;VALUE=DURATION:PT1H
X-Robots-Tag:noindex
X-PUBLISHED-TTL:PT1H
BEGIN:VTIMEZONE
TZID:Europe/Amsterdam
BEGIN:DAYLIGHT
TZOFFSETFROM:+0100
TZOFFSETTO:+0200
TZNAME:CEST
DTSTART:20240331T010000
END:DAYLIGHT
BEGIN:STANDARD
TZOFFSETFROM:+0200
TZOFFSETTO:+0100
TZNAME:CET
DTSTART:20241027T010000
END:STANDARD
BEGIN:DAYLIGHT
TZOFFSETFROM:+0100
TZOFFSETTO:+0200
TZNAME:CEST
DTSTART:20250330T010000
END:DAYLIGHT
BEGIN:STANDARD
TZOFFSETFROM:+0200
TZOFFSETTO:+0100
TZNAME:CET
DTSTART:20251026T010000
END:STANDARD
BEGIN:DAYLIGHT
TZOFFSETFROM:+0100
TZOFFSETTO:+0200
TZNAME:CEST
DTSTART:20260329T010000
END:DAYLIGHT
BEGIN:STANDARD
TZOFFSETFROM:+0200
TZOFFSETTO:+0100
TZNAME:CET
DTSTART:20261025T010000
END:STANDARD
END:VTIMEZONE
BEGIN:VEVENT
DTSTART;TZID=Europe/Amsterdam:20251105T090000
DTEND;TZID=Europe/Amsterdam:20251105T100000
DTSTAMP:20260419T174631
CREATED:20251211T084554Z
LAST-MODIFIED:20251211T091058Z
UID:10001595-1762333200-1762336800@industrievandaag.nl
SUMMARY:Draadloze netwerken in de industrie: ontdek draadloze technieken
DESCRIPTION:Doelgroep\nEen interessant webinar voor iedereen die draadloze technieken wil gaan gebruiken binnen de industriële automatisering. \n\n\n\n\n\n\nToelichting\nIn de industrie bestaan uiteenlopende toepassingsgebieden voor draadloze technieken. Van de overdracht van een eenvoudige sensorwaarde tot en met een hoog performant draadloos netwerk met honderden deelnemers.\nPhoenix Contact biedt producten en oplossingen voor verschillende licentievrije en gratis te gebruiken draadloze technieken\, waarmee vrijwel alle industriële toepassingsgebieden kunnen worden afgedekt. \n\n\n\n\n\n\nInhoud\nTijdens dit webinar maakt u kennis met de kenmerken van Bluetooth\, Wireless LAN en Trusted Wireless. \nOnderstaande onderwerpen komen aan bod:\n• Bereik\n• Topologie\n• Update-tijd\n• Co-existentie\n• Robuustheid tegenover storingen \n\n\n\n\n\n\nErkenning\nDe deelnemer ontvangt een Verklaring van deelname. \n  \nKlik hier voor meer informatie \n 
URL:https://industrievandaag.nl/event/webinar-draadloze-netwerken-in-de-industrie/
LOCATION:Online event
CATEGORIES:Webinar
ORGANIZER;CN="Phoenix Contact":MAILTO:info@phoenixcontact.nl
END:VEVENT
BEGIN:VEVENT
DTSTART;TZID=Europe/Amsterdam:20251126T100000
DTEND;TZID=Europe/Amsterdam:20251126T150000
DTSTAMP:20260419T174631
CREATED:20251024T113159Z
LAST-MODIFIED:20251024T113159Z
UID:10001524-1764151200-1764169200@industrievandaag.nl
SUMMARY:Engineering Webinar SAFETY
DESCRIPTION:Het evenement waar u praktische antwoorden krijgt op al uw vragen over machineveiligheid! Deze editie heeft als thema: ‘Aftellen naar de nieuwe Machineverordening!’ \nGratis webinar onder andere over de aankomende Europese Machineverordening. Tijdens deze sessies praten experts u bij over de impact van de nieuwe regels en hoe u zich hierop kunt voorbereiden. \nProgramma Webinar\n10.00 uur – Opening door Robin Zander\, hoofdredacteur / moderator.\n10.05 uur – Industrial Security -> Mark Luchs\, Industrial Security Consultant bij Pilz\n11.00 uur – Gerald van Engeland\, Senior consultant en trainer bij Kader Technical Safety\n11.55 uur – Pauzeblok met bedrijfsfilmpjes\n13.00 uur – Ruben Palsgraaf\, Sales engineer bij Bihl+Wiedemann\n13.55 uur – Paul Hoogerkamp\, Eigenaar MECID\n14.50 uur – Afsluiting en evaluatie door Robin Zander\, hoofdredacteur/moderator \nDoelgroep Webinar\n-Machinefabrikanten/-bouwers\n-Machineparkbeheerders\n-Arbo-\, milieu- en veiligheidsmanagers en -technici\n-Ontwerpers en constructeurs\n-Projectmanagers\n-Technisch managers\n-Kwaliteitsfunctionarissen\n-Installatiebedrijven\n-Onderhouds- en servicemanagers en -technici\n-Werktuigbouwkundigen en elektrotechnici\n-Gebruikers \nMeer informatie
URL:https://industrievandaag.nl/event/engineering-webinar-safety/
LOCATION:Online event
CATEGORIES:Webinar
END:VEVENT
END:VCALENDAR