BEGIN:VCALENDAR
VERSION:2.0
PRODID:-//Industrievandaag - ECPv6.15.18//NONSGML v1.0//EN
CALSCALE:GREGORIAN
METHOD:PUBLISH
X-ORIGINAL-URL:https://industrievandaag.nl
X-WR-CALDESC:Evenementen voor Industrievandaag
REFRESH-INTERVAL;VALUE=DURATION:PT1H
X-Robots-Tag:noindex
X-PUBLISHED-TTL:PT1H
BEGIN:VTIMEZONE
TZID:Europe/Amsterdam
BEGIN:DAYLIGHT
TZOFFSETFROM:+0100
TZOFFSETTO:+0200
TZNAME:CEST
DTSTART:20240331T010000
END:DAYLIGHT
BEGIN:STANDARD
TZOFFSETFROM:+0200
TZOFFSETTO:+0100
TZNAME:CET
DTSTART:20241027T010000
END:STANDARD
BEGIN:DAYLIGHT
TZOFFSETFROM:+0100
TZOFFSETTO:+0200
TZNAME:CEST
DTSTART:20250330T010000
END:DAYLIGHT
BEGIN:STANDARD
TZOFFSETFROM:+0200
TZOFFSETTO:+0100
TZNAME:CET
DTSTART:20251026T010000
END:STANDARD
BEGIN:DAYLIGHT
TZOFFSETFROM:+0100
TZOFFSETTO:+0200
TZNAME:CEST
DTSTART:20260329T010000
END:DAYLIGHT
BEGIN:STANDARD
TZOFFSETFROM:+0200
TZOFFSETTO:+0100
TZNAME:CET
DTSTART:20261025T010000
END:STANDARD
END:VTIMEZONE
BEGIN:VEVENT
DTSTART;TZID=Europe/Amsterdam:20250218T093000
DTEND;TZID=Europe/Amsterdam:20250220T170000
DTSTAMP:20260422T125106
CREATED:20250114T064620Z
LAST-MODIFIED:20250129T064550Z
UID:10001295-1739871000-1740070800@industrievandaag.nl
SUMMARY:XPONENTIAL Europe
DESCRIPTION:XPONENTIAL Europe 2025\, taking place from February 18 to 20 in Düsseldorf\, is Europe’s new flagship event for autonomous systems\, autonomous mobility and robotics. Companies from across the globe—ranging from industry leaders to innovative start-ups—will showcase cutting-edge technologies in the fields of autonomous mobility\, robotics and artificial intelligence. From autonomous navigation in the air\, on land\, at sea\, or even in space\, XPONENTIAL Europe will cover the entire value chain of uncrewed systems. A particular highlight is the unveiling of the latest advancements\, such as the MIRA car\, which autonomously navigates the streets of Düsseldorf. The event provides a unique platform for knowledge exchange\, networking\, and showcasing groundbreaking technologies that will shape the future of autonomous mobility.
URL:https://industrievandaag.nl/event/xponential-europe/
LOCATION:Messe Düsseldorf\, Düsseldorf\, Duitsland
CATEGORIES:Vakbeurs
END:VEVENT
BEGIN:VEVENT
DTSTART;TZID=Europe/Amsterdam:20250219T090000
DTEND;TZID=Europe/Amsterdam:20250220T170000
DTSTAMP:20260422T125106
CREATED:20230423T125034Z
LAST-MODIFIED:20250129T064603Z
UID:10000766-1739955600-1740070800@industrievandaag.nl
SUMMARY:Maintenance Dortmund
DESCRIPTION:maintenance in Dortmund is the leading business platform for maintenance. It is an established stage for innovations and trends and at the same time a top-class information centre for the entire industry. With its extensive range of products and services\, maintenance impresses companies and experts from the maintenance sector as well as users from all relevant branches of industry. The entire maintenance industry meets here every year.
URL:https://industrievandaag.nl/event/maintenance-dortmund/
LOCATION:Messe Dortmund\, Rheinlanddamm 200\, Dortmund\, 44139\, Germany
CATEGORIES:Vakbeurs
ORGANIZER;CN="Easyfairs Deutschland GmbH":MAILTO:deutschland@easyfairs.com
GEO:51.4964515;7.4568333
X-APPLE-STRUCTURED-LOCATION;VALUE=URI;X-ADDRESS=Messe Dortmund Rheinlanddamm 200 Dortmund 44139 Germany;X-APPLE-RADIUS=500;X-TITLE=Rheinlanddamm 200:geo:7.4568333,51.4964515
END:VEVENT
BEGIN:VEVENT
DTSTART;TZID=Europe/Amsterdam:20250219T090000
DTEND;TZID=Europe/Amsterdam:20250220T170000
DTSTAMP:20260422T125106
CREATED:20231216T153729Z
LAST-MODIFIED:20250129T064603Z
UID:10001003-1739955600-1740070800@industrievandaag.nl
SUMMARY:Pumps & Valves Dortmund
DESCRIPTION:Practical and solution-oriented: At PUMPS & VALVES Dortmund you will receive technologies and solutions for your industrial gases\, solids and liquids. Let our exhibitors advise you individually. Whether you are looking for proven solutions or the latest technologies: from industrial pumps and fittings to control valves\, sealing systems and much more\, you will find a comprehensive range of central components for industrial process technology on site. \nThe diverse range is supplemented by the combination with the SOLIDS and RECYCLING-TECHNIK trade fairs. Here\, the focus is on technologies for material processing\, handling\, storage and transport of fine- to coarse-grained materials\, as well as recycling and proper disposal.
URL:https://industrievandaag.nl/event/pumps-valves-dortmund/
LOCATION:Messe Dortmund\, Rheinlanddamm 200\, Dortmund\, 44139\, Germany
CATEGORIES:Vakbeurs
ORGANIZER;CN="Easyfairs Deutschland GmbH":MAILTO:deutschland@easyfairs.com
GEO:51.4964515;7.4568333
X-APPLE-STRUCTURED-LOCATION;VALUE=URI;X-ADDRESS=Messe Dortmund Rheinlanddamm 200 Dortmund 44139 Germany;X-APPLE-RADIUS=500;X-TITLE=Rheinlanddamm 200:geo:7.4568333,51.4964515
END:VEVENT
END:VCALENDAR