BEGIN:VCALENDAR
VERSION:2.0
PRODID:-//Industrievandaag - ECPv6.15.18//NONSGML v1.0//EN
CALSCALE:GREGORIAN
METHOD:PUBLISH
X-WR-CALNAME:Industrievandaag
X-ORIGINAL-URL:https://industrievandaag.nl
X-WR-CALDESC:Evenementen voor Industrievandaag
REFRESH-INTERVAL;VALUE=DURATION:PT1H
X-Robots-Tag:noindex
X-PUBLISHED-TTL:PT1H
BEGIN:VTIMEZONE
TZID:Europe/Amsterdam
BEGIN:DAYLIGHT
TZOFFSETFROM:+0100
TZOFFSETTO:+0200
TZNAME:CEST
DTSTART:20230326T010000
END:DAYLIGHT
BEGIN:STANDARD
TZOFFSETFROM:+0200
TZOFFSETTO:+0100
TZNAME:CET
DTSTART:20231029T010000
END:STANDARD
BEGIN:DAYLIGHT
TZOFFSETFROM:+0100
TZOFFSETTO:+0200
TZNAME:CEST
DTSTART:20240331T010000
END:DAYLIGHT
BEGIN:STANDARD
TZOFFSETFROM:+0200
TZOFFSETTO:+0100
TZNAME:CET
DTSTART:20241027T010000
END:STANDARD
BEGIN:DAYLIGHT
TZOFFSETFROM:+0100
TZOFFSETTO:+0200
TZNAME:CEST
DTSTART:20250330T010000
END:DAYLIGHT
BEGIN:STANDARD
TZOFFSETFROM:+0200
TZOFFSETTO:+0100
TZNAME:CET
DTSTART:20251026T010000
END:STANDARD
END:VTIMEZONE
BEGIN:VEVENT
DTSTART;TZID=Europe/Amsterdam:20241203T090000
DTEND;TZID=Europe/Amsterdam:20241205T170000
DTSTAMP:20260422T163207
CREATED:20240928T124323Z
LAST-MODIFIED:20241203T104812Z
UID:10001170-1733216400-1733418000@industrievandaag.nl
SUMMARY:Valve World Expo
DESCRIPTION:Control\, protect\, seal: If you are looking for tailor-made valves that will give your system the best possible performance and efficiency\, you will find what you are looking for at VALVE WORLD EXPO. Add valve components and parts such as seals\, measurement and control technology\, actuators and positioners as well as pumps to your valve directly on site. VALVE WORLD EXPO rounds off its comprehensive range with engineering services and software. Take advantage of the VALVE WORLD EXPO to exchange experiences with numerous exhibitors. You can expand your knowledge of valves in discussions with associations and publishers. In other words: with its comprehensive range\, VALVE WORLD EXPO helps you to find the right solution for every challenge.
URL:https://industrievandaag.nl/event/valve-world-expo/
LOCATION:Messe Düsseldorf\, Düsseldorf\, Duitsland
CATEGORIES:Vakbeurs
END:VEVENT
END:VCALENDAR