BEGIN:VCALENDAR
VERSION:2.0
PRODID:-//Industrievandaag - ECPv6.15.18//NONSGML v1.0//EN
CALSCALE:GREGORIAN
METHOD:PUBLISH
X-ORIGINAL-URL:https://industrievandaag.nl
X-WR-CALDESC:Evenementen voor Industrievandaag
REFRESH-INTERVAL;VALUE=DURATION:PT1H
X-Robots-Tag:noindex
X-PUBLISHED-TTL:PT1H
BEGIN:VTIMEZONE
TZID:Europe/Amsterdam
BEGIN:DAYLIGHT
TZOFFSETFROM:+0100
TZOFFSETTO:+0200
TZNAME:CEST
DTSTART:20230326T010000
END:DAYLIGHT
BEGIN:STANDARD
TZOFFSETFROM:+0200
TZOFFSETTO:+0100
TZNAME:CET
DTSTART:20231029T010000
END:STANDARD
BEGIN:DAYLIGHT
TZOFFSETFROM:+0100
TZOFFSETTO:+0200
TZNAME:CEST
DTSTART:20240331T010000
END:DAYLIGHT
BEGIN:STANDARD
TZOFFSETFROM:+0200
TZOFFSETTO:+0100
TZNAME:CET
DTSTART:20241027T010000
END:STANDARD
BEGIN:DAYLIGHT
TZOFFSETFROM:+0100
TZOFFSETTO:+0200
TZNAME:CEST
DTSTART:20250330T010000
END:DAYLIGHT
BEGIN:STANDARD
TZOFFSETFROM:+0200
TZOFFSETTO:+0100
TZNAME:CET
DTSTART:20251026T010000
END:STANDARD
END:VTIMEZONE
BEGIN:VEVENT
DTSTART;TZID=Europe/Amsterdam:20241112T090000
DTEND;TZID=Europe/Amsterdam:20241115T170000
DTSTAMP:20260422T182619
CREATED:20240928T124255Z
LAST-MODIFIED:20241022T051858Z
UID:10001158-1731402000-1731690000@industrievandaag.nl
SUMMARY:Electronica
DESCRIPTION:electronica\, ‘s werelds toonaangevende vakbeurs en conferentie voor elektronica. Het hele elektronica-universum op één plek vindt  in München plaats. \nelectronica toont het volledige scala aan technologieën\, producten en oplossingen in de gehele elektronica-industrie\, onderverdeeld in de volgende sectoren: \n– Automotive\n– Displays\n– Electromechanics and system periphery\n– Electronic design (ED/EDA)\n– Embedded systems\n– Electronic manufacturing services (EMS)\n– Semiconductors\n– PCBs and other circuit carriers\n– Test and measurement\n– Micro- and nanosystems\n– Passive components\n– Sensor technology\n– Services\n– Power supplies\n– System components/Assemblies and subsystems\n– Wireless \nMeer informatie over deelname over de electronica vindt u hier of neem contact op met:\nVan Ekeris Expo Service B.V.\nTel.: +31 (0)23 5258500\ninfo@vanekeris.nl\nwww.vanekeris.nl\nwww.electronica.de
URL:https://industrievandaag.nl/event/electronica/
LOCATION:Messe München\, München\, 81829\, Germany
CATEGORIES:Vakbeurs
ORGANIZER;CN="Messe M%C3%BCnchen GmbH":MAILTO:info@messe-muenchen.de
GEO:48.1355035;11.690002
END:VEVENT
BEGIN:VEVENT
DTSTART;TZID=Europe/Amsterdam:20241120T100000
DTEND;TZID=Europe/Amsterdam:20241121T170000
DTSTAMP:20260422T182619
CREATED:20240928T124317Z
LAST-MODIFIED:20241120T103311Z
UID:10001165-1732096800-1732208400@industrievandaag.nl
SUMMARY:Solids
DESCRIPTION:Solids vakbeurs – hét netwerk- en kennisplatform voor alle spelers uit de procesindustrie\nSolids is twee dagen lang hét netwerk- en kennisplatform voor alle professionals uit de procesindustrie. Tijdens de beurs presenteren bedrijven de nieuwste innovaties en ontwikkelingen aan de aanwezig brancheprofessionals die zich bezig houden met de verwerking en het transport van bulkgoederen. De exposanten tonen u o.a. afscheiders\, filters\, doseer- en meetapparatuur\, droogapparatuur\, bulkverpakkingen en machinebouw. \nNaast het aanbod van innovaties en ontwikkelingen biedt deze vakbeurs u ook een gratis kennisprogramma met de laatste trends & ontwikkelingen op het gebied van duurzaamheid\, veiligheid & machine. \nTijdens de beurs presenteren toeleveranciers\, dienstverleners en fabrikanten de nieuwste ontwikkelingen en innovaties voor de verwerking en het transport van bulkgoederen. Ontmoet CEO’s\, general engineers\, technische managers\, process engineers\, operation managers\, production managers\, maintenance managers en inkopers uit de industrie. \nNetwerkmoment voor de poeder- en bulkindustrie in de Benelux\nAls Europa’s grootste knooppunt voor bulkgoederen\, is deze vakbeurs de belangrijkste ontmoetingsplek voor solids professionals. Solids speelt in op innovaties en belangrijke onderwerpen in de poeder en bulk technologie binnen de procesindustrie. \nDe Benelux edities vinden jaarlijks plaats om de complete Solids industrie te kunnen bedienen. Op deze manier presenteert u zichzelf in de even jaren op Solids Antwerpen en in de oneven jaren op Solids Rotterdam. \n\nAfscheiders\, zeven & filters\nOpslag & overslag\nDoseer-\, weeg- & meetapparatuur\nMengen & homogeniseren\nDrogers & droogapparatuur\nMachinebouw\, installatiebouw & equipering\nMalen & verkleinen\nKwaliteitscontrole\, monsterafname & onderzoek\nIntern en extern transport\n\nAls nationaal leidende vakbeurs voor bulk solids technologies\, wordt Solids bezocht door eindgebruikers en distributeurs uit diverse industrieën. \nExposanten ontmoeten CEO’s\, general engineers\, technische managers\, process engineers\, operation managers\, production managers\, maintenance managers en inkopers uit volgende industrieën: \n\nChemie\nFood & Feed\nMetaal\, kunstof & rubber\nRecycling & Afvalverwerking\nBouwmaterialen\nMachinebouw\n\nSolids Rotterdam vindt gelijktijdig plaats met Pumps & Valves\, deze vakbeurs richt zich op de verwerking en bewerking van vloeistoffen en gassen. Deze twee beurzen vormen samen het grootste processing platform binnen de Benelux. \nBezoek deze vakbeurs
URL:https://industrievandaag.nl/event/solids/
LOCATION:Antwerp expo\, Jan van Rijswijcklaan 191\, Antwerpen\, 2020\, Belgium
CATEGORIES:Vakbeurs
ORGANIZER;CN="Easyfairs Antwerp Expo":MAILTO:antwerp@easyfairs.com
GEO:51.1914025;4.3995071
X-APPLE-STRUCTURED-LOCATION;VALUE=URI;X-ADDRESS=Antwerp expo Jan van Rijswijcklaan 191 Antwerpen 2020 Belgium;X-APPLE-RADIUS=500;X-TITLE=Jan van Rijswijcklaan 191:geo:4.3995071,51.1914025
END:VEVENT
BEGIN:VEVENT
DTSTART;TZID=Europe/Amsterdam:20241127T093000
DTEND;TZID=Europe/Amsterdam:20241127T170000
DTSTAMP:20260422T182619
CREATED:20240928T124321Z
LAST-MODIFIED:20241127T104811Z
UID:10001167-1732699800-1732726800@industrievandaag.nl
SUMMARY:Lijm event
DESCRIPTION:Al 10 jaar lang is het Lijm event dé plek als je je licht wilt opsteken over alle aspecten van een goede en betrouwbare lijmverbinding. \nRuim 100 sprekers hebben in de afgelopen 10 jaar hun kennis gedeeld. Er is nog steeds veel onbekendheid over lijmen en het is van cruciaal belang om te weten lijmfacetten een rol spelen in jouw specifieke situatie. Welke functionele eisen worden er gesteld aan het ontwikkelproces? En hoe zit het met de regelgeving? \nLijmen 2024 geeft je de kans om gespecialiseerde bedrijven te ontmoeten en je kennis over lijmverbindingen uit te breiden.
URL:https://industrievandaag.nl/event/lijm-event/
LOCATION:Mikrocentrum\, De Run 1115\, Veldhoven\, 5503 LB\, Nederland
CATEGORIES:Congres,Seminar,Vakbeurs
GEO:51.4186146;5.4229887
X-APPLE-STRUCTURED-LOCATION;VALUE=URI;X-ADDRESS=Mikrocentrum De Run 1115 Veldhoven 5503 LB Nederland;X-APPLE-RADIUS=500;X-TITLE=De Run 1115:geo:5.4229887,51.4186146
END:VEVENT
END:VCALENDAR