BEGIN:VCALENDAR
VERSION:2.0
PRODID:-//Industrievandaag - ECPv6.15.18//NONSGML v1.0//EN
CALSCALE:GREGORIAN
METHOD:PUBLISH
X-WR-CALNAME:Industrievandaag
X-ORIGINAL-URL:https://industrievandaag.nl
X-WR-CALDESC:Evenementen voor Industrievandaag
REFRESH-INTERVAL;VALUE=DURATION:PT1H
X-Robots-Tag:noindex
X-PUBLISHED-TTL:PT1H
BEGIN:VTIMEZONE
TZID:Europe/Amsterdam
BEGIN:DAYLIGHT
TZOFFSETFROM:+0100
TZOFFSETTO:+0200
TZNAME:CEST
DTSTART:20240331T010000
END:DAYLIGHT
BEGIN:STANDARD
TZOFFSETFROM:+0200
TZOFFSETTO:+0100
TZNAME:CET
DTSTART:20241027T010000
END:STANDARD
BEGIN:DAYLIGHT
TZOFFSETFROM:+0100
TZOFFSETTO:+0200
TZNAME:CEST
DTSTART:20250330T010000
END:DAYLIGHT
BEGIN:STANDARD
TZOFFSETFROM:+0200
TZOFFSETTO:+0100
TZNAME:CET
DTSTART:20251026T010000
END:STANDARD
BEGIN:DAYLIGHT
TZOFFSETFROM:+0100
TZOFFSETTO:+0200
TZNAME:CEST
DTSTART:20260329T010000
END:DAYLIGHT
BEGIN:STANDARD
TZOFFSETFROM:+0200
TZOFFSETTO:+0100
TZNAME:CET
DTSTART:20261025T010000
END:STANDARD
BEGIN:DAYLIGHT
TZOFFSETFROM:+0100
TZOFFSETTO:+0200
TZNAME:CEST
DTSTART:20270328T010000
END:DAYLIGHT
BEGIN:STANDARD
TZOFFSETFROM:+0200
TZOFFSETTO:+0100
TZNAME:CET
DTSTART:20271031T010000
END:STANDARD
END:VTIMEZONE
BEGIN:VEVENT
DTSTART;TZID=Europe/Amsterdam:20260414T090000
DTEND;TZID=Europe/Amsterdam:20260414T160000
DTSTAMP:20260419T150604
CREATED:20260331T123054Z
LAST-MODIFIED:20260331T124042Z
UID:10001660-1776157200-1776182400@industrievandaag.nl
SUMMARY:Certified Machinery Safety Expert (CMSE)
DESCRIPTION:Tijdens deze examentraining komt het gehele scala aan lesstof over machineveiligheid aan bod. Naast de toepassing van actuele normen\, leert u over risicobeoordelingen en arbeidsbescherming. Daarnaast krijgt u een gedetailleerd overzicht van de actuele veiligheidstechniek en de toepassing van functionele veiligheid voor besturingen. De training is opgezet in samenwerking met TÜV NORD en wordt verzorgd door de safety consultants van Pilz. Aan het eind van de training\, op dag 4\, doet u een examen dat wordt afgenomen doormiddels van een online omgeving van TÜV NORD. Elke deelnemer die de training succesvol afrondt en slaagt voor het examen ontvangt een TÜV-certificaat. \nInhoud\n\nToepassing van actuele normen\nRisicobeoordelingen\nArbeidsbescherming\nHydrauliek en Pneumatiek\nGedetailleerd overzicht van actuele veiligheidstechniek\nToepassing van functionele veiligheid voor besturingen\n\nLeerdoelen\n\nMachinerichtlijn en arbeidsmiddelenrichtlijn interpreteren\nDefinities van aan machineveiligheid gerelateerde begrippen verwoorden\nRisicobeoordelingen volgens de normen toepassen\nInzet en werking van veiligheidscomponenten toelichten\nElektrische veiligheid van machines volgens de IEC 60204-1 interpreteren\nFunctionele veiligheid rondom hydraulische en pneumatische installaties toelichten\nFunctionele veiligheid van besturingssystemen volgens ISO 13849 en IEC 62061 toelichten\n\nDoelgroepen\n\nElektrotechnici\nWerktuigbouwkundigen\nMachineontwerpers\nProjecttechnici\nVeiligheidstechnici\nManager Veiligheid en Gezondheid\n\n  \nMeer informatie \n\n 
URL:https://industrievandaag.nl/event/certified-machinery-safety-expert-cmse/2026-04-14/
LOCATION:pilz\, Nederland
CATEGORIES:Training
ORGANIZER;CN="Pilz Nederland":MAILTO:info@pilz.nl
END:VEVENT
BEGIN:VEVENT
DTSTART;TZID=Europe/Amsterdam:20251113T090000
DTEND;TZID=Europe/Amsterdam:20251113T170000
DTSTAMP:20260419T150604
CREATED:20250827T121844Z
LAST-MODIFIED:20250827T121844Z
UID:10001505-1763024400-1763053200@industrievandaag.nl
SUMMARY:Industrieel Shutdown Management
DESCRIPTION:Een stop efficiënt aanpakken en minder kosten maken? De praktijkgerichte opleiding Industrieel Shutdown Management leert u hoe u onderhoudstops optimaliseert. Herkent u valkuilen tijdig en speelt u in op succesfactoren van uw onderhoudsstop. Maak kennis met de belangrijkste concepten en vaardigheden en krijg volledig inzicht in shutdown management om van uw stop\, groot of klein\, een succes te maken! \n\n\n\n\nWaarom deze opleiding?\n\n\n\n\n\n\n\n\n\nTijdens de opleiding wordt gebruik gemaakt van opdrachten en voorbeelden uit de praktijk\nNiet alleen de huidige stand van shutdowns\, maar ook voorbereiding op de toekomst\nDe opleiding is speciaal ontwikkeld voor mensen die zich willen bekwamen in het turnaround vak en op zoek zijn naar een breed scala van shutdown technieken en processen\n\n\n\n\n\nVoor wie is deze training?\n\n\n\n\n\n\n\n\n\nShutdown & Turnaround managers\nPlantmanagers\nMaintenance managers\nReliability engineers\nWerkvoorbereiders
URL:https://industrievandaag.nl/event/industrieel-shutdown-management/
LOCATION:Outvie\, Kingsfordweg 151\, Amsterdam\, 1043 GR\, Netherlands
CATEGORIES:Training
ORGANIZER;CN="Outvie":MAILTO:info@outvie.nl
GEO:52.3856056;4.8433463
X-APPLE-STRUCTURED-LOCATION;VALUE=URI;X-ADDRESS=Outvie Kingsfordweg 151 Amsterdam 1043 GR Netherlands;X-APPLE-RADIUS=500;X-TITLE=Kingsfordweg 151:geo:4.8433463,52.3856056
END:VEVENT
BEGIN:VEVENT
DTSTART;TZID=Europe/Amsterdam:20250519T090000
DTEND;TZID=Europe/Amsterdam:20250519T170000
DTSTAMP:20260419T150604
CREATED:20250425T115653Z
LAST-MODIFIED:20250516T044712Z
UID:10001470-1747645200-1747674000@industrievandaag.nl
SUMMARY:Informatiebeveiliging
DESCRIPTION:Informatiebeveiliging heeft consequenties voor elk onderdeel van de organisatie. Daarom is het noodzakelijk een beleidsplan te ontwikkelen waarin een balans wordt gevonden tussen vertrouwelijkheid\, beschikbaarheid en integriteit. In de praktische opleiding Informatiebeveiliging leert u naast technische aspecten hoe u uw informatiebeleid aanscherpt\, welke risico’s uw organisatie loopt\, welke belangrijke factor de mens speelt en beveiligingseisen uit wet- en regelgeving. \n\n\n\n\nWaarom deze training?\n\n\n\n\n\n\n\n\n\nLeer de kritische succesfactoren voor het omgaan met cyberdreigingen en ransomware aanvallen\nInclusief centrale casus “Opzetten Informatiebeveiligingsplan” en hands-on praktijkcasussen\nDe veiligheid van informatie is een hot issue: lekken in informatiesystemen zijn wekelijks in het nieuws. Herken en beheers de informatie-risico’s in uw organisatie
URL:https://industrievandaag.nl/event/informatiebeveiliging/
LOCATION:Outvie\, Kingsfordweg 151\, Amsterdam\, 1043 GR\, Netherlands
CATEGORIES:Training
ORGANIZER;CN="Outvie":MAILTO:info@outvie.nl
GEO:52.3856056;4.8433463
X-APPLE-STRUCTURED-LOCATION;VALUE=URI;X-ADDRESS=Outvie Kingsfordweg 151 Amsterdam 1043 GR Netherlands;X-APPLE-RADIUS=500;X-TITLE=Kingsfordweg 151:geo:4.8433463,52.3856056
END:VEVENT
END:VCALENDAR