BEGIN:VCALENDAR
VERSION:2.0
PRODID:-//Industrievandaag - ECPv6.15.18//NONSGML v1.0//EN
CALSCALE:GREGORIAN
METHOD:PUBLISH
X-WR-CALNAME:Industrievandaag
X-ORIGINAL-URL:https://industrievandaag.nl
X-WR-CALDESC:Evenementen voor Industrievandaag
REFRESH-INTERVAL;VALUE=DURATION:PT1H
X-Robots-Tag:noindex
X-PUBLISHED-TTL:PT1H
BEGIN:VTIMEZONE
TZID:Europe/Amsterdam
BEGIN:DAYLIGHT
TZOFFSETFROM:+0100
TZOFFSETTO:+0200
TZNAME:CEST
DTSTART:20250330T010000
END:DAYLIGHT
BEGIN:STANDARD
TZOFFSETFROM:+0200
TZOFFSETTO:+0100
TZNAME:CET
DTSTART:20251026T010000
END:STANDARD
BEGIN:DAYLIGHT
TZOFFSETFROM:+0100
TZOFFSETTO:+0200
TZNAME:CEST
DTSTART:20260329T010000
END:DAYLIGHT
BEGIN:STANDARD
TZOFFSETFROM:+0200
TZOFFSETTO:+0100
TZNAME:CET
DTSTART:20261025T010000
END:STANDARD
BEGIN:DAYLIGHT
TZOFFSETFROM:+0100
TZOFFSETTO:+0200
TZNAME:CEST
DTSTART:20270328T010000
END:DAYLIGHT
BEGIN:STANDARD
TZOFFSETFROM:+0200
TZOFFSETTO:+0100
TZNAME:CET
DTSTART:20271031T010000
END:STANDARD
END:VTIMEZONE
BEGIN:VEVENT
DTSTART;TZID=Europe/Amsterdam:20260204T090000
DTEND;TZID=Europe/Amsterdam:20260204T160000
DTSTAMP:20260422T124852
CREATED:20251211T092152Z
LAST-MODIFIED:20251211T092211Z
UID:10001602-1770195600-1770220800@industrievandaag.nl
SUMMARY:Power Quality: voorkom storingen en productieverlies
DESCRIPTION:Doelgroep\nDit seminar is bedoeld voor iedereen die meer inzicht wil krijgen in de netkwaliteit van het beschikbare elektriciteitsnet. Denk hierbij aan hardware engineers\, storingsmonteurs\, projectleiders\, inspecteurs\, adviseurs en facility managers. \n\n\n\n\n\n\nToelichting\nOnder Power Quality wordt zowel de betrouwbaarheid als de kwaliteit van spanning en stroom verstaan. Elke onderbreking\, dip of vervorming kan storend werken. \nTechnische specificaties\, zoals immuniteitsspecificaties voor onderbrekingen en dips\, Power Factor (PF)\, harmonische vervorming (HD) de de Crestfactor (CF) zijn belangrijk voor het ontwerp en het goed functioneren van de elektrische installatie en de netkwaliteit (PQ). \nIndien de stroomafname een andere vorm heeft dan de spanning\, veroorzaakt door niet lineaire belastingen zoals ledlampen\, computerapparatuur en frequentieregelaars\, ontstaan er harmonische stromen in het net. Deze stromen vervuilen het net. \n\n\n\n\n\n\nInhoud\nAlle hieronder genoemde facetten rondom spanningskwaliteit worden uitvoerig besproken en gedemonstreerd aan de hand van een nagebouwde installatie.\n• Spanningsonderbreking\n• Spanningsdips\n• Grenzen waarbinnen de spanning mag variëren\n• Spanningsvorm \nOnderstaande onderwerpen komen aan bod:\nWet en regelgeving:\n• In de Nederlandse Netcode zijn\, met verwijzing naar de NEN-EN 50160\, eisen vastgelegd voor de maximaal toelaatbare netvervuiling. Ook de NEN 1010 geeft informatie om aan de gestelde eisen te voldoen \nProducten:\n• Binnen de diverse productnormen voor niet lineaire belastingen wordt een maximale emissie van harmonische stromen vastgelegd \nBekabeling- en bedradingslayout:\n• Bij optredende harmonische stromen moet de bekabeling en bedrading berekend zijn op basis van de harmonische stromen. Met name de derde orde harmonische stromen vragen om bijzondere aandacht. Het kiezen van een juiste netconfiguratie kan de negatieve gevolgen van de harmonische stromen beperken \nMeten:\n• Het is belangrijk uw installatie zowel qua producten en bekabeling te kennen en met gerichte metingen vast te stellen of deze aan de gestelde netkwaliteit voldoet. Deze metingen moeten met de juiste meetapparatuur worden uitgevoerd\, zoals een True-RMS meter of een Power Quality meter. Hiervoor zijn in de NEN-EN- 61000 -2 -4 overdrachtspunten vastgelegd waarbij de netkwaliteit is gedefinieerd \n\n\n\n\n\n\n\nErkenning\nDe deelnemer ontvangt een Verklaring van deelname. \n  \nKlik hier voor meer informatie \n 
URL:https://industrievandaag.nl/event/seminar-power-quality/2026-02-04/
LOCATION:Phoenix Contact\, Technologie- en Trainingscentrum Zevenaar\, Hengelder 56\, Zevenaar\, 6902 PA\, Nederland
CATEGORIES:Seminar
ORGANIZER;CN="Phoenix Contact":MAILTO:info@phoenixcontact.nl
GEO:51.9273187;6.1042486
X-APPLE-STRUCTURED-LOCATION;VALUE=URI;X-ADDRESS=Phoenix Contact Technologie- en Trainingscentrum Zevenaar Hengelder 56 Zevenaar 6902 PA Nederland;X-APPLE-RADIUS=500;X-TITLE=Hengelder 56:geo:6.1042486,51.9273187
END:VEVENT
BEGIN:VEVENT
DTSTART;TZID=Europe/Amsterdam:20260205T130000
DTEND;TZID=Europe/Amsterdam:20260205T200000
DTSTAMP:20260422T124852
CREATED:20251211T091506Z
LAST-MODIFIED:20260123T105943Z
UID:10001599-1770296400-1770321600@industrievandaag.nl
SUMMARY:EMC: inzicht in stoorgedrag van industriële installatie
DESCRIPTION:Doelgroep\nDit seminar is bedoeld voor iedereen die inzicht wil krijgen in het stoorgedrag van een installatie. Denk hierbij aan hardware engineers\, bedradingsmonteurs\, storingsmonteurs\, projectleiders\, inspecteurs en adviesconsulenten. \n\n\n\n\n\n\nToelichting\nDe industriële omgeving wordt steeds meer verstoord\, terwijl er steeds meer gevoelige apparatuur gebruikt wordt. Aan welke eisen moet voldaan worden en hoe realiseer ik dat? Welke maatregelen kan ik treffen om deze omgeving minder te verstoren\, om minder gestoord te worden? Analyse en metingen van de elektromagnetische waarden zijn hierbij onmisbaar gebleken. \n\n\n\n\n\n\nInhoud\nTijdens dit seminar wordt vanuit de EMC-richtlijn\, 2014/30/EU\, een industriële installatie op elektromagnetische aspecten geanalyseerd. Deze analyse vindt plaats op basis van de eisen die in de schakelkastnorm NEN-EN-IEC 61439-1 zijn vastgelegd.\nDiverse metingen\, zowel voor stoorstromen als elektromagnetische velden\, maken het inzichtelijk. Naast de wettelijke eisen wordt ook gekeken of de installatie goed functioneert onder invloed van de aanwezige elektromagnetische stoorbronnen. \nOnderstaande onderwerpen komen aan bod:\nWet en regelgeving:\n• Inzicht in de essentiële eisen voor industriële installaties volgens de geldende EMC-richtlijn\n• Toelichting van de belangrijkste generieke- en productnormen\n• Via de aanbevelingen van uit de Nederlandse Praktijk Richtlijn\, de NPR 61000-5-2\, wordt een praktische vertaalslag gemaakt \nProducten:\n• De juiste producten inzetten op basis van de gebruiksomgeving\n• De betekenis van CE markering in het kader van de EMC richtlijn\n• Als alle producten van CE markering zijn voorzien\, betekent het niet automatisch dat de besturingskast ook aan de CE markering voldoet \nBekabeling- en bedradingslayout:\n• Het definiëren van verschillende kabelbundels op basis van het stoorgedrag van de kabels\n• Het toepassen van afgeschermde kabels en het aansluiten van de afscherming\, eenzijdig of tweezijdig – en waar en hoe deze afscherming aan te sluiten\n• Gebruik maken van een geleidende kabelgoot \nBehuizing:\n• Het vaststellen van de gewenste demping van de behuizing en op grond hiervan het inzetten van een standaard behuizing of een EMC behuizing\n• Hoe om te gaan met uitsparingen voor drukknopen\, meetapparatuur en ventilatieopeningen\n• Kabels op de juiste wijze invoeren in de behuizing \nErkenning\nDe deelnemer ontvangt een Verklaring van deelname. \n  \nKlik hier voor meer informatie \n 
URL:https://industrievandaag.nl/event/seminar-emc/2026-02-05/
LOCATION:Phoenix Contact\, Technologie- en Trainingscentrum Zevenaar\, Hengelder 56\, Zevenaar\, 6902 PA\, Nederland
CATEGORIES:Seminar
ORGANIZER;CN="Phoenix Contact":MAILTO:info@phoenixcontact.nl
GEO:51.9273187;6.1042486
X-APPLE-STRUCTURED-LOCATION;VALUE=URI;X-ADDRESS=Phoenix Contact Technologie- en Trainingscentrum Zevenaar Hengelder 56 Zevenaar 6902 PA Nederland;X-APPLE-RADIUS=500;X-TITLE=Hengelder 56:geo:6.1042486,51.9273187
END:VEVENT
BEGIN:VEVENT
DTSTART;TZID=Europe/Amsterdam:20260205T133000
DTEND;TZID=Europe/Amsterdam:20260205T173000
DTSTAMP:20260422T124852
CREATED:20241129T104848Z
LAST-MODIFIED:20251208T122627Z
UID:10001214-1770298200-1770312600@industrievandaag.nl
SUMMARY:High Tech HR Meet-up
DESCRIPTION:Tijdens de High Tech HR Meet-up delen sprekers uit de HR-wereld hun ervaring vanuit de dagelijkse praktijk én vanuit wetenschappelijk onderzoek. Raak geïnspireerd en krijg handige tips en tools aangereikt tijdens de interactieve sessies. \nDe High Tech HR Meet-up wordt georganiseerd door Mikrocentrum in samenwerking met Brainport Industries. Dit evenement is alleen toegankelijk voor mensen met een HR(M) functie of specialisatie. \nThema aankomende editie | Hoe HR regie kan nemen in leren en ontwikkelen in een snel veranderende technische omgeving\nTijdens dit event onderzoeken we hoe HR een strategische rol kan pakken binnen technologische organisaties. Hoe speel je in op voortdurende innovatie\, krapte op de arbeidsmarkt en de noodzaak tot wendbaarheid? En hoe creëer je een lerende cultuur die niet alleen vandaag werkt\, maar ook klaar is voor morgen? \nDeze editie start om 13:30 uur waarbij de middag in het teken staat van een plenaire lezing en aansluitende\, interactieve sessies. Het middagprogramma eindigt met een netwerkborrel welke start om 16:30 uur – 17:30 uur.
URL:https://industrievandaag.nl/event/high-tech-hr-meet-up/
LOCATION:Mikrocentrum\, De Run 1115\, Veldhoven\, 5503 LB\, Nederland
CATEGORIES:Seminar
GEO:51.4186146;5.4229887
X-APPLE-STRUCTURED-LOCATION;VALUE=URI;X-ADDRESS=Mikrocentrum De Run 1115 Veldhoven 5503 LB Nederland;X-APPLE-RADIUS=500;X-TITLE=De Run 1115:geo:5.4229887,51.4186146
END:VEVENT
BEGIN:VEVENT
DTSTART;TZID=Europe/Amsterdam:20260205T150000
DTEND;TZID=Europe/Amsterdam:20260205T170000
DTSTAMP:20260422T124852
CREATED:20251212T155221Z
LAST-MODIFIED:20251217T192028Z
UID:10001620-1770303600-1770310800@industrievandaag.nl
SUMMARY:STEM van de Master met Albert Jan Swart – Een blik op de Nederlandse maakindustrie: voorzichtig herstel of nieuwe uitdagingen?
DESCRIPTION:De Nederlandse maakindustrie beleeft een periode met tegenstrijdige signalen: \n\nEen voorzicht economisch herstel maar een broos vertrouwen van ondernemers.\nHigh-tech\, food en farma groeien stevig maar andere sectoren blijven achter.\nOrder portefeuilles groeien\, export neemt toe maar concurrentiekracht daalt.\n\nTijdens deze STEM van de Master blikt Albert Jan Swart (sector econoom industrie ABN-AMRO en duider van de NEVI inkoopmanagersindex) nog even terug naar het afgelopen jaar maar vooral vooruit naar 2026. En zeker ook naar ontwikkelingen die de komende jaren van belang zijn voor Nederlandse maakbedrijven. \nWat kun je verwachten?\nAlbert Jan geeft inzicht in:\n✅ Recente ontwikkelingen en de betekenis ervan voor jouw bedrijf. \n✅ Trends\, ontwikkelingen en signalen die van belang zijn om in de gaten te houden voor nu en de toekomst. \n✅ Verschillen in sectoren\, de oorzaken en de betekenis ervan voor maakbedrijven. \nVoor wie relevant?\nMasterclasses van STEM-imc zijn relevant voor directies/managers van technische en industriële bedrijven. Zowel voor algemeen als marketing\, sales\, innovatie\, communicatie\, operations/productie\, finance\, R&D/innovatie managers en iedereen die inzichten wil vertalen naar acties. \n🔹 Datum: donderdag 5 februari 2026.\n🔹 Tijd: Vanaf 15.00 uur\n🔹 Locatie: Midden Nederland (adresgegevens volgen na aanmelding) \nDeelname\nDeelname aan STEM van de Masterbijeenkomsten is inbegrepen in het STEM eXplain/eXpand programma. \n\nMaar lezers van IndustrieVandaag kunnen deze keerkosteloos kennis met de masterclasses van STEM-im. Gebruik dan bij aanmelding de code: IV2625.
URL:https://industrievandaag.nl/event/stem-van-de-master-met-albert-jan-swart-een-blik-op-de-nederlandse-maakindustrie-voorzichtig-herstel-of-nieuwe-uitdagingen/
LOCATION:Midden Nederland (adres gegevens volgen na aanmelding)
CATEGORIES:Seminar
ORGANIZER;CN="STEM Industrial Marketing Community":MAILTO:contact@stem-imc.com
END:VEVENT
BEGIN:VEVENT
DTSTART;TZID=Europe/Amsterdam:20260210T130000
DTEND;TZID=Europe/Amsterdam:20260210T163000
DTSTAMP:20260422T124852
CREATED:20260112T152144Z
LAST-MODIFIED:20260112T152158Z
UID:10001636-1770728400-1770741000@industrievandaag.nl
SUMMARY:Geluid op de werkvloer - meten is weten
DESCRIPTION:Tijdens deze bijeenkomst zal Michiel van Eeden een presentatie geven met de titel Geluid en machineveiligheid – wettelijke eisen en metingen en Judith Veen zal een presentatie geven met de titel Impact van geluid op het werk. \nSpreker 1: ing. Michiel van Eeden\nTitel: Geluid en machineveiligheid – wettelijk eisen en metingen. \nMichiel van Eeden is zelfstandig adviseur en gespecialiseerd in het meten van zowel blootstelling als emissie van geluid en trillingen. Tevens is hij HAS consultant voor Europese Commissie met betrekking tot de geluidparagrafen in machine-specifieke normen over machineveiligheid.\nDe voordracht zal ingaan op het belang van aandacht voor geluid\, wat betreft gezondheid en veiligheid en vooral wat betreft wettelijke verplichtingen. Ten aanzien van dat laatste wordt veel aandacht besteed aan de normen die in het kader van de Machinerichtlijn / Machineverordening zijn geharmoniseerd. Er wordt ingegaan op de techniek van het meten van de emissie van geluid\, de mogelijke complicaties daarbij en oplossingen. \nSpreker 2: Judith Veen\nTitel: impact van geluid op het werk. \nJudith Veen is eigenaar van Adviesbureau Heart2Hear en expert gezonde geluidsomgeving. Tevens is zij ZonMw commissielid Expertisefunctie Zintuiglijk Gehandicapten.\nVan 2023 tot 2025 was zij projectleider van ‘Hoe hoort het op de werkvloer?’. Een onderzoek naar de impact van geluid op de vitaliteit van werkenden bij 9 werkgevers in 3 sectoren.\nDe voordracht zal ingaan op het belang van aandacht voor geluid op de werkvloer. Als we het over geluid op het werk hebben\, wordt veelal de klassieke insteek dominant: schadelijk geluid moet voorkomen worden. Maar de impact van geluid op het werk is echter geen absoluut gegeven\, het hangt samen met het werk en de mate van concentratie die nodig is\, met de omgeving waarin er gewerkt wordt\, en met de mens zelf en hoe hij of zij dat geluid ervaart. Zowel de uitkomsten als de participatieve aanpak van ‘Hoe hoort het op de werkvloer?’ worden besproken. \n 
URL:https://industrievandaag.nl/event/geluid-op-de-werkvloer-meten-is-weten/
LOCATION:Van der Valk Tilburg\, Dokter Bloemenlaan 8\, Tilburg\, 5022 KW
CATEGORIES:Seminar
ORGANIZER;CN="NVVK":MAILTO:nvvk@veiligheidskunde.nl
END:VEVENT
BEGIN:VEVENT
DTSTART;TZID=Europe/Amsterdam:20260225T090000
DTEND;TZID=Europe/Amsterdam:20260225T160000
DTSTAMP:20260422T124852
CREATED:20251211T093827Z
LAST-MODIFIED:20260326T142624Z
UID:10001606-1772010000-1772035200@industrievandaag.nl
SUMMARY:Cybersecurity voor OT: de IEC 62443 helpt u hierbij!
DESCRIPTION:Doelgroep\nIedereen die op zoek is naar inhoudelijke informatie over de IEC 62443. Met name interessant voor eindgebruikers\, machinebouwers en systeemintegratoren. \n\n\n\n\n\n\nToelichting\nIn het tijdperk van digitalisering is niets zo belangrijk als de bescherming van digitale gegevens en diensten. Dit geldt voor zowel uw persoonlijke gegevens als die van uw onderneming. \nDe beveiliging van uw onderneming bevindt zich in twee domeinen: IT (Information Technology) en OT (Operational Technology). Om de bescherming van uw netwerken en installaties te waarborgen\, is het noodzakelijk om naar beide domeinen te kijken en een totaal veiligheidsconcept te ontwikkelen. \nDe IEC 62443 is een norm die speciaal is ontwikkeld voor de OT-security en vult hierbij de ISO 27001 aan\, die hoofdzakelijk specifieke maatregelen voor de IT-security omvat. De IEC 62443 beschrijft de maatregelen ter vermindering van security-risico’s voor fabrikanten\, systeemintegratoren en eindgebruikers. \nSecurity-eisen omzetten naar oplossingen betekent het maken van veel belangrijke ontwerpkeuzes. Deze keuzes zijn niet eenvoudig\, want elke oplossing kent beperkingen (uitdagingen en zwakheden). Dit seminar geeft handreikingen om hiermee om te gaan. \n\n\n\n\n\n\nInhoud\nOnderstaande onderwerpen komen aan bod: \n\nCybersecurity wetgeving & (nationale) standaarden\nDe rol van IEC 62443\nDe structuur van de IEC 62443 (o.a. zones and conduits)\nDe IEC 62443 tijdens de implementatiefase (o.a. fundamentals requirements)\nDe IEC 62443 tijdens de onderhoudsfase (Device & Update Management)\nPraktijkgerichte demonstraties over toegangsbeheer\, security-profielen en Device & Update Management verdeeld over de dag. Zo ziet een engineer hoe een security-eis omgezet kan worden naar een gedegen oplossing\n\n\n\n\n\n\n\nErkenning\nDe deelnemer ontvangt een Verklaring van deelname. \n  \nKlik hier voor meer informatie \n 
URL:https://industrievandaag.nl/event/seminar-cybersecurity-voor-ot/2026-02-25/
LOCATION:Phoenix Contact\, Technologie- en Trainingscentrum Zevenaar\, Hengelder 56\, Zevenaar\, 6902 PA\, Nederland
CATEGORIES:Seminar
ORGANIZER;CN="Phoenix Contact":MAILTO:info@phoenixcontact.nl
GEO:51.9273187;6.1042486
X-APPLE-STRUCTURED-LOCATION;VALUE=URI;X-ADDRESS=Phoenix Contact Technologie- en Trainingscentrum Zevenaar Hengelder 56 Zevenaar 6902 PA Nederland;X-APPLE-RADIUS=500;X-TITLE=Hengelder 56:geo:6.1042486,51.9273187
END:VEVENT
END:VCALENDAR