BEGIN:VCALENDAR
VERSION:2.0
PRODID:-//Industrievandaag - ECPv6.15.18//NONSGML v1.0//EN
CALSCALE:GREGORIAN
METHOD:PUBLISH
X-ORIGINAL-URL:https://industrievandaag.nl
X-WR-CALDESC:Evenementen voor Industrievandaag
REFRESH-INTERVAL;VALUE=DURATION:PT1H
X-Robots-Tag:noindex
X-PUBLISHED-TTL:PT1H
BEGIN:VTIMEZONE
TZID:Europe/Amsterdam
BEGIN:DAYLIGHT
TZOFFSETFROM:+0100
TZOFFSETTO:+0200
TZNAME:CEST
DTSTART:20250330T010000
END:DAYLIGHT
BEGIN:STANDARD
TZOFFSETFROM:+0200
TZOFFSETTO:+0100
TZNAME:CET
DTSTART:20251026T010000
END:STANDARD
BEGIN:DAYLIGHT
TZOFFSETFROM:+0100
TZOFFSETTO:+0200
TZNAME:CEST
DTSTART:20260329T010000
END:DAYLIGHT
BEGIN:STANDARD
TZOFFSETFROM:+0200
TZOFFSETTO:+0100
TZNAME:CET
DTSTART:20261025T010000
END:STANDARD
BEGIN:DAYLIGHT
TZOFFSETFROM:+0100
TZOFFSETTO:+0200
TZNAME:CEST
DTSTART:20270328T010000
END:DAYLIGHT
BEGIN:STANDARD
TZOFFSETFROM:+0200
TZOFFSETTO:+0100
TZNAME:CET
DTSTART:20271031T010000
END:STANDARD
END:VTIMEZONE
BEGIN:VEVENT
DTSTART;TZID=Europe/Amsterdam:20260115T130000
DTEND;TZID=Europe/Amsterdam:20260115T170000
DTSTAMP:20260422T143000
CREATED:20251208T120718Z
LAST-MODIFIED:20251208T120718Z
UID:10001570-1768482000-1768496400@industrievandaag.nl
SUMMARY:Hello-2026! Een jaar vol kansen samen
DESCRIPTION:Een nieuw jaar vol kansen\, innovaties en samenwerkingen staat voor de deur\, en dat vieren we graag samen met jou! Tijdens het High Tech Platform event: Hello-2026\, zetten we de toon voor het komende jaar: een jaar waarin we als hightech community slimmer leren\, succesvoller presenteren en sterker samenwerken. \nIn een inspirerende middag combineren we inhoud en ontmoeting. Je krijgt concrete inzichten over hoe je de SLIM-regeling inzet voor ontwikkeling in je organisatie. Daarnaast krijg je praktische tips om meer uit je beursdeelname te halen én doe je verrassende nieuwe contacten op via een Meet&Match waarin ChatGPT je koppelt aan waardevolle gesprekspartners. \nDe bijeenkomst is dé plek om kennis te delen\, inspiratie op te doen en je netwerk binnen de hightechketen te versterken. We sluiten natuurlijk af met een feestelijke nieuwjaarsborrel\, want een goed jaar begint met een goed gesprek.
URL:https://industrievandaag.nl/event/hello-2026-een-jaar-vol-kansen-samen/
LOCATION:Mikrocentrum\, De Run 1115\, Veldhoven\, 5503 LB\, Nederland
CATEGORIES:Seminar
GEO:51.4186146;5.4229887
X-APPLE-STRUCTURED-LOCATION;VALUE=URI;X-ADDRESS=Mikrocentrum De Run 1115 Veldhoven 5503 LB Nederland;X-APPLE-RADIUS=500;X-TITLE=De Run 1115:geo:5.4229887,51.4186146
END:VEVENT
BEGIN:VEVENT
DTSTART;TZID=Europe/Amsterdam:20260121T150000
DTEND;TZID=Europe/Amsterdam:20260121T170000
DTSTAMP:20260422T143000
CREATED:20251218T174439Z
LAST-MODIFIED:20251218T174439Z
UID:10001621-1769007600-1769014800@industrievandaag.nl
SUMMARY:Quantum Fieldlab Tour
DESCRIPTION:Join us on Wednesday\, January 21 for an exclusive visit to the Quantum Fieldlab at the House of Quantum in Delft\, organized by QBlox & DEMCON\, designed for high-tech manufacturers and suppliers in Zuid-Holland. \nThis session offers a high-level introduction to quantum technology\, followed by a deep dive into the superconducting qubit quantum computer developed and operated within the Fieldlab.  You’ll gain insight into the rapidly evolving quantum ecosystem in the region and explore how it fosters collaboration and innovation. \nAgenda Highlights \n15:00 – Walk-in\n15:15 – Presentations\nUlrich Mans (House of Quantum) – Quantum applications overview by Demcon – Industrial opportunities in quantum computing Willemijn (QBlox) – Superconducting qubits & Fieldlab goals and capabilities\n16:15 – Guided tour of the Quantum Fieldlab\n17:00 – Informal networking & drinks \nWhy attend?\nRaise awareness about quantum technology among regional suppliers Discuss current challenges in quantum integration and scalability Explore opportunities for collaboration to address these challenges Whether you’re curious about quantum’s industrial potential or already exploring its applications\, this tour offers a unique opportunity to connect\, learn\, and engage. \nStart Location: Demcon office\, Delftechpark 23 in Delft
URL:https://industrievandaag.nl/event/quantum-fieldlab-tour/
LOCATION:Demcon high-tech systems Delft\, Delftechpark 23\, Delft\, 2628 XJ\, Netherlands
CATEGORIES:Seminar
ORGANIZER;CN="Hi Delta":MAILTO:info@hidelta.nl
END:VEVENT
BEGIN:VEVENT
DTSTART;TZID=Europe/Amsterdam:20260127T140000
DTEND;TZID=Europe/Amsterdam:20260127T160000
DTSTAMP:20260422T143000
CREATED:20251206T073419Z
LAST-MODIFIED:20251206T073419Z
UID:10001560-1769522400-1769529600@industrievandaag.nl
SUMMARY:Slimme oplossingen bij netcongestie in de regio Brainport
DESCRIPTION:De Brainportregio bruist van innovaties en duurzame ambities. Maar die vooruitgang brengt ook nieuwe uitdagingen met zich mee. Het elektriciteitsnet kan de snelgroeiende vraag en het toenemende aanbod van duurzaam opgewekte energie niet altijd bijbenen. Terwijl netbeheerders hard werken aan uitbreiding\, blijft de druk op het net groot. Slimmere oplossingen zijn daarom onmisbaar. Oplossingen die samenwerking\, technologie\, creativiteit én lef combineren. \n\n\n\n\n\n\nOm die oplossingen een podium te geven en praktijkervaringen en successen te delen\, organiseren Brainport Development\, VNO-NCW Brabant Zeeland en de RES Metropoolregio Eindhoven op 27 januari 2026 de derde editie van het event ‘Slimme oplossingen bij netcongestie in de Brainportregio’. \nDoelgroep \nDeze bijeenkomst is bedoeld voor bedrijven die problemen ervaren door netcongestie\, ambtenaren die bezig zijn met het verduurzamen van bedrijven en bedrijventerreinen\, parkmanagers en vastgoedeigenaren. Er is er plek voor maximaal twee personen per partij.
URL:https://industrievandaag.nl/event/slimme-oplossingen-bij-netcongestie-in-de-regio-brainport/
LOCATION:Conference Center The Strip High Tech Campus\, High Tech Campus 1 (The Strip)\, 5656 AE\, 5656 AE\, Nederland
CATEGORIES:Seminar
ORGANIZER;CN="Brainport Development":MAILTO:info@brainportdevelopment.nl
END:VEVENT
BEGIN:VEVENT
DTSTART;TZID=Europe/Amsterdam:20260129T120000
DTEND;TZID=Europe/Amsterdam:20260129T170000
DTSTAMP:20260422T143000
CREATED:20251206T073824Z
LAST-MODIFIED:20251206T073824Z
UID:10001561-1769688000-1769706000@industrievandaag.nl
SUMMARY:Systems Engineering Symposium
DESCRIPTION:Following the success of last year’s inspiring edition featuring keynote speaker Prof. Edward Lee (UC Berkeley)\, TU/e is proud to continue buidling a tradition with its annual symposium on the challenges and advancements in system engineering. \nThis year’s event is hosted by the recently established Casimir Institute for Future Chips and High-tech Systems\, in close collaboration with Brainport Development and NXTGEN Hightech. \nWhile last year’s symposium explored complexity as a key driver for systems engineering\, this year we shift focus to a pressing question: \nHow can systems engineering enhance Dutch and European competitiveness in a rapidly changing global economy? \nAs industries face increasing pressure to innovate and adapt\, the demand for skilled systems engineers is growing. This symposium will delve into how we can better educate and empower the next generation of professionals to meet these challenges head-on.
URL:https://industrievandaag.nl/event/systems-engineering-symposium/
LOCATION:TU/e\, Het Eeuwsel 53\, Eindhoven\, Eindhoven\, 5612 AZ\, Netherlands
CATEGORIES:Seminar
ORGANIZER;CN="TU/e":MAILTO:digitalconcrete2020@tue.nl
GEO:51.4479974;5.4858846
X-APPLE-STRUCTURED-LOCATION;VALUE=URI;X-ADDRESS=TU/e Het Eeuwsel 53 Eindhoven Eindhoven 5612 AZ Netherlands;X-APPLE-RADIUS=500;X-TITLE=Het Eeuwsel 53:geo:5.4858846,51.4479974
END:VEVENT
BEGIN:VEVENT
DTSTART;TZID=Europe/Amsterdam:20260129T140000
DTEND;TZID=Europe/Amsterdam:20260129T180000
DTSTAMP:20260422T143000
CREATED:20251230T063445Z
LAST-MODIFIED:20251230T063445Z
UID:10001623-1769695200-1769709600@industrievandaag.nl
SUMMARY:Stap in de defensiemarkt: van kennis tot kans
DESCRIPTION:Iedereen heeft het over de kansen voor toeleveranciers in de maakindustrie. Tegelijkertijd vraagt toetreden tot deze markt om specifieke kennis\, samenwerking en voorbereiding. En waar liggen die kansen nu eigenlijk? Tijdens deze bijeenkomst nemen we je mee in de wereld van consortia\, tenders en marktsegmenten\, en krijg je concrete handvatten om jouw eerste stappen te zetten.\nWat kun je verwachten?  \n\nInzicht in marktkansen en segmenten waarop je kunt aansluiten\nToegang tot consortia en clusters: hoe vind je de juiste partners?\nEisen en procedures: waar moet je aan voldoen en hoe bereid je je voor?\nPraktijkvoorbeelden en ervaringen van bedrijven die je voorgingen\n\nVoor wie en voor welke marktsegmenten?\nDeze bijeenkomst is bedoeld voor leden van FME en Koninklijke Metaalunie die hun kansen willen verkennen op de defensiemarkt. \nMarktsegmenten in beeld:  \n\nLuchtvaart & ruimtevaart\n→ nauwkeurig verspaningswerk\, composieten\, fixtures\nMaritieme defensie\n→ RVS/staal laswerk\, onderwatertools\, frames & behuizingen\nLandverdediging\n→ behuizingen\, munitiecomponenten\, voertuigonderdelen\nElektronica & sensoren\n→ frames/housings\, heat sinks\, precision machining\nSubsystemen & systeemintegratie\n→ connectoren\, modules\, bracket systems\, prototyping & 0-series\n\nProgramma  \n\n13.30 – 14.00 uur | Inloop\n14.00 – 15.15 uur | De wereld van tenders en consortia /\n– Zaken doen met Defensie\, Bastiaan Oomens (PWC) en\nMaurice van Rooijen (Defensie/Commit)\n– Ervaringen van FMI\, Thales\, Fokker en VDL Defence\n15.15 – 16.00 uur | Werksessies waaraan moet ik voldoen?\n16.00 – 16.30 uur | Pauze en netwerken\n16.30 – 17.15 uur | Deelsessies marktcases\n17.15 – 17.30 uur | Waar kan ik mee aan de slag en afsluiting?\n17.30 – 18.00 uur | Borrel
URL:https://industrievandaag.nl/event/stap-in-de-defensiemarkt-van-kennis-tot-kans/
LOCATION:Avular\, Achtseweg Zuid 221\, Eindhoven\, 5651GW
CATEGORIES:Seminar
ORGANIZER;CN="Koninklijke Metaalunie":MAILTO:info@metaalunie.nl
END:VEVENT
END:VCALENDAR