BEGIN:VCALENDAR
VERSION:2.0
PRODID:-//Industrievandaag - ECPv6.15.18//NONSGML v1.0//EN
CALSCALE:GREGORIAN
METHOD:PUBLISH
X-ORIGINAL-URL:https://industrievandaag.nl
X-WR-CALDESC:Evenementen voor Industrievandaag
REFRESH-INTERVAL;VALUE=DURATION:PT1H
X-Robots-Tag:noindex
X-PUBLISHED-TTL:PT1H
BEGIN:VTIMEZONE
TZID:Europe/Amsterdam
BEGIN:DAYLIGHT
TZOFFSETFROM:+0100
TZOFFSETTO:+0200
TZNAME:CEST
DTSTART:20240331T010000
END:DAYLIGHT
BEGIN:STANDARD
TZOFFSETFROM:+0200
TZOFFSETTO:+0100
TZNAME:CET
DTSTART:20241027T010000
END:STANDARD
BEGIN:DAYLIGHT
TZOFFSETFROM:+0100
TZOFFSETTO:+0200
TZNAME:CEST
DTSTART:20250330T010000
END:DAYLIGHT
BEGIN:STANDARD
TZOFFSETFROM:+0200
TZOFFSETTO:+0100
TZNAME:CET
DTSTART:20251026T010000
END:STANDARD
BEGIN:DAYLIGHT
TZOFFSETFROM:+0100
TZOFFSETTO:+0200
TZNAME:CEST
DTSTART:20260329T010000
END:DAYLIGHT
BEGIN:STANDARD
TZOFFSETFROM:+0200
TZOFFSETTO:+0100
TZNAME:CET
DTSTART:20261025T010000
END:STANDARD
END:VTIMEZONE
BEGIN:VEVENT
DTSTART;TZID=Europe/Amsterdam:20251104T083000
DTEND;TZID=Europe/Amsterdam:20251104T160000
DTSTAMP:20260422T180741
CREATED:20250919T111446Z
LAST-MODIFIED:20250919T111446Z
UID:10001519-1762245000-1762272000@industrievandaag.nl
SUMMARY:pH studiedag
DESCRIPTION:Als expert in process metingen zoals pH\, zuurstof\, CO2 en geleidbaarheid\, informeert Elscolab u over de vele valkuilen die u tegen kunt komen op het gebied van de pH-meting. \nSpecialisten serveren u feiten en wijzen op steeds terugkerende oorzaken van meetafwijkingen. Het seminar geeft u een heldere kijk op aspecten zoals kalibratie\, validatie & controle\, maar gaat ook verder in op de toegevoegde waarde van moderne technieken zoals digitale sensorplatformen\, “Non-Glass” sensortechnologie en automatisering. \nElscolab geeft u tips voor het oplossen en voorkomen van uw meetproblemen via een gebalanceerde mix in presentaties en levensechte simulaties van meetopstellingen in live video! U krijgt als deelnemer een inspirerende kijk op onder meer het effect van de temperatuur op een pH meting en wat er fout kan gaan bij kalibratie. \nVoor wie is dit seminar bedoeld?\nDe meest ervarene krijgen antwoord op onopgeloste vragen en nieuwkomers krijgen een heldere kijk op één van de meest toegepaste on-line metingen in industriële productieprocessen\, kwaliteitscontrole en waterbehandeling.\nKortom voor iedereen die in aanraking komt met de parameter pH geldt: dit seminar mag u niet missen! \nMeer informatie \n 
URL:https://industrievandaag.nl/event/ph-studiedag/
LOCATION:ELSCOLAB\, Da Vincilaan 11 b\, Ede\, 6716 WC\, Netherlands
CATEGORIES:Seminar
ORGANIZER;CN="ELSCOLAB":MAILTO:contact@elscolab.com
END:VEVENT
BEGIN:VEVENT
DTSTART;TZID=Europe/Amsterdam:20251111T130000
DTEND;TZID=Europe/Amsterdam:20251111T170000
DTSTAMP:20260422T180741
CREATED:20250924T114917Z
LAST-MODIFIED:20250924T115011Z
UID:10001521-1762866000-1762880400@industrievandaag.nl
SUMMARY:✅ Hoe Welgro groeit door digitalisering
DESCRIPTION:Stel je voor dat al je bedrijfsprocessen – van tekening tot productieorder – soepel verlopen. Dat je op ieder moment precies weet waar je staat\, dat kostprijzen inzichtelijk zijn en dat je productieproces papierloos én foutloos loopt. Bij Welgro is dit geen verre droom meer! Sinds zij met de geïntegreerde oplossing van Isah en PLM Xpert hun bedrijfsvoering hebben gedigitaliseerd\, zetten zij stevige stappen om dit toekomstbeeld werkelijkheid te maken. \nTijdens dit event deelt directeur Joël Nijenhuis hoe Welgro deze digitaliseringsreis heeft aangepakt: van het analyseren van processen en het maken van strategische keuzes tot de integratie van Isah ERP en PRO.FILE PLM. Tijdens een rondleiding door de fabriek\nkrijg je bovendien een uniek inkijkje in de papierloze productieaansturing van Welgro. \n\nMeer inzicht in de kostprijs per oplegger\nDigitalisering van het productieproces\nEngineering integratie\n\nMeer informatie \n  \n 
URL:https://industrievandaag.nl/event/%e2%9c%85-hoe-welgro-groeit-door-digitalisering/
LOCATION:Welgro\, Parallelweg 18\, Groenlo\, 7141 DC\, Netherlands
CATEGORIES:Seminar
END:VEVENT
BEGIN:VEVENT
DTSTART;TZID=Europe/Amsterdam:20251118T150000
DTEND;TZID=Europe/Amsterdam:20251118T180000
DTSTAMP:20260422T180741
CREATED:20250923T094355Z
LAST-MODIFIED:20251103T092019Z
UID:10001520-1763478000-1763488800@industrievandaag.nl
SUMMARY:Toekomstvertrouwen als motor voor strategische keuzes
DESCRIPTION:Vertrouwen in de toekomst vs. toekomstvertrouwen: het verschil is cruciaal voor de maakindustrie\, hightech en technische B2B \nRecente NEVI PMI-cijfers laten zien dat de bedrijvigheid in de industrie groeit\, maar ook dat geopolitieke spanningen\, handelsoorlogen en importheffingen zorgen voor onzekerheid. Zelfs in de semicon-sector\, waar Nederland wereldwijd een sleutelrol in speelt\, is de realiteit dubbel: er is nog altijd vraag naar high-end machines\, maar markten voor oudere systemen en toepassingen staan onder druk. \nMaar ook toeleveranciers van de automobielsector hebben te maken met een nieuwe werkelijkheid. Want hoewel het nog 10 jaar duurt\, valt toch in 2035 het doek in de EU voor de verkoop van nieuwe auto’s met een brandstofmotor. \nEn wat staat de kunststoffensector te wachten rond de ‘bijmengverplichting’\, of de metaalsector rondom importheffingen vanuit de VS? \nJuist dit soort zaken\, raken aan de kern van de vraag die ondernemers/directeuren en managers zich moeten stellen: geven korte termijn-indicatoren genoeg houvast om te investeren of is er meer nodig? \nDit alles vraagt niet alleen om vertrouwen in de toekomst\, gebaseerd op economische indicatoren\, maar vooral om toekomstvertrouwen: geloof in de eigen wendbaarheid\, innovatiekracht en samenwerking binnen de keten. Alleen dan kunnen bedrijven hun strategische keuzes versterken en blijvend concurrerend zijn.\n💡 Op dinsdag 18 november organiseert STEM Industrial Marketing Community in samenwerking met verschillende Regionale Ontwikkelingsmaatschappijen (ROM’s) een STEM van de Master rondom het thema: Vertrouwen in de toekomst vs. Toekomstvertrouwen. \nTijdens deze masterclass verkennen we met elkaar (deelnemers en experts) de factoren die het verschil maken tussen deze twee begrippen. En hoe bedrijven op basis van inzichten die hieruit naar voren komen hun horizon kunnen verbreden en scenario’s voor de langere termijn durven uitwerken\, ook in tijden van onzekerheid. \nDeze masterclass is speciaal voor managers/ondernemers en beleidsbepalers van technische bedrijven in de maakindustrie en hightechsector. Deelname is kosteloos. \nDeze masterclass vindt mede plaats in het kader van het Regionale Versterkingsplan NTS (RV-NTS) waarin onder meer ROM’s als Horizon Flevoland\, Oost NL\, Brabantse Ontwikkelings Maatschappij (BOM) en …. samenwerken met bedrijven\, kennisinstellingen en overheden om knelpunten voor technische bedrijven structureel aan te pakken. \n📍 Locatie: Horizon Flevoland\, Lelystad\n🕒 Tijd: 15:00 – 17:00 uur met aansluitend een borrel\n👉Graag vooraf aanmelden via de link
URL:https://industrievandaag.nl/event/vertrouwen-in-de-toekomst-vs-toekomstvertrouwen/
LOCATION:Horizon Flevoland\, Adresgegevens volgen na aanmelding\, Lelystad\, Select a Country:
CATEGORIES:Seminar
ORGANIZER;CN="STEM Industrial Marketing Community":MAILTO:contact@stem-imc.com
END:VEVENT
BEGIN:VEVENT
DTSTART;TZID=Europe/Amsterdam:20251119T093000
DTEND;TZID=Europe/Amsterdam:20251119T150000
DTSTAMP:20260422T180741
CREATED:20250404T083809Z
LAST-MODIFIED:20250827T121845Z
UID:10001453-1763544600-1763564400@industrievandaag.nl
SUMMARY:JUMO Kennisevent Safety
DESCRIPTION:Veiligheid wordt steeds meer vereist in de industrie. Begrijp jij wat de basisprincipes van SIL (Safety Integrity Level) en PL (Performance Level) betekenen in jouw proces\, machine of installatie? Weet jij waar je aan moet voldoen én waar je op moet letten bij het opbouwen van een SIL en/of PL-veiligheidskring? \nTijdens het JUMO Kennisevent Basiskennis Safety 2025 ontdek je hoe SIL en PL bijdragen aan verhoogde veiligheid en procesbetrouwbaarheid. Je komt meer te weten over het minimaliseren van risico’s en het bereiken van de hoogste veiligheidsnorm. \nAgenda KE Safety 19 november 2025\n09.30 — 10.00 uur: Ontvangst JUMO Weesp (Rijnkade 18)\n10.00 — 10.15 uur: Welkom en introductie JUMO\n10.15 — 11.15 uur: Inzicht in en uitleg over SIL 1\,2\, of 3 en PL\n11.15 — 12.00 uur: Normen en richtlijnen voor veiligheidskring\n12.00 — 13.00 uur: Lunch\n13.00 — 15.00 uur: Workshop: opbouwen veiligheidskring
URL:https://industrievandaag.nl/event/jumo-kennisevent-safety/
LOCATION:JUMO Meet- en Regeltechniek B.V.\, Rijnkade 18\, WEESP\, 1382 GT\, Nederland
CATEGORIES:Seminar
END:VEVENT
BEGIN:VEVENT
DTSTART;TZID=Europe/Amsterdam:20251120T130000
DTEND;TZID=Europe/Amsterdam:20251120T170000
DTSTAMP:20260422T180741
CREATED:20251024T122406Z
LAST-MODIFIED:20251024T122818Z
UID:10001525-1763643600-1763658000@industrievandaag.nl
SUMMARY:XXL Demo Event Robotica & Technologie
DESCRIPTION:Tijdens het XXL Demo Event Robotica & Technologie in Vlissingen laten meer dan twintig bedrijven zien hoe slimme technologie het werk verandert. Met live demonstraties van robots\, digitale systemen en vision-technologie biedt het event inzicht in concrete toepassingen voor onder meer productie\, logistiek\, agrifood en techniek. De toegang is gratis. \nToekomst van werk in de praktijk\nRobotica en kunstmatige intelligentie (AI) klinken vaak als toekomstmuziek\, maar worden in Zeeland al bij diverse bedrijven toegepast. Denk aan robotarmen in de industrie\, vision-systemen in de landbouw of slimme software in logistiek. Het event brengt deze ontwikkelingen samen op één plek. Bezoekers krijgen tastbare voorbeelden te zien van technologie die werk veiliger\, efficiënter en aantrekkelijker maakt. \n“Robotica biedt kansen voor bedrijven die kampen met personeelstekort\, repeterend werk of risicovolle processen\,” zegt Rutger van der Male van Impuls Zeeland. “Juist in een regio als Zeeland\, waar vergrijzing een rol speelt\, kan slimme technologie écht het verschil maken.” \nLive demonstraties\nEr zijn diverse blikvangers aanwezig. Sorama toont de robot-hond die met geavanceerde akoestische sensoren geluidsgolven opspoort die mensen niet kunnen horen. Ideaal voor het vroegtijdig detecteren van lekkende leidingen. MDE Automation is aanwezig met een robot die razendsnel groente kan sorteren \nKennissessies in de ochtend\nVoorafgaand aan het event zijn er vier gratis kennissessies: \n\nRobotica in de Logistiek • over de toekomst van warehouses en slimme systemen (Zeeland Connect)\n3D printen in de praktijk • met live demo van een nieuwe SLS-printer (KicMPi)\nVision Technologie in agro en food • over AI en kwaliteitscontrole (FoodDelta Zeeland)\nHumanoid Robots: hype of helper? • inclusief kans op deelname aan een pilot (Zephyros & NL Robotics)\n\nTijdens het event is er ruimte voor vervolgvragen. Diverse experts denken mee over financiering van digitaliseringsprojecten. Bezoekers kunnen advies krijgen over subsidies\, regelingen en ondersteuning. \nVoor wie?\nHet event is bedoeld voor bedrijven uit alle sectoren die willen ontdekken wat digitalisering voor hun organisatie kan betekenen. Van directeur tot techneut\, van ondernemer tot opleider: iedereen is welkom. \nPraktische informatie\nDatum: Donderdag 20 november 2025\nLocatie: De KAAP\, Kenniswerf Vlissingen\nTijd: Inloop vanaf 13.00 uur (kennissessies starten eerder) \nMeer informatie
URL:https://industrievandaag.nl/event/xxl-demo-event-robotica-technologie/
LOCATION:Innovatiepunt de KAAP\, Edisonweg 10\, Vlissingen\, Vlissingen\, 4382 NW\, Netherlands
CATEGORIES:Seminar
ORGANIZER;CN="Impuls Zeeland":MAILTO:info@impulszeeland.nl
GEO:51.4534343;3.5920109
X-APPLE-STRUCTURED-LOCATION;VALUE=URI;X-ADDRESS=Innovatiepunt de KAAP Edisonweg 10 Vlissingen Vlissingen 4382 NW Netherlands;X-APPLE-RADIUS=500;X-TITLE=Edisonweg 10:geo:3.5920109,51.4534343
END:VEVENT
BEGIN:VEVENT
DTSTART;TZID=Europe/Amsterdam:20251127T094500
DTEND;TZID=Europe/Amsterdam:20251127T150000
DTSTAMP:20260422T180741
CREATED:20251111T085651Z
LAST-MODIFIED:20251111T085935Z
UID:10001529-1764236700-1764255600@industrievandaag.nl
SUMMARY:Energy Saving Event
DESCRIPTION:Hoe kan de procesindustrie haar CO₂-uitstoot drastisch verminderen zonder aan continuïteit in te boeten? Op donderdag 27 november organiseert Eco Steam and Heating Solutions het Energy Saving Event in de fabriek van Philip Morris International (PMI) in Bergen op Zoom. Bezoekers krijgen daar een unieke blik op de nieuwste generatie hybride stoomketels en innovatieve warmteterugwinningstechnologieën die de fabriek helpen verduurzamen. \nDe Bosch hybride stoomketels van Eco Steam and Heating Solutions combineren conventionele en elektrische verwarming\, waardoor ze flexibel kunnen schakelen tussen energiebronnen. Zo wordt optimaal gebruikgemaakt van groene elektriciteit en restwarmte\, wat niet alleen de CO₂-uitstoot vermindert\, maar ook kosten voor CO₂-rechten helpt verlagen. Door een potentiële verlaging van 4000 ton CO₂ per jaar in combinatie met een reductie van het totaal geïnstalleerde vermogen is er een significante besparing gerealiseerd\, omdat de installaties nu buiten de ETS-grens (Emissions Trading System) vallen. \nTijdens het event zijn twee van deze ketels live in werking te zien. Ook wordt de werking gedemonstreerd van de Energy Recovery Scrubber van JOA Air Solutions — een installatie die eerder al zorgde voor een jaarlijkse reductie van 2.500 ton CO₂ in de fabriek van Philip Morris. \n“Met dit event willen we laten zien dat verduurzaming binnen de industrie niet alleen noodzakelijk is\, maar ook rendabel\,” zegt Jan Bron\, Technisch Commercieel Manager bij Eco Steam and Heating Solutions. “Door elektrificatie te combineren met restwarmteterugwinning\, ontstaan oplossingen die direct bijdragen aan een efficiënter en groener productieproces.” \n“We zijn er dit jaar in geslaagd om koolstofneutraal te opereren\, dat is een bijzondere prestatie binnen onze industrie\,” zegt Katrien Jacobs\, Sustainability Manager bij PMI. “Een van de meest innovatieve projecten in onze fabriek in Bergen op Zoom is de inzet van hybride boilers\, die conventionele en elektrische verwarming combineren. Met deze stap willen we efficiënter stoom genereren voor onze productieprocessen\, wat leidt tot een jaarlijkse CO₂-reductie van ruim 4.000 ton. Daarnaast streven we ernaar om tegen 2040 volledig Net Zero te zijn.’’ \nNaast de demonstraties staan presentaties op het programma over warmte-integratie\, energieterugwinning\, het inzetten van warmtepompen om efficiëntie te verhogen en het gebruik van dynamische energievoorziening. Het event is gericht op engineers\, maintenance professionals\, operations managers en duurzaamheidsverantwoordelijken in de procesindustrie. \nEnergy Saving Event \n\nDatum: donderdag 27 november 2025\nLocatie: Philip Morris International\, Bergen op Zoom\nAanvang: 09.45 uur\nRegistratie: energy-saving-event.eventbrite.nl
URL:https://industrievandaag.nl/event/energy-saving-event/
LOCATION:Philip Morris International\, Marconilaan 20\, Bergen op Zoom\, 4622 RD\, Netherlands
CATEGORIES:Seminar
END:VEVENT
END:VCALENDAR