BEGIN:VCALENDAR
VERSION:2.0
PRODID:-//Industrievandaag - ECPv6.15.18//NONSGML v1.0//EN
CALSCALE:GREGORIAN
METHOD:PUBLISH
X-WR-CALNAME:Industrievandaag
X-ORIGINAL-URL:https://industrievandaag.nl
X-WR-CALDESC:Evenementen voor Industrievandaag
REFRESH-INTERVAL;VALUE=DURATION:PT1H
X-Robots-Tag:noindex
X-PUBLISHED-TTL:PT1H
BEGIN:VTIMEZONE
TZID:Europe/Amsterdam
BEGIN:DAYLIGHT
TZOFFSETFROM:+0100
TZOFFSETTO:+0200
TZNAME:CEST
DTSTART:20240331T010000
END:DAYLIGHT
BEGIN:STANDARD
TZOFFSETFROM:+0200
TZOFFSETTO:+0100
TZNAME:CET
DTSTART:20241027T010000
END:STANDARD
BEGIN:DAYLIGHT
TZOFFSETFROM:+0100
TZOFFSETTO:+0200
TZNAME:CEST
DTSTART:20250330T010000
END:DAYLIGHT
BEGIN:STANDARD
TZOFFSETFROM:+0200
TZOFFSETTO:+0100
TZNAME:CET
DTSTART:20251026T010000
END:STANDARD
BEGIN:DAYLIGHT
TZOFFSETFROM:+0100
TZOFFSETTO:+0200
TZNAME:CEST
DTSTART:20260329T010000
END:DAYLIGHT
BEGIN:STANDARD
TZOFFSETFROM:+0200
TZOFFSETTO:+0100
TZNAME:CET
DTSTART:20261025T010000
END:STANDARD
END:VTIMEZONE
BEGIN:VEVENT
DTSTART;TZID=Europe/Amsterdam:20250911T093000
DTEND;TZID=Europe/Amsterdam:20250911T170000
DTSTAMP:20260422T214313
CREATED:20250827T121655Z
LAST-MODIFIED:20250924T114405Z
UID:10001498-1757583000-1757610000@industrievandaag.nl
SUMMARY:✅ Brouwerijseminar 2025: Van gist tot glas – Optimalisatie in de brouwerij
DESCRIPTION:Op 11 september 2025 organiseert Endress+Hauser in Naarden het Brouwerijseminar 2025\, een must voor bierbrouwers die streven naar procesoptimalisatie. Deze dag biedt een mix van inspirerende sessies en praktijkvoorbeelden\, gericht op het minimaliseren van extractverliezen\, verbeterde fermentatiemonitoring\, snelle detectie van ongewenste bacteriën\, efficiënt energiemanagement en slim spare parts management. \nExperts zoals Tomaso Della Vedova (Global Brewing Technology Lead) en brouwers van Gooische Bierbrouwerij en Jopen delen hun inzichten en succesverhalen. Ontdek hoe technologie en precisie leiden tot minder verspilling\, hogere concurrentiekracht en naleving van overheidsnormen. \nDe dag start met een inloop om 9:30\, gevolgd door presentaties\, pauzes\, een lunch en een afsluitende netwerkborrel.
URL:https://industrievandaag.nl/event/%e2%9c%85-brouwerijseminar-2025-van-gist-tot-glas-optimalisatie-in-de-brouwerij/
LOCATION:Endress+Hauser\, Nikkelstraat 6\, Naarden\, 1411 AJ\, Nederland
CATEGORIES:Seminar
ORGANIZER;CN="Endress+Hauser":MAILTO:marketing@nl.endress.com
GEO:52.3038429;5.1485224
X-APPLE-STRUCTURED-LOCATION;VALUE=URI;X-ADDRESS=Endress+Hauser Nikkelstraat 6 Naarden 1411 AJ Nederland;X-APPLE-RADIUS=500;X-TITLE=Nikkelstraat 6:geo:5.1485224,52.3038429
END:VEVENT
BEGIN:VEVENT
DTSTART;TZID=Europe/Amsterdam:20250919T120000
DTEND;TZID=Europe/Amsterdam:20250919T160000
DTSTAMP:20260422T214313
CREATED:20250725T050214Z
LAST-MODIFIED:20250924T114349Z
UID:10001495-1758283200-1758297600@industrievandaag.nl
SUMMARY:✅ Kennisevent Veiligheid in de industrie
DESCRIPTION:In samenwerking met ABB en Hemmink organiseert Van Egmond Groep op vrijdag 19 september 2025 het Kennisevent Veiligheid in de industrie! Tijdens een inspirerende middag dompelen we je onder in de nieuwste trends en regelgeving op het gebied van machine- en voedselveiligheid. De sprekers – experts uit de industrie – delen hun kennis en praktijkervaringen om jouw (productie)proces veiliger en duurzamer te maken. Van de impact van de Machineverordening tot slimme ontwerpoplossingen voor voedselveiligheid: je krijgt praktische inzichten en direct toepasbare adviezen. Meld je direct gratis aan! \nVoor wie?\nHet event is met name interessant voor machinebouwers en productiebedrijven die het thema veiligheid (beter) willen integreren binnen hun organisatie. Denk aan engineers\, compliance- en kwaliteitsmanagers of technisch leidinggevenden. \nProgramma\n\n\n\n12:00 uur\nOntvangst en lunch\n\n\n12:30 uur\nOpening en welkomstwoord door Van Egmond Groep\n\n\n12:45 uur\nSessie 1 – Trends & Regelgeving: Machineverordening & circulariteit\nOnderwerpen: \n\nEuropese machineverordening per 2027 en bijbehorende impact;\nRol van circulariteit binnen ontwerp en productie;\n\nSpreker: Hans van der Steen\, Business Manager en missionaris voor Circulair ontwerpen\, Hygienic Design Network (HDN) \n\n\n13:45 uur\nSessie 2 – Voedselveiligheid begint bij het juiste ontwerp en bijbehorende componenten\nSpreker: Pascal Eijkelkamp\, Teamleider Industrie Hemmink \n\n\n14:00 uur\nKoffiepauze\n\n\n14:15 uur\nSessie 3 – Engineer het beste uit je machine\nOnderwerpen: \n\nMachineveiligheid in de praktijk;\nVoedselveiligheid en machineveiligheid gaan hand in hand;\nDuurzaamheid in de machinebouw; zo doe je dat!\n\nSpreker: Erwin Rodenburgh\, Product Marketing Specialist Control ABB \n\n\n14:45 uur\nSessie 4 – Hoe zorgt Van Egmond Groep voor een veilig en continu productieproces?\nSpreker: Peter Köster\, Technical Support Specialist Van Egmond Groep \n\n\n15:15 uur\nBorrel en napraten bij demo’s ABB & Hemmink
URL:https://industrievandaag.nl/event/%e2%9c%85-kennisevent-veiligheid-in-de-industrie/
LOCATION:Van Egmond Groep\, Expeditieweg 4\, Doetinchem\, 7007 CM\, Netherlands
CATEGORIES:Seminar
ORGANIZER;CN="Van Egmond Groep":MAILTO:verkoop@vanegmond.nl
GEO:51.9447727;6.2833633
X-APPLE-STRUCTURED-LOCATION;VALUE=URI;X-ADDRESS=Van Egmond Groep Expeditieweg 4 Doetinchem 7007 CM Netherlands;X-APPLE-RADIUS=500;X-TITLE=Expeditieweg 4:geo:6.2833633,51.9447727
END:VEVENT
BEGIN:VEVENT
DTSTART;TZID=Europe/Amsterdam:20250924T093000
DTEND;TZID=Europe/Amsterdam:20250924T160000
DTSTAMP:20260422T214313
CREATED:20250819T095323Z
LAST-MODIFIED:20250924T114339Z
UID:10001496-1758706200-1758729600@industrievandaag.nl
SUMMARY:✅ Industrie in 4D – Alles over slimme\, duurzame\, meer verbonden productie
DESCRIPTION:Digitalisering van je fabriek is essentieel om te voldoen aan de hoge eisen voor efficiëntie\, duurzaamheid en consistentie. Ontdek hoe je digitalisatie start en accelereert\, welke oplossingen er zijn en hoe je die implementeert. Tijdens het event vertelt Pieter van den Hoogenband over slim samenwerken en hoor je tal van praktijkvoorbeelden van onze klanten en partners: Royal Vaassen Flexible Packaging\, Vreugdenhil\, Aveva\, Brighteye\, Mendix\, Omron\, Parsec Automation\, Rockwell Automation en Siemens. Ervaar wat er allemaal mogelijk is en laat je inspireren! \n\n\n\n\n\n\n\n\nSlim produceren met data\, AI en duurzame technologie\nWe nemen je mee in drie digitalisatie-thema’s: \n\nData- en AI-gedreven productie\nAl je machines en programma’s genereren data. Door deze informatie samen te voegen kun je processen machine-overstijgend analyseren met AI. Dit geeft je inzicht in de prestaties van je fabriek en daarmee kun je processen automatiseren en efficiënter inrichten.\nClean manufacturing\nEfficiëntie en verduurzaming gaan hand in hand. Ontdek hoe automatisering\, robotica en AI je helpen om processen te verbeteren en verspilling tegen te gaan. Voor minder grondstofverbruik\, energieverbruik en afvalproductie. Zo haal je jouw productie- én duurzaamheidsdoelen\nIT/OT-convergence\nEr zijn tal van IT-oplossingen die óók toepasbaar zijn op OT. We gaan in op nieuwe technologische ontwikkelingen en waar je die kunt inzetten in de fabriek. Van lowcode-software tot AI-ondersteuning voor de operator\, er is meer mogelijk dan je denkt.\n\n\n\n\n\n\n\n\n\n\n\n\n\n\n\n\n\nKeynote speaker\nPieter van den Hoogenband sluit het event Industrie in 4D af als inspirerende keynote speaker. Met zijn olympische ervaring en visie op topsport en innovatie brengt hij een unieke invalshoek. Zijn verhaal benadrukt het belang van slim samenwerken: samen probeer je op een intelligente manier de uitdagingen die op je pad komen op te lossen\, waardoor jij en het team beter worden. Van den Hoogenband is nu in staat om wetenschap te koppelen aan sport en het bedrijfsleven\, en deelt hoe deze aanpak zowel op het sportveld als in de industrie leidt tot succes. \n\n\n\n\n\n\n\n\n 
URL:https://industrievandaag.nl/event/%e2%9c%85-industrie-in-4d-alles-over-slimme-duurzame-meer-verbonden-productie/
LOCATION:Actemium Industrial Technology Center\, Poort van Veghel 4940\, Veghel\, 5466 SB
CATEGORIES:Seminar
ORGANIZER;CN="Actemium":MAILTO:tanja.meijer@actemium.com
END:VEVENT
BEGIN:VEVENT
DTSTART;TZID=Europe/Amsterdam:20250925T100000
DTEND;TZID=Europe/Amsterdam:20250925T210000
DTSTAMP:20260422T214313
CREATED:20250827T121727Z
LAST-MODIFIED:20250827T121727Z
UID:10001499-1758794400-1758834000@industrievandaag.nl
SUMMARY:GTIA Benelux community meeting
DESCRIPTION:GTIA (Global Technology Industry Association) houdt op 25 september 2025 haar najaarseditie van de Benelux Community Meeting in Eindhoven. Tijdens deze bijeenkomst komen leveranciers\, distributeurs\, ITSP’s en MSP’s samen om kennis uit te wisselen over actuele thema’s zoals kunstmatige intelligentie\, cybersecurity en kanaalstrategie.\n\nDe GTIA Benelux Community Meeting geldt als een belangrijk platform voor samenwerking en innovatie binnen het IT-kanaal in de Benelux. Het programma richt zich specifiek op de impact en toepassingen van AI\, evenals de implicaties van Europese regelgeving zoals NIS2. \nPraktische sessies en strategische verdieping\nOnder de noemer ‘Genius Café’ kunnen deelnemers een-op-een in gesprek met experts voor praktisch advies over onderwerpen als AI-automatisering\, go-to-market strategieën en compliance. Daarnaast staat een interactieve panelsessie over de rol van AI binnen het MSP-ecosysteem op het programma\, waarin trends\, kansen en risico’s worden besproken. \nVoor leveranciers en distributeurs uit de community biedt GTIA op 26 september ook een aanvullende\, gratis training aan onder de titel Managing the Technology Channel – Part 2. Deze vier uur durende sessie is gericht op het verbeteren van kanaalsamenwerking en verkoopstrategieën. \nFocus op kennisdeling en netwerken\nHet evenement biedt meerdere kennistracks\, waaronder: \n\nCybersecurity & NIS2\nAI & Automatisering\nSales & Marketing (met focus op consultative selling)\n\nMet deze editie onderstreept GTIA haar missie om technologiebedrijven te ondersteunen in het navigeren door een snel veranderend digitaal landschap\, met praktische inzichten en directe verbindingen tussen marktspelers. \nRegistratie is inmiddels geopend. De volledige agenda wordt binnenkort bekendgemaakt.
URL:https://industrievandaag.nl/event/gtia-benelux-community-meeting/
LOCATION:Van der Valk Eindhoven\, Aalsterweg 322\, Eindhoven\, Nederland
CATEGORIES:Seminar
GEO:51.4066487;5.4785264
X-APPLE-STRUCTURED-LOCATION;VALUE=URI;X-ADDRESS=Van der Valk Eindhoven Aalsterweg 322 Eindhoven Nederland;X-APPLE-RADIUS=500;X-TITLE=Aalsterweg 322:geo:5.4785264,51.4066487
END:VEVENT
END:VCALENDAR