BEGIN:VCALENDAR
VERSION:2.0
PRODID:-//Industrievandaag - ECPv6.15.18//NONSGML v1.0//EN
CALSCALE:GREGORIAN
METHOD:PUBLISH
X-ORIGINAL-URL:https://industrievandaag.nl
X-WR-CALDESC:Evenementen voor Industrievandaag
REFRESH-INTERVAL;VALUE=DURATION:PT1H
X-Robots-Tag:noindex
X-PUBLISHED-TTL:PT1H
BEGIN:VTIMEZONE
TZID:Europe/Amsterdam
BEGIN:DAYLIGHT
TZOFFSETFROM:+0100
TZOFFSETTO:+0200
TZNAME:CEST
DTSTART:20240331T010000
END:DAYLIGHT
BEGIN:STANDARD
TZOFFSETFROM:+0200
TZOFFSETTO:+0100
TZNAME:CET
DTSTART:20241027T010000
END:STANDARD
BEGIN:DAYLIGHT
TZOFFSETFROM:+0100
TZOFFSETTO:+0200
TZNAME:CEST
DTSTART:20250330T010000
END:DAYLIGHT
BEGIN:STANDARD
TZOFFSETFROM:+0200
TZOFFSETTO:+0100
TZNAME:CET
DTSTART:20251026T010000
END:STANDARD
BEGIN:DAYLIGHT
TZOFFSETFROM:+0100
TZOFFSETTO:+0200
TZNAME:CEST
DTSTART:20260329T010000
END:DAYLIGHT
BEGIN:STANDARD
TZOFFSETFROM:+0200
TZOFFSETTO:+0100
TZNAME:CET
DTSTART:20261025T010000
END:STANDARD
END:VTIMEZONE
BEGIN:VEVENT
DTSTART;TZID=Europe/Amsterdam:20250603T150000
DTEND;TZID=Europe/Amsterdam:20250603T190000
DTSTAMP:20260423T033543
CREATED:20250403T142135Z
LAST-MODIFIED:20250530T044712Z
UID:10001384-1748962800-1748977200@industrievandaag.nl
SUMMARY:Metaalunie Productiviteitskringen: Ontsnappen aan de waan van de dag door technische en organisatorische maatregelen: wat werkt?
DESCRIPTION:Vijfde serie Metaalunie Productiviteitskringen: Ontsnappen aan de waan van de dag door technische en organisatorische maatregelen: wat werkt? \nIn de afgelopen weken heeft het Teqnow-team van Metaalunie gewerkt aan de voorbereidingen van deze nieuwe serie Productiviteitskring-bijeenkomsten. We zijn te gast bij prachtige Metaalunie-lidbedrijven. Ook in jouw regio. De inschrijving is nu geopend. Meld  je direct aan om van een plaats verzekerd te zijn! \nWat gaan we doen?\nWord jij soms ook geleefd door de waan van de dag? En ben je benieuwd hoe jij daar door technische en organisatorische maatregelen aan kan ontsnappen? Dat is waar het in deze vijfde editie van de Productiviteitskringen om gaat! Wat werkt in de praktijk? Wat zijn oplossingen bij collega-metaaluniebedrijven en experts? Met veel praktijkvoorbeelden en het delen van ervaringen met collega’s. Ben je benieuwd naar: \n✅ Je klantcontact en offertetraject stroomlijnen? \n✅ Je productie aansturen als een geoliede machine waar het fijn werken is? \n✅ Fouten en verstoring voorspellen en voorkomen? \n✅ AI en slimme apps inzetten als assistent? \n✅ Slim kennis delen en doorgeven? \n✅ Slim automatiseren waardoor routinematige taken uit handen worden genomen? \n✅ Collega’s die zelfstandig hun taak uitvoeren en elke dag beter worden? \nWat levert het op?\nWanneer je minder in beslag wordt genomen door de waan van de dag\, creëer je ruimte voor langetermijnontwikkeling\, strategische keuzes en innovatie. Daarmee versterk je de concurrentiekracht van je bedrijf. \nProductiviteitskringen\nProductiviteitskringen zijn regionale bijeenkomsten waarbij we te gast zijn bij een collega-Metaalunielid. Het draait om inspiratie en kennis over slimmer en productiever werken in het MKB metaalbedrijf.  Wat je kunt verwachten is een overvloed aan ideeën en tips uit de praktijk van Teqnow en van collega-bedrijven. Ook is er alle ruimte om te sparren met vakgenoten en om kennis\, ervaring en inzichten met elkaar te delen. \nDoelgroep\nDeze bijeenkomsten zijn voor ondernemers en medewerkers die willen ontsnappen aan de waan van de dag. \nAanmelden\nLet op: er is plaats voor slechts maximaal 30 deelnemers per bijeenkomst. Jouw aanmelding wordt in volgorde van binnenkomst afgehandeld. Claim dus snel je deelname via https://metaalunie.nl/Actueel/Agenda-bijeenkomsten \nData en locaties\n18 maart in Breda bij AMT Group\n25 maart in Holten bij TechNikkels\n10 april in Oisterwijk bij De Cromvoirtse\n17 april in Westerbork bij GeTech\n27 mei in Heerlen bij Oostwegel Special Products\n3 juni in Zwijndrecht bij Forceertechniek Koolmees
URL:https://industrievandaag.nl/event/metaalunie-productiviteitskringen-ontsnappen-aan-de-waan-van-de-dag-door-technische-en-organisatorische-maatregelen-wat-werkt-6/
CATEGORIES:Bedrijfsdag,Seminar
ORGANIZER;CN="Koninklijke Metaalunie":MAILTO:info@metaalunie.nl
END:VEVENT
BEGIN:VEVENT
DTSTART;TZID=Europe/Amsterdam:20250604T093000
DTEND;TZID=Europe/Amsterdam:20250604T150000
DTSTAMP:20260423T033543
CREATED:20250403T142135Z
LAST-MODIFIED:20250530T044712Z
UID:10001387-1749029400-1749049200@industrievandaag.nl
SUMMARY:JUMO Kennisevent Temp.sensoren + Kalibratie
DESCRIPTION:Een correcte kalibratie van temperatuursensoren is essentieel voor optimalisatie van jouw besturing en bepalend voor een constant hoge productkwaliteit. Tevens kun je met een preciezere meting veel energie besparen. \nWil jij weten welke factoren van invloed zijn op de meetkring zodat je downtijd kunt voorkomen? Geef je dan nu op voor het JUMO Kennisevent Temperatuursensoren + Kalibratie 2025. \nAgenda KE Temp.sensoren + Kalibratie 4 juni 2025\n09.30 — 10.00 uur: Ontvangst JUMO Weesp (Rijnkade 18)\n10.00 — 10.15 uur: Welkom en introductie JUMO\n10.15 — 10.45 uur: Basiswerking van temperatuursensoren\n11.00 — 12.00 uur: Normen en richtlijnen (reactietijd en nauwkeurigheid)\n12.00 — 13.00 uur: Lunch\n13.00 — 13.45 uur: Kalibreren\, justeren\, ijken\n14.00 — 15.00 uur: Workshop temperatuurtechniek
URL:https://industrievandaag.nl/event/jumo-kennisevent-temp-sensoren-kalibratie/
LOCATION:JUMO Meet- en Regeltechniek B.V.\, Rijnkade 18\, WEESP\, 1382 GT\, Nederland
CATEGORIES:Seminar
END:VEVENT
BEGIN:VEVENT
DTSTART;TZID=Europe/Amsterdam:20250612T133000
DTEND;TZID=Europe/Amsterdam:20250612T193000
DTSTAMP:20260423T033543
CREATED:20250507T080713Z
LAST-MODIFIED:20250606T023206Z
UID:10001488-1749735000-1749756600@industrievandaag.nl
SUMMARY:Machevo Connect
DESCRIPTION:Op donderdag 12 juni 2025 organiseert de Machevo & Bulk Vereniging een nieuwe editie van Machevo Connect\, het netwerkevent speciaal gericht op toeleveranciers in de procesindustrie. Dit jaar staat volledig in het teken van Artificial Intelligence (AI) en de impact ervan op de industriële praktijk. \nTijdens deze bijeenkomst die plaatsvindt in Evenementenhal Gorinchem komen techniek\, praktijkervaring en juridische aspecten rondom AI samen. De gerenommeerde sprekers uit verschillende vakgebieden geven inzicht in actuele toepassingen\, juridische kaders en toekomstige mogelijkheden van AI in de procesindustrie. \nProgramma en sprekers: \n\nKaj Kruize – Subvention\n\nKaj Kruize heeft ervaring als backend-programmeur bij KPMG en is momenteel Teamleider IT bij Subvention. Hij geeft inzicht in hoe bedrijven met succes gesubsidieerde AI-projecten kunnen benutten. Aan de hand van praktijkvoorbeelden laat hij zien hoe digitalisering direct rendement oplevert en bespreekt hij actuele subsidiemogelijkheden. \n\nNiek Gillis – Subvention\n\nAls Teamleider Industrie begeleidt Niek Gillis al twaalf jaar bedrijven uit de voedingsmiddelen- en zuivelindustrie bij investeringen in digitalisering\, energiebesparing en duurzaamheid. Hij presenteert concrete subsidieregelingen die bedrijven juist nu helpen hun industriële processen te innoveren. \n\nMarco Balhuizen & Rutger Ketting – Nysingh advocaten & notarissen\n\nDe juridische kant van AI roept veel vragen op. Marco Balhuizen\, specialist mededingingsrecht\, en ICT-jurist Rutger Ketting geven heldere antwoorden over juridische aandachtspunten bij data\, AI en privacy. Ze behandelen praktische thema’s zoals GDPR\, contractuele risico’s en ethische vraagstukken. \n\nProf. dr. ir. Dingena Schott – TU Delft\n\nHoogleraar Machine Cargo Interaction Engineering Dingena Schott demonstreert hoe AI en big data de efficiëntie van bulkhandling sterk kunnen verbeteren. Ze deelt onderzoeksresultaten en praktijkvoorbeelden waarin kunstmatige intelligentie transport- en opslagprocessen optimaliseert. \n\nRob Braun – Dynaminds\n\nRob Braun\, strategisch adviseur bij Dynaminds\, legt uit dat AI veel meer is dan enkel technologie. Hij toont met praktijkvoorbeelden hoe AI kan fungeren als katalysator voor zowel maatschappelijke als commerciële vooruitgang en deelt inzichten over direct toepasbare mogelijkheden. \nAanmelden voor Machevo Connect \nDeelname is kosteloos maar aanmelden noodzakelijk. \nMeld je aan
URL:https://industrievandaag.nl/event/machevo-connect/
LOCATION:Evenementenhal Gorinchem\, Franklinweg 2\, Gorinchem\, 4207 HZ\, Nederland
CATEGORIES:Seminar
GEO:51.8399749;5.0092331
X-APPLE-STRUCTURED-LOCATION;VALUE=URI;X-ADDRESS=Evenementenhal Gorinchem Franklinweg 2 Gorinchem 4207 HZ Nederland;X-APPLE-RADIUS=500;X-TITLE=Franklinweg 2:geo:5.0092331,51.8399749
END:VEVENT
BEGIN:VEVENT
DTSTART;TZID=Europe/Amsterdam:20250625T130000
DTEND;TZID=Europe/Amsterdam:20250625T200000
DTSTAMP:20260423T033543
CREATED:20250403T142152Z
LAST-MODIFIED:20250620T044707Z
UID:10001398-1750856400-1750881600@industrievandaag.nl
SUMMARY:Smart Industry Summit
DESCRIPTION:De Smart Industry Summit 2025 is hét evenement voor professionals in industriële automatisering. Op woensdag 25 juni 2025 komen experts en innovators samen om de nieuwste ontwikkelingen en trends te verkennen in Mereveld\, Utrecht. \nNa het overweldigende succes van de vorige editie in 2023 keren we terug met een nóg inspirerender programma. Tijdens Smart Industry Summit 2025 duiken we in de nieuwste ontwikkelingen binnen de industriële automatisering en bespreken we de trends die de toekomst gaan bepalen. We behandelen onderwerpen zoals downtime en business continuity\, digital transformation en leiderschap\, duurzaamheid en energiebeheer\, Industrie 5.0\, OT cybersecurity\, cloud & edge computing en data & AI. Wilt u invloed hebben op het programma? Laat ons in het aanmeldformulier dan weten welke onderwerpen u het meest aanspreken en of er andere thema’s zijn die relevant zijn voor uw bedrijf. \n\n   \n 
URL:https://industrievandaag.nl/event/smart-industry-summit/
LOCATION:Mereveld Utrecht\, Mereveldseweg 9\, Utrecht\, UT\, 3585 LH\, Netherlands
CATEGORIES:Seminar
ORGANIZER;CN="ICT Group":MAILTO:info@ict.nl
END:VEVENT
END:VCALENDAR