BEGIN:VCALENDAR
VERSION:2.0
PRODID:-//Industrievandaag - ECPv6.15.18//NONSGML v1.0//EN
CALSCALE:GREGORIAN
METHOD:PUBLISH
X-ORIGINAL-URL:https://industrievandaag.nl
X-WR-CALDESC:Evenementen voor Industrievandaag
REFRESH-INTERVAL;VALUE=DURATION:PT1H
X-Robots-Tag:noindex
X-PUBLISHED-TTL:PT1H
BEGIN:VTIMEZONE
TZID:Europe/Amsterdam
BEGIN:DAYLIGHT
TZOFFSETFROM:+0100
TZOFFSETTO:+0200
TZNAME:CEST
DTSTART:20240331T010000
END:DAYLIGHT
BEGIN:STANDARD
TZOFFSETFROM:+0200
TZOFFSETTO:+0100
TZNAME:CET
DTSTART:20241027T010000
END:STANDARD
BEGIN:DAYLIGHT
TZOFFSETFROM:+0100
TZOFFSETTO:+0200
TZNAME:CEST
DTSTART:20250330T010000
END:DAYLIGHT
BEGIN:STANDARD
TZOFFSETFROM:+0200
TZOFFSETTO:+0100
TZNAME:CET
DTSTART:20251026T010000
END:STANDARD
BEGIN:DAYLIGHT
TZOFFSETFROM:+0100
TZOFFSETTO:+0200
TZNAME:CEST
DTSTART:20260329T010000
END:DAYLIGHT
BEGIN:STANDARD
TZOFFSETFROM:+0200
TZOFFSETTO:+0100
TZNAME:CET
DTSTART:20261025T010000
END:STANDARD
END:VTIMEZONE
BEGIN:VEVENT
DTSTART;TZID=Europe/Amsterdam:20250403T090000
DTEND;TZID=Europe/Amsterdam:20250403T170000
DTSTAMP:20260423T072655
CREATED:20250403T142026Z
LAST-MODIFIED:20250403T142026Z
UID:10001339-1743670800-1743699600@industrievandaag.nl
SUMMARY:✅ Xperience Day 2025
DESCRIPTION:Interested in Taking Your First Step in AM?\nRe-imagine what is possible and rethink your previous manufacturing limitations. Additive manufacturing has changed the rules of the game and applications that seemed impossible are now a reality. Leverage our expertise in your AM journey and learn more. \nTogether with Parts on Demand\, we invite you to the Xperience Day on April 3rd\, 2025 for a deep dive into Industrial Polymer 3D printing. Parts on Demand and EOS experts\, as well as customers and partners\, will share their insights and experiences. Take a look at the production facilities at Parts on Demand and meet industry experts. Don’t miss this chance to explore the world of 3D printing and learn how to successfully implement this transformative technology in your business. \nTest the new ALM 950 HD material! Sign up now and take advantage of this exclusive opportunity: Send us your STL file\, and we’ll print your part using the brand-new ALM 950 HD material. It’s that easy! \nWho is the event for?\nThis event is perfect for those looking to explore the potential of 3D printing. It’s relevant for designers\, production managers\, technical directors\, and R&D engineers who are interested in or already exploring the benefits of AM. \nWhat is the event about?\nExplore the potential of polymer 3D printing! Our speaker will share success stories and special insights. The event concludes with a tour of the Parts on Demand partner facility\, showcasing live EOS systems and real-world applications! \nDate: 3rd April 2025\n\n\n\n\n09:00 – 09:30\nRegistration & Networking\n\n\n09:30 – 10:00\nWelcome & The Power of Polymer\nTina Schlingmann | EOS\n\n\n10:00 – 10:30\nGo Additive with Application Examples\nNeil van Es | Parts on Demand\n\n\n10:30 – 11:00\nCustomer Session\ntbd\n\n\n11:00 – 11:30\nCoffee & Expert Exchange\n\n\n11:30 – 12:00\nPanel Discussion | Customer-Session\n\n\n12:00 – 12:30\nPolymer Materials in Focus: ALM x EOS Insights\nSam Houston | ALM – Daniel Schröder | EOS\n\n\n12:30 – 14:30\nLunch & Parts on Demand Tour\n\n\n14.30 – 15.00\nCustomer Session\nBruno Alves | Ford-Werke\n\n\n15:00 – 15:30\nFinal Q&A-Session\nNeil van Es | Parts on Demand – Tina Schlingmann | EOS\n\n\n15.30 – 17.00\nEnd of Event & Networking\n\n\n\n\n  \nMore info\n 
URL:https://industrievandaag.nl/event/%e2%9c%85-xperience-day-2025/
LOCATION:Parts on Demand\, Schaverijstraat 9d\, Utrecht\, 3534 AS\, Netherlands
CATEGORIES:Seminar
ORGANIZER;CN="Parts on Demand":MAILTO:info@partsondemand.de
END:VEVENT
BEGIN:VEVENT
DTSTART;TZID=Europe/Amsterdam:20250408T090000
DTEND;TZID=Europe/Amsterdam:20250408T130000
DTSTAMP:20260423T072655
CREATED:20250403T142026Z
LAST-MODIFIED:20250404T044713Z
UID:10001341-1744102800-1744117200@industrievandaag.nl
SUMMARY:Bescherm je legacy OT-systemen en applicaties: Ontdek hoe je risico’s in kaart brengt
DESCRIPTION:Een nieuw event in Arnhem op dinsdag 8 april 2025 focust op de groeiende behoefte aan robuuste cybersecurity maatregelen binnen Operational Technology (OT) en Industrial Automation and Control Systems (IACS). Het event behandelt de volgende vragen: \n\nWaarom is het beveiligen van OT/IACS essentieel?\nHoe breng je de risico’s in kaart en pak je ze aan?\nWat is de effectieve OT-aanpak om zowel legacy als moderne OT-systemen te beschermen?\n\nInhoud \nDe complexiteit van OT/IACS-omgevingen\, in combinatie met de toenemende dreiging van cyberaanvallen en de opkomst van nieuwe regelgeving zoals de NIS2-richtlijn\, plaatst organisaties voor aanzienlijke uitdagingen. Veel bedrijven worstelen met het beveiligen van legacy systemen\, die vaak cruciaal zijn voor de bedrijfsvoering\, maar tegelijkertijd kwetsbaar zijn voor aanvallen. \n  \nDit evenement biedt een platform waar experts en professionals samenkomen om kennis en best practices te delen op het gebied van: \n\nRisico-inventarisatie en impactanalyse in OT/IACS-omgevingen.\nHet beveiligen van legacy systemen\, inclusief netwerkhardening\, patching en anti-malware strategieën.\nHet implementeren van segmentatie en intrusion detection/prevention systemen.\nDe toepassing van OT Zero Trust principes voor een verbeterde beveiligingspositie.\nDe implicaties van de NIS2-richtlijn en de stappen die organisaties moeten nemen om compliant te zijn.\n\nLive demonstraties en klantcase \nHet event omvat live demonstraties van OT-specifieke cybersecurity oplossingen en een presentatie van een klantcase\, waarin stapsgewijs het proces om risico’s in kaart te brengen wordt toegelicht. Een van de gedemonstreerde oplossingen is TXOne StellarProtect\, een anti-malware oplossing die ontworpen is voor OT-omgevingen en ondersteuning biedt voor oudere besturingssystemen. \nPraktische Informatie \n\nDatum: Dinsdag 8 april 2025\nTijd: 09:00 – 13:00 uur\nLocatie: Hotel Haarhuis\, Arnhem\n\nAanmelding \nGeïnteresseerden kunnen zich aanmelden via https://www.modelec.nl/bescherm-je-legacy-ot-systemen-en-applicaties-ontdek-hoe-je-risicos-in-kaart-brengt/. Vanwege de beperkte beschikbaarheid wordt vroege registratie aanbevolen. \n 
URL:https://industrievandaag.nl/event/bescherm-je-legacy-ot-systemen-en-applicaties-ontdek-hoe-je-risicos-in-kaart-brengt/
LOCATION:Hotel Haarhuis\, Stationsplein 1\, Arnhem\, 6811 KG\, Nederland
CATEGORIES:Seminar
ORGANIZER;CN="MODELEC Data-Industrie":MAILTO:contact@modelec.nl
END:VEVENT
BEGIN:VEVENT
DTSTART;TZID=Europe/Amsterdam:20250409T093000
DTEND;TZID=Europe/Amsterdam:20250409T150000
DTSTAMP:20260423T072655
CREATED:20250403T142027Z
LAST-MODIFIED:20250404T044714Z
UID:10001343-1744191000-1744210800@industrievandaag.nl
SUMMARY:JUMO Kennisevent EC/pH – basisprincipes en valkuilen
DESCRIPTION:De toepassingen van geleidbaarheids- (EC) en pH-meting in industriële processen zijn talrijk. Wettelijke eisen en het waarborgen van een constante kwaliteit van de meting\, vragen om kennis en kunde rondom kalibratie en onderhoud. \nVergroot je kennis en ontdek de do’s en don’ts op dit gebied\, tijdens het JUMO Kennisevent EC/pH 2025 – basisprincipes en valkuilen. \nAgenda KE EC/pH 9 april 2025\n09.30 — 10.00 uur: Ontvangst JUMO Weesp (Rijnkade 18)\n10.00 — 10.15 uur: Welkom en introductie JUMO\n10.15 — 12.00 uur: Basisprincipes van EC— en pH-meting*\n12.00 — 13.00 uur: Lunch\n13.00 — 15.00 uur: Workshop: zelf aan de slag met EC— en pH-sensoren \n*topics EC: cel-constante\, temperatuurcorrectie en sensorvalidatie en montage richtlijn\n*topics pH: kalibratie mogelijkheden\, onderhoud en invloed van temperatuur en montage richtlijn
URL:https://industrievandaag.nl/event/jumo-kennisevent-ec-ph-basisprincipes-en-valkuilen/
LOCATION:JUMO Meet- en Regeltechniek B.V.\, Rijnkade 18\, WEESP\, 1382 GT\, Nederland
CATEGORIES:Seminar
END:VEVENT
BEGIN:VEVENT
DTSTART;TZID=Europe/Amsterdam:20250410T150000
DTEND;TZID=Europe/Amsterdam:20250410T190000
DTSTAMP:20260423T072655
CREATED:20250403T142027Z
LAST-MODIFIED:20250404T044714Z
UID:10001345-1744297200-1744311600@industrievandaag.nl
SUMMARY:Metaalunie Productiviteitskringen: Ontsnappen aan de waan van de dag door technische en organisatorische maatregelen: wat werkt?
DESCRIPTION:Vijfde serie Metaalunie Productiviteitskringen: Ontsnappen aan de waan van de dag door technische en organisatorische maatregelen: wat werkt? \nIn de afgelopen weken heeft het Teqnow-team van Metaalunie gewerkt aan de voorbereidingen van deze nieuwe serie Productiviteitskring-bijeenkomsten. We zijn te gast bij prachtige Metaalunie-lidbedrijven. Ook in jouw regio. De inschrijving is nu geopend. Meld  je direct aan om van een plaats verzekerd te zijn! \nWat gaan we doen?\nWord jij soms ook geleefd door de waan van de dag? En ben je benieuwd hoe jij daar door technische en organisatorische maatregelen aan kan ontsnappen? Dat is waar het in deze vijfde editie van de Productiviteitskringen om gaat! Wat werkt in de praktijk? Wat zijn oplossingen bij collega-metaaluniebedrijven en experts? Met veel praktijkvoorbeelden en het delen van ervaringen met collega’s. Ben je benieuwd naar: \n✅ Je klantcontact en offertetraject stroomlijnen? \n✅ Je productie aansturen als een geoliede machine waar het fijn werken is? \n✅ Fouten en verstoring voorspellen en voorkomen? \n✅ AI en slimme apps inzetten als assistent? \n✅ Slim kennis delen en doorgeven? \n✅ Slim automatiseren waardoor routinematige taken uit handen worden genomen? \n✅ Collega’s die zelfstandig hun taak uitvoeren en elke dag beter worden? \nWat levert het op?\nWanneer je minder in beslag wordt genomen door de waan van de dag\, creëer je ruimte voor langetermijnontwikkeling\, strategische keuzes en innovatie. Daarmee versterk je de concurrentiekracht van je bedrijf. \nProductiviteitskringen\nProductiviteitskringen zijn regionale bijeenkomsten waarbij we te gast zijn bij een collega-Metaalunielid. Het draait om inspiratie en kennis over slimmer en productiever werken in het MKB metaalbedrijf.  Wat je kunt verwachten is een overvloed aan ideeën en tips uit de praktijk van Teqnow en van collega-bedrijven. Ook is er alle ruimte om te sparren met vakgenoten en om kennis\, ervaring en inzichten met elkaar te delen. \nDoelgroep\nDeze bijeenkomsten zijn voor ondernemers en medewerkers die willen ontsnappen aan de waan van de dag. \nAanmelden\nLet op: er is plaats voor slechts maximaal 30 deelnemers per bijeenkomst. Jouw aanmelding wordt in volgorde van binnenkomst afgehandeld. Claim dus snel je deelname via https://metaalunie.nl/Actueel/Agenda-bijeenkomsten \nData en locaties\n18 maart in Breda bij AMT Group\n25 maart in Holten bij TechNikkels\n10 april in Oisterwijk bij De Cromvoirtse\n17 april in Westerbork bij GeTech\n27 mei in Heerlen bij Oostwegel Special Products\n3 juni in Zwijndrecht bij Forceertechniek Koolmees
URL:https://industrievandaag.nl/event/metaalunie-productiviteitskringen-ontsnappen-aan-de-waan-van-de-dag-door-technische-en-organisatorische-maatregelen-wat-werkt-3/
CATEGORIES:Bedrijfsdag,Seminar
ORGANIZER;CN="Koninklijke Metaalunie":MAILTO:info@metaalunie.nl
END:VEVENT
BEGIN:VEVENT
DTSTART;TZID=Europe/Amsterdam:20250417T150000
DTEND;TZID=Europe/Amsterdam:20250417T190000
DTSTAMP:20260423T072655
CREATED:20250403T142043Z
LAST-MODIFIED:20250411T023207Z
UID:10001353-1744902000-1744916400@industrievandaag.nl
SUMMARY:Metaalunie Productiviteitskringen: Ontsnappen aan de waan van de dag door technische en organisatorische maatregelen: wat werkt?
DESCRIPTION:Vijfde serie Metaalunie Productiviteitskringen: Ontsnappen aan de waan van de dag door technische en organisatorische maatregelen: wat werkt? \nIn de afgelopen weken heeft het Teqnow-team van Metaalunie gewerkt aan de voorbereidingen van deze nieuwe serie Productiviteitskring-bijeenkomsten. We zijn te gast bij prachtige Metaalunie-lidbedrijven. Ook in jouw regio. De inschrijving is nu geopend. Meld  je direct aan om van een plaats verzekerd te zijn! \nWat gaan we doen?\nWord jij soms ook geleefd door de waan van de dag? En ben je benieuwd hoe jij daar door technische en organisatorische maatregelen aan kan ontsnappen? Dat is waar het in deze vijfde editie van de Productiviteitskringen om gaat! Wat werkt in de praktijk? Wat zijn oplossingen bij collega-metaaluniebedrijven en experts? Met veel praktijkvoorbeelden en het delen van ervaringen met collega’s. Ben je benieuwd naar: \n✅ Je klantcontact en offertetraject stroomlijnen? \n✅ Je productie aansturen als een geoliede machine waar het fijn werken is? \n✅ Fouten en verstoring voorspellen en voorkomen? \n✅ AI en slimme apps inzetten als assistent? \n✅ Slim kennis delen en doorgeven? \n✅ Slim automatiseren waardoor routinematige taken uit handen worden genomen? \n✅ Collega’s die zelfstandig hun taak uitvoeren en elke dag beter worden? \nWat levert het op?\nWanneer je minder in beslag wordt genomen door de waan van de dag\, creëer je ruimte voor langetermijnontwikkeling\, strategische keuzes en innovatie. Daarmee versterk je de concurrentiekracht van je bedrijf. \nProductiviteitskringen\nProductiviteitskringen zijn regionale bijeenkomsten waarbij we te gast zijn bij een collega-Metaalunielid. Het draait om inspiratie en kennis over slimmer en productiever werken in het MKB metaalbedrijf.  Wat je kunt verwachten is een overvloed aan ideeën en tips uit de praktijk van Teqnow en van collega-bedrijven. Ook is er alle ruimte om te sparren met vakgenoten en om kennis\, ervaring en inzichten met elkaar te delen. \nDoelgroep\nDeze bijeenkomsten zijn voor ondernemers en medewerkers die willen ontsnappen aan de waan van de dag. \nAanmelden\nLet op: er is plaats voor slechts maximaal 30 deelnemers per bijeenkomst. Jouw aanmelding wordt in volgorde van binnenkomst afgehandeld. Claim dus snel je deelname via https://metaalunie.nl/Actueel/Agenda-bijeenkomsten \nData en locaties\n18 maart in Breda bij AMT Group\n25 maart in Holten bij TechNikkels\n10 april in Oisterwijk bij De Cromvoirtse\n17 april in Westerbork bij GeTech\n27 mei in Heerlen bij Oostwegel Special Products\n3 juni in Zwijndrecht bij Forceertechniek Koolmees
URL:https://industrievandaag.nl/event/metaalunie-productiviteitskringen-ontsnappen-aan-de-waan-van-de-dag-door-technische-en-organisatorische-maatregelen-wat-werkt-4/
CATEGORIES:Bedrijfsdag,Seminar
ORGANIZER;CN="Koninklijke Metaalunie":MAILTO:info@metaalunie.nl
END:VEVENT
END:VCALENDAR