BEGIN:VCALENDAR
VERSION:2.0
PRODID:-//Industrievandaag - ECPv6.15.18//NONSGML v1.0//EN
CALSCALE:GREGORIAN
METHOD:PUBLISH
X-WR-CALNAME:Industrievandaag
X-ORIGINAL-URL:https://industrievandaag.nl
X-WR-CALDESC:Evenementen voor Industrievandaag
REFRESH-INTERVAL;VALUE=DURATION:PT1H
X-Robots-Tag:noindex
X-PUBLISHED-TTL:PT1H
BEGIN:VTIMEZONE
TZID:Europe/Amsterdam
BEGIN:DAYLIGHT
TZOFFSETFROM:+0100
TZOFFSETTO:+0200
TZNAME:CEST
DTSTART:20240331T010000
END:DAYLIGHT
BEGIN:STANDARD
TZOFFSETFROM:+0200
TZOFFSETTO:+0100
TZNAME:CET
DTSTART:20241027T010000
END:STANDARD
BEGIN:DAYLIGHT
TZOFFSETFROM:+0100
TZOFFSETTO:+0200
TZNAME:CEST
DTSTART:20250330T010000
END:DAYLIGHT
BEGIN:STANDARD
TZOFFSETFROM:+0200
TZOFFSETTO:+0100
TZNAME:CET
DTSTART:20251026T010000
END:STANDARD
BEGIN:DAYLIGHT
TZOFFSETFROM:+0100
TZOFFSETTO:+0200
TZNAME:CEST
DTSTART:20260329T010000
END:DAYLIGHT
BEGIN:STANDARD
TZOFFSETFROM:+0200
TZOFFSETTO:+0100
TZNAME:CET
DTSTART:20261025T010000
END:STANDARD
END:VTIMEZONE
BEGIN:VEVENT
DTSTART;TZID=Europe/Amsterdam:20250313T093000
DTEND;TZID=Europe/Amsterdam:20250313T140000
DTSTAMP:20260423T094304
CREATED:20250214T184417Z
LAST-MODIFIED:20250303T074246Z
UID:10001315-1741858200-1741874400@industrievandaag.nl
SUMMARY:✅ Verduurzamen ondanks netcongestie + fabriekstour voestalpine Automotive Components in Bunschoten
DESCRIPTION:Laat je inspireren bij het indrukwekkende voestalpine Automotive Components Bunschoten!\nWist je dat voestalpine in Bunschoten één van de 20 bedrijven in Utrecht is die al een brief van de netbeheerder ontving voor verplicht congestiemanagement? Tijdens de sessie leer je over hun zoektocht en ontdek je praktische inzichten voor bedrijven – groot én klein – om hierop voorbereid te zijn. Daarnaast zoomen we in op energiesturing en slim laden en neemt energie-trendwatcher Jan Willem Zwang je mee in de laatste ontwikkelingen in de energietransitie. \nvoestalpine gebruikt nu al 70% écht groene stroom\n\nvoestalpine Automotive Components Bunschoten was de eerste industriële speler met een zonnedak van maar liefst 11\,3 megawattpiek. En is ondertussen aan de slag met energiesturing\, slim laden en batterijopslag. De ambities van het energie-intensieve bedrijf zijn daarbij glashelder: in 2035 worden alle auto-onderdelen volledig CO2-neutraal geproduceerd. Ontdek tijdens onze inspiratiesessie hoe ze dit realiseren! \nHoe\, wat\, waar\, wanneer?\n\nDatum: Donderdag 13 maart 2025\nLocatie: voestalpine Automotive Components\, Bunschoten-Spakenburg\nVoor wie:  (Financieel) Directeuren\, energiemanagers\, duurzaamheidsmanagers\, parkmanagers\, HSEQ managers\, facilitair managers\, strategisch inkopers en innovatiemanagers.\nInloop: 09.30 – 10.00\nInspiratiesessie met netwerklunch: 10.00 – 12.45\nRondleiding fabriek en afsluiting: 12.45 – 14.00 \n\nMeer informatie met de lezers \n 
URL:https://industrievandaag.nl/event/%e2%9c%85-verduurzamen-ondanks-netcongestie-fabriekstour-voestalpine-automotive-components-in-bunschoten/
LOCATION:Voestalpine Automotive Components\, Haarbrug\, Amersfoortseweg 9\, Bunschoten-Spakenburg\, 3751 LJ\, Nederland
CATEGORIES:Seminar
END:VEVENT
BEGIN:VEVENT
DTSTART;TZID=Europe/Amsterdam:20250318T150000
DTEND;TZID=Europe/Amsterdam:20250318T190000
DTSTAMP:20260423T094304
CREATED:20250129T064634Z
LAST-MODIFIED:20250303T074446Z
UID:10001298-1742310000-1742324400@industrievandaag.nl
SUMMARY:Metaalunie Productiviteitskringen: Ontsnappen aan de waan van de dag door technische en organisatorische maatregelen: wat werkt?
DESCRIPTION:Vijfde serie Metaalunie Productiviteitskringen: Ontsnappen aan de waan van de dag door technische en organisatorische maatregelen: wat werkt? \nIn de afgelopen weken heeft het Teqnow-team van Metaalunie gewerkt aan de voorbereidingen van deze nieuwe serie Productiviteitskring-bijeenkomsten. We zijn te gast bij prachtige Metaalunie-lidbedrijven. Ook in jouw regio. De inschrijving is nu geopend. Meld  je direct aan om van een plaats verzekerd te zijn! \nWat gaan we doen?\nWord jij soms ook geleefd door de waan van de dag? En ben je benieuwd hoe jij daar door technische en organisatorische maatregelen aan kan ontsnappen? Dat is waar het in deze vijfde editie van de Productiviteitskringen om gaat! Wat werkt in de praktijk? Wat zijn oplossingen bij collega-metaaluniebedrijven en experts? Met veel praktijkvoorbeelden en het delen van ervaringen met collega’s. Ben je benieuwd naar: \n✅ Je klantcontact en offertetraject stroomlijnen? \n✅ Je productie aansturen als een geoliede machine waar het fijn werken is? \n✅ Fouten en verstoring voorspellen en voorkomen? \n✅ AI en slimme apps inzetten als assistent? \n✅ Slim kennis delen en doorgeven? \n✅ Slim automatiseren waardoor routinematige taken uit handen worden genomen? \n✅ Collega’s die zelfstandig hun taak uitvoeren en elke dag beter worden? \nWat levert het op?\nWanneer je minder in beslag wordt genomen door de waan van de dag\, creëer je ruimte voor langetermijnontwikkeling\, strategische keuzes en innovatie. Daarmee versterk je de concurrentiekracht van je bedrijf. \nProductiviteitskringen\nProductiviteitskringen zijn regionale bijeenkomsten waarbij we te gast zijn bij een collega-Metaalunielid. Het draait om inspiratie en kennis over slimmer en productiever werken in het MKB metaalbedrijf.  Wat je kunt verwachten is een overvloed aan ideeën en tips uit de praktijk van Teqnow en van collega-bedrijven. Ook is er alle ruimte om te sparren met vakgenoten en om kennis\, ervaring en inzichten met elkaar te delen. \nDoelgroep\nDeze bijeenkomsten zijn voor ondernemers en medewerkers die willen ontsnappen aan de waan van de dag. \nAanmelden\nLet op: er is plaats voor slechts maximaal 30 deelnemers per bijeenkomst. Jouw aanmelding wordt in volgorde van binnenkomst afgehandeld. Claim dus snel je deelname via https://metaalunie.nl/Actueel/Agenda-bijeenkomsten \nData en locaties\n18 maart in Breda bij AMT Group\n25 maart in Holten bij TechNikkels\n10 april in Oisterwijk bij De Cromvoirtse\n17 april in Westerbork bij GeTech\n27 mei in Heerlen bij Oostwegel Special Products\n3 juni in Zwijndrecht bij Forceertechniek Koolmees
URL:https://industrievandaag.nl/event/metaalunie-productiviteitskringen-ontsnappen-aan-de-waan-van-de-dag-door-technische-en-organisatorische-maatregelen-wat-werkt/
CATEGORIES:Bedrijfsdag,Seminar
ORGANIZER;CN="Koninklijke Metaalunie":MAILTO:info@metaalunie.nl
END:VEVENT
BEGIN:VEVENT
DTSTART;TZID=Europe/Amsterdam:20250325T150000
DTEND;TZID=Europe/Amsterdam:20250325T170000
DTSTAMP:20260423T094304
CREATED:20250214T081517Z
LAST-MODIFIED:20250321T023721Z
UID:10001314-1742914800-1742922000@industrievandaag.nl
SUMMARY:✅ Master your business met inzichten over ontwikkelingen in technische sectoren | Albert-Jan Swart (ABN-AMRO) ✅ TIP
DESCRIPTION:Master your business met inzichten over ontwikkelingen in technische sectoren \nTechnische en industriële sectoren staan voor enorme uitdagingen. Want naast een afnemende orderintake\, oplopende kosten\, krapte op de arbeidsmarkt en eisen rondom duurzaamheid een lager energieverbruik\, neemt de concurrentie vanuit de rest van de wereld toe. Daarnaast spelen economische\, (geo)politieke en technologische ontwikkelingen die ook invloed hebben op jouw (technische) bedrijf. Want doe je niets dan wordt het misschien krimpen of zelfs ‘zinken’ van het bedrijf. Bereid je daarom voor op de toekomst van jouw bedrijf door je positie actief te heroverwegen. \nVanuit STEM Industrial Marketing Community bieden we je daarvoor de nodige handvatten tijdens een exclusieve masterclass met Albert-Jan Swart (sector econoom industrie ABN-AMRO) op dinsdag 25 maart 2025. \nWelkom 25 maart in Culemborg\nDeelnemen aan deze STEM van de Master is gratis maar niet vrijblijvend. Want we vragen je om actief deel te nemen aan de discussie na afloop. Daarin praat je met andere deelnemers over de betekenis van de ontwikkelingen die Albert-Jan Swart tijdens deze sessie deelt in relatie tot jouw eigen bedrijf. Geef je deelname door via deze link. \n  \nJe ontvangt tijdig de adresgegevens samen met een bevestiging van je deelname. \nPowered by IndustrieVandaag.nl en IndustrieKalender.nl \n 
URL:https://industrievandaag.nl/event/%e2%9c%85-master-your-business-met-inzichten-over-ontwikkelingen-in-technische-sectoren-albert-jan-swart-abn-amro-%e2%9c%85-tip/
CATEGORIES:Seminar
ORGANIZER;CN="STEM Industrial Marketing Community":MAILTO:contact@stem-imc.com
END:VEVENT
BEGIN:VEVENT
DTSTART;TZID=Europe/Amsterdam:20250325T150000
DTEND;TZID=Europe/Amsterdam:20250325T190000
DTSTAMP:20260423T094304
CREATED:20250129T064635Z
LAST-MODIFIED:20250321T023721Z
UID:10001300-1742914800-1742929200@industrievandaag.nl
SUMMARY:Metaalunie Productiviteitskringen: Ontsnappen aan de waan van de dag door technische en organisatorische maatregelen: wat werkt?
DESCRIPTION:Vijfde serie Metaalunie Productiviteitskringen: Ontsnappen aan de waan van de dag door technische en organisatorische maatregelen: wat werkt? \nIn de afgelopen weken heeft het Teqnow-team van Metaalunie gewerkt aan de voorbereidingen van deze nieuwe serie Productiviteitskring-bijeenkomsten. We zijn te gast bij prachtige Metaalunie-lidbedrijven. Ook in jouw regio. De inschrijving is nu geopend. Meld  je direct aan om van een plaats verzekerd te zijn! \nWat gaan we doen?\nWord jij soms ook geleefd door de waan van de dag? En ben je benieuwd hoe jij daar door technische en organisatorische maatregelen aan kan ontsnappen? Dat is waar het in deze vijfde editie van de Productiviteitskringen om gaat! Wat werkt in de praktijk? Wat zijn oplossingen bij collega-metaaluniebedrijven en experts? Met veel praktijkvoorbeelden en het delen van ervaringen met collega’s. Ben je benieuwd naar: \n✅ Je klantcontact en offertetraject stroomlijnen? \n✅ Je productie aansturen als een geoliede machine waar het fijn werken is? \n✅ Fouten en verstoring voorspellen en voorkomen? \n✅ AI en slimme apps inzetten als assistent? \n✅ Slim kennis delen en doorgeven? \n✅ Slim automatiseren waardoor routinematige taken uit handen worden genomen? \n✅ Collega’s die zelfstandig hun taak uitvoeren en elke dag beter worden? \nWat levert het op?\nWanneer je minder in beslag wordt genomen door de waan van de dag\, creëer je ruimte voor langetermijnontwikkeling\, strategische keuzes en innovatie. Daarmee versterk je de concurrentiekracht van je bedrijf. \nProductiviteitskringen\nProductiviteitskringen zijn regionale bijeenkomsten waarbij we te gast zijn bij een collega-Metaalunielid. Het draait om inspiratie en kennis over slimmer en productiever werken in het MKB metaalbedrijf.  Wat je kunt verwachten is een overvloed aan ideeën en tips uit de praktijk van Teqnow en van collega-bedrijven. Ook is er alle ruimte om te sparren met vakgenoten en om kennis\, ervaring en inzichten met elkaar te delen. \nDoelgroep\nDeze bijeenkomsten zijn voor ondernemers en medewerkers die willen ontsnappen aan de waan van de dag. \nAanmelden\nLet op: er is plaats voor slechts maximaal 30 deelnemers per bijeenkomst. Jouw aanmelding wordt in volgorde van binnenkomst afgehandeld. Claim dus snel je deelname via https://metaalunie.nl/Actueel/Agenda-bijeenkomsten \nData en locaties\n18 maart in Breda bij AMT Group\n25 maart in Holten bij TechNikkels\n10 april in Oisterwijk bij De Cromvoirtse\n17 april in Westerbork bij GeTech\n27 mei in Heerlen bij Oostwegel Special Products\n3 juni in Zwijndrecht bij Forceertechniek Koolmees
URL:https://industrievandaag.nl/event/metaalunie-productiviteitskringen-ontsnappen-aan-de-waan-van-de-dag-door-technische-en-organisatorische-maatregelen-wat-werkt-2/
CATEGORIES:Bedrijfsdag,Seminar
ORGANIZER;CN="Koninklijke Metaalunie":MAILTO:info@metaalunie.nl
END:VEVENT
END:VCALENDAR