BEGIN:VCALENDAR
VERSION:2.0
PRODID:-//Industrievandaag - ECPv6.15.18//NONSGML v1.0//EN
CALSCALE:GREGORIAN
METHOD:PUBLISH
X-WR-CALNAME:Industrievandaag
X-ORIGINAL-URL:https://industrievandaag.nl
X-WR-CALDESC:Evenementen voor Industrievandaag
REFRESH-INTERVAL;VALUE=DURATION:PT1H
X-Robots-Tag:noindex
X-PUBLISHED-TTL:PT1H
BEGIN:VTIMEZONE
TZID:Europe/Amsterdam
BEGIN:DAYLIGHT
TZOFFSETFROM:+0100
TZOFFSETTO:+0200
TZNAME:CEST
DTSTART:20240331T010000
END:DAYLIGHT
BEGIN:STANDARD
TZOFFSETFROM:+0200
TZOFFSETTO:+0100
TZNAME:CET
DTSTART:20241027T010000
END:STANDARD
BEGIN:DAYLIGHT
TZOFFSETFROM:+0100
TZOFFSETTO:+0200
TZNAME:CEST
DTSTART:20250330T010000
END:DAYLIGHT
BEGIN:STANDARD
TZOFFSETFROM:+0200
TZOFFSETTO:+0100
TZNAME:CET
DTSTART:20251026T010000
END:STANDARD
BEGIN:DAYLIGHT
TZOFFSETFROM:+0100
TZOFFSETTO:+0200
TZNAME:CEST
DTSTART:20260329T010000
END:DAYLIGHT
BEGIN:STANDARD
TZOFFSETFROM:+0200
TZOFFSETTO:+0100
TZNAME:CET
DTSTART:20261025T010000
END:STANDARD
END:VTIMEZONE
BEGIN:VEVENT
DTSTART;TZID=Europe/Amsterdam:20250204T110000
DTEND;TZID=Europe/Amsterdam:20250204T163000
DTSTAMP:20260423T113038
CREATED:20241206T104952Z
LAST-MODIFIED:20250129T064532Z
UID:10001217-1738666800-1738686600@industrievandaag.nl
SUMMARY:Hoe om te gaan met CMR gevaarlijke stoffen
DESCRIPTION:Op dinsdag 4 februari 2025 organiseert IP Duursma\, in samenwerking met Henkel/Loctite\, een exclusief evenement waarin we dieper ingaan op het verantwoord omgaan met CMR-stoffen (Carcinogene\, Mutagene en Reprotoxische stoffen). Dit evenement is specifiek gericht op HSE- en QHSE-managers die willen leren hoe ze veilig kunnen werken met deze gevaarlijke stoffen en tegelijkertijd voldoen aan de steeds strikter wordende regelgeving. Tijdens dit event delen experts inzichten\, praktische tips en best practices voor het beheren van CMR-risico’s op de werkvloer\, en bieden we concrete oplossingen voor het vervangen van gevaarlijke stoffen door veiligere alternatieven. \nDeelname is gratis\, maar niet vrijblijvend. We screenen aanmeldingen op relevantie\, met de nadruk op HSE- en QHSE-professionals. Meld je aan en verzeker je van jouw plaats op dit belangrijke evenement! \nWaarom deelnemen? \n\nInzicht in regelgeving:\nLeer van experts over de laatste wetgeving en hoe deze uw organisatie raakt.\nPraktische oplossingen:\nOntdek hoe bedrijven zoals Henkel omgaan met CMR-problematiek en veilige werkomgevingen creëren.\nNetwerkmogelijkheden:\nWissel ervaringen en ideeën uit met collega’s en specialisten.
URL:https://industrievandaag.nl/event/hoe-om-te-gaan-met-cmr-gevaarlijke-stoffen/
LOCATION:Van der Valk Hotel Deventer\, Birnieweg 4\, Deventer\, 7418 HH
CATEGORIES:Seminar
END:VEVENT
BEGIN:VEVENT
DTSTART;TZID=Europe/Amsterdam:20250205T133000
DTEND;TZID=Europe/Amsterdam:20250205T163000
DTSTAMP:20260423T113038
CREATED:20241129T104846Z
LAST-MODIFIED:20250129T064534Z
UID:10001213-1738762200-1738773000@industrievandaag.nl
SUMMARY:Functional Safety
DESCRIPTION:Functionele safety is een onderdeel van de algehele veiligheid van een installatie die afhankelijk is van automatische bescherming. Dit automatische beschermingssysteem moet correct reageren op zijn invoer en het moet voorspelbare reacties hebben op storingen. Dit omvat menselijke fouten\, hardwarestoringen en procesverstoringen. \nFunctionele veiligheidsnormen zijn ontworpen om ervoor te zorgen dat dit gebeurt. Maar ze gaan vaak gepaard met complexe vereisten voor softwareontwikkelaars. \nWat zijn functionele veiligheidsnormen:\nIEC 61508 – Algemeen\nISO 26262 – Automobiel\nEN 50128 – Spoorwegen\nIEC 62304 – Medisch hulpmiddel\nIEC 62061 – Fabricage\nIEC 60880 – Nucleair \nDit is een vooraankondiging. Met de agenda voor het seminar Functional Safety zijn we nog bezig. \nDit seminar wordt georganiseerd door KIVI Meet-\, Regel- en Besturingstecnologie in samenwerking met WIB*). \n*) WIB is een gebruikersvereniging voor instrumentatie en procesbesturing: www.wib.nl
URL:https://industrievandaag.nl/event/functional-safety/
LOCATION:KIVI gebouw\, Prinsessegracht 23\, Den Haag\, 2514 AP\, Nederland
CATEGORIES:Seminar
GEO:52.0843404;4.3162702
X-APPLE-STRUCTURED-LOCATION;VALUE=URI;X-ADDRESS=KIVI gebouw Prinsessegracht 23 Den Haag 2514 AP Nederland;X-APPLE-RADIUS=500;X-TITLE=Prinsessegracht 23:geo:4.3162702,52.0843404
END:VEVENT
BEGIN:VEVENT
DTSTART;TZID=Europe/Amsterdam:20250206T090000
DTEND;TZID=Europe/Amsterdam:20250206T170000
DTSTAMP:20260423T113038
CREATED:20241217T110448Z
LAST-MODIFIED:20250129T064546Z
UID:10001223-1738832400-1738861200@industrievandaag.nl
SUMMARY:CompTIA Community Meeting
DESCRIPTION:De CompTIA Community\, de wereldwijde\, leveranciersonafhankelijke technologievereniging die professionals uit de IT-industrie samenbrengt\, houdt op 6 februari 2025 haar regionale Benelux-bijeenkomst in Mechelen\, België. Met een uitgebreide agenda vol informatieve sessies en inspirerende discussies biedt dit evenement MSP’s\, leveranciers\, distributeurs en andere bedrijven in het technologische ecosysteem waardevolle inzichten en tools om succesvol te blijven in een dynamisch technologisch landschap. \nEen belangrijk hoogtepunt dit jaar is de introductie van een exclusieve sessie van de training Managing the Technology Channel\, geleid door de Britse technologie-ondernemer en voorzitter van de CompTIA Board\, Tracy Pound. Alleen tijdens dit evenement toegankelijk voor zowel leden als niet-leden van leveranciers en distributeurs\, biedt deze training deelnemers strategieën om hun teams effectief te trainen en bij te scholen—een essentiële vaardigheid in een sector waar continu leren van cruciaal belang is. \nDe bijeenkomst in Mechelen zal ook ingaan op urgente thema’s die de IT-sector vormgeven. Technisch consultant Tycho Löke zal praktische strategieën delen voor Managed Service Providers (MSP’s) om de “power trio” van data\, toegang en AI te benutten voor bedrijfsoptimalisatie. Cybersecurity-consultant Darrender Jordan zal de menselijke kant van cybersecurity belichten en benadrukken dat mensen—niet technologie—centraal staan in het beschermen van digitale omgevingen. \nHet populaire Genius Café-programma maakt zijn debuut in de Benelux-regio en biedt één-op-één sessies met experts om vaardigheden in sales\, marketing en cybersecurity aan te scherpen. Deze praktische sessies voorzien bedrijven van de tools die nodig zijn om succesvol te zijn in een concurrerende markt. \n“Met een divers programma en volop netwerkmogelijkheden is het CompTIA Community-evenement meer dan alleen een bijeenkomst—het is een bron van innovatie en professionele groei\,” aldus Katrin Giza\, regionale manager van de CompTIA Community – Benelux. \nBezoek de registratiepagina van het aanstaande evenement in Mechelen voor meer informatie en om u aan te melden voor deze bijeenkomst.
URL:https://industrievandaag.nl/event/comptia-community-meeting/
LOCATION:Hotel Mechelen\, Rode-Kruisplein 1-4\, Mechelen\, 2800\, Belgium
CATEGORIES:Seminar
END:VEVENT
END:VCALENDAR