BEGIN:VCALENDAR
VERSION:2.0
PRODID:-//Industrievandaag - ECPv6.15.18//NONSGML v1.0//EN
CALSCALE:GREGORIAN
METHOD:PUBLISH
X-WR-CALNAME:Industrievandaag
X-ORIGINAL-URL:https://industrievandaag.nl
X-WR-CALDESC:Evenementen voor Industrievandaag
REFRESH-INTERVAL;VALUE=DURATION:PT1H
X-Robots-Tag:noindex
X-PUBLISHED-TTL:PT1H
BEGIN:VTIMEZONE
TZID:Europe/Amsterdam
BEGIN:DAYLIGHT
TZOFFSETFROM:+0100
TZOFFSETTO:+0200
TZNAME:CEST
DTSTART:20230326T010000
END:DAYLIGHT
BEGIN:STANDARD
TZOFFSETFROM:+0200
TZOFFSETTO:+0100
TZNAME:CET
DTSTART:20231029T010000
END:STANDARD
BEGIN:DAYLIGHT
TZOFFSETFROM:+0100
TZOFFSETTO:+0200
TZNAME:CEST
DTSTART:20240331T010000
END:DAYLIGHT
BEGIN:STANDARD
TZOFFSETFROM:+0200
TZOFFSETTO:+0100
TZNAME:CET
DTSTART:20241027T010000
END:STANDARD
BEGIN:DAYLIGHT
TZOFFSETFROM:+0100
TZOFFSETTO:+0200
TZNAME:CEST
DTSTART:20250330T010000
END:DAYLIGHT
BEGIN:STANDARD
TZOFFSETFROM:+0200
TZOFFSETTO:+0100
TZNAME:CET
DTSTART:20251026T010000
END:STANDARD
BEGIN:DAYLIGHT
TZOFFSETFROM:+0100
TZOFFSETTO:+0200
TZNAME:CEST
DTSTART:20260329T010000
END:DAYLIGHT
BEGIN:STANDARD
TZOFFSETFROM:+0200
TZOFFSETTO:+0100
TZNAME:CET
DTSTART:20261025T010000
END:STANDARD
END:VTIMEZONE
BEGIN:VEVENT
DTSTART;TZID=Europe/Amsterdam:20250313T090000
DTEND;TZID=Europe/Amsterdam:20250313T170000
DTSTAMP:20260419T144726
CREATED:20241213T110500Z
LAST-MODIFIED:20250303T074246Z
UID:10001222-1741856400-1741885200@industrievandaag.nl
SUMMARY:Energieopslag- & Distributie
DESCRIPTION:Terwijl we toewerken naar een duurzame energietransitie\, is het naadloos integreren van variabele hernieuwbare energiebronnen in ons elektriciteitsnetwerk essentieel. Tijdens dit congres gaan we diep in op de uitdagingen en kansen die dit met zich meebrengt\, en hoe flexibele energieopslagoplossingen hierin een sleutelrol kunnen spelen. \nTerwijl de wereld zich inzet voor een duurzamere toekomst\, staat de noodzaak voor geïntegreerde\, flexibele energieopslag centraal in de transitie naar groene energie. 14 maart 2024 organiseerden we de 9e editie van Energieopslag- & Distributie. Enerzijds bespraken we de belangrijkste randvoorwaarden\, de omslag en de versnelling in uitvoering. Anderzijds lieten experts innovatieve opslagtechnologieën zien en lokale oplossingen die we proefondervindelijk uitrollen zoals energiehubs. De integratie van variabele hernieuwbare energiebronnen en slimme netwerkoplossingen de sleutel vormen tot een betrouwbaar en efficiënt elektriciteitsnetwerk. \nMet een zaal vol experts en ketenpartners in de stadsschouwburg Utrecht spraken we over het energiesysteem van de toekomst\, netcongestie en nieuwe opslagtechnologieën. Er moeten moeilijke keuzes gemaakt worden en misschien moeten we eerlijk zijn dat we het niet gaan halen. Maar hoe komen we zo ver mogelijk? Kunnen we met elkaar versimpelen en zo zorgen dat we ook kunnen versnellen om te komen tot bouwen\, bouwen\, bouwen..
URL:https://industrievandaag.nl/event/energieopslag-distributie/
CATEGORIES:Congres
ORGANIZER;CN="Management Producties":MAILTO:info@managementproductions.com
END:VEVENT
BEGIN:VEVENT
DTSTART;TZID=Europe/Amsterdam:20250312T090000
DTEND;TZID=Europe/Amsterdam:20250312T170000
DTSTAMP:20260419T144726
CREATED:20241212T105010Z
LAST-MODIFIED:20250303T074245Z
UID:10001221-1741770000-1741798800@industrievandaag.nl
SUMMARY:European Industrial Energy Days
DESCRIPTION:De European Industrial Energy Days verenigt de Europese energie-intensieve industrie en richt zich op energietransitiestrategieën en het behoud van concurrentievermogen door het delen van internationale best practices\, innovaties en oplossingen op gebied van CCUS\, waterstof\, elektrificatie\, energie-efficiëntie\, enegie-inkoop en marktinformatie. \nDe conferentie richt zich op moeilijk te decarboniseren zware industrieën\, zoals staal\, cement\, chemie\, papier en glas\, evenals de maakindustrie. Sprekers komen o.a. van Alfa Laval\, Aluminium Dunkerque\, Arctic Paper\, ArcelorMittal\, Eurometaux\, GRTGaz\, HyCC\, Nobian Industrial Chemicals\, Nyrstar\, Tata steel\, Unilever en meer.
URL:https://industrievandaag.nl/event/european-industrial-energy-days/
LOCATION:TOBACCO Theater\, Nes 75-87\, Amsterdam\, NH\, 1012 KD\, Netherlands
CATEGORIES:Congres
END:VEVENT
BEGIN:VEVENT
DTSTART;TZID=Europe/Amsterdam:20250307T093000
DTEND;TZID=Europe/Amsterdam:20250307T160000
DTSTAMP:20260419T144726
CREATED:20241207T105008Z
LAST-MODIFIED:20250307T020452Z
UID:10001219-1741339800-1741363200@industrievandaag.nl
SUMMARY:Women in Energy
DESCRIPTION:Op 7 maart vindt het jaarlijkse netwerkevenement voor vrouwelijke professionals plaats in Den Haag. \nWomen in Energy is het jaarlijkse evenement voor professionals in de energietransitie\, op zoek naar nieuwe inzichten en nieuwe contacten. Iedereen is welkom (m/v/x). Het programma is een co-creatie van de organisatie en haar partners\, uit alle hoeken van de sector. Doe of denk mee\, laat je verrassen en inspireren\, vergroot je kennis en je netwerk! \nVoor NVI leden geldt een korting van 25 Euro. Als je je aanmeldt via de KIVI website krijg je de kortingscode toegestuurd. \nWomen in Energy \nWomen in Energy is het jaarlijkse evenement voor professionals in de energietransitie\, op zoek naar nieuwe inzichten en nieuwe contacten. Dit jaarlijks evenement wordt georganiseerd door 75inQ\, Martine Witteveen en Blue Green Feather en vindt plaats in het gebouw van Koninklijk Instituut Van Ingenieurs in Den Haag. \nHet programma is een co-creatie van de organisatie en haar partners\, uit alle hoeken van de sector. Doe of denk dus mee\, laat je verrassen en inspireren\, vergroot je kennis en je netwerk! \nIedereen is welkom (m/v/x). \nMet het Women in Energy evenement ambieert de organisatie (jonge) vrouwen kennis laten maken met de transitie naar een duurzaam energiesysteem in Nederland en het scala aan mogelijkheden die deze ingrijpende maar o zo belangrijke verandering van onze maatschappij hen biedt. \nThe Pirates Edition \nHet thema van deze editie is Piraten. Het is namelijk alle hens aan dek in de energietransitie! Een mooi thema dat uitnodigt tot prikkelende gesprekken.\nWe laten inspirerende personen aan het woord die tegen de stroming in gaan\, die de randen van de regels opzoeken of die mooie schatten (lees innovaties) weten te vinden om de energietransitie verder vooruit te helpen. Maar er komen ook onderwerpen aan bod die op piraterij lijken in de negatieve zin\, zoals bijvoorbeeld cyberaanvallen en de run op grondstoffen en de gevolgen hiervan.\nDe dag belooft wederom een mooie mix te bieden van persoonlijke ontwikkeling\, energietransitie\, inhoudelijke sessies en delen van ervaringen. Krijg steun bij het zoeken naar of verbeteren van jouw plek\, hoor van bedrijven die direct betrokken zijn bij de energietransitie\, zoals netbeheerders en energiebedrijven\, welke impact deze transitie op hun bedrijfsvoering heeft en welke mensen zij nodig hebben\, en leg de nodige contacten om verder te komen. Dit alles in een veilige\, verbindende en energievolle omgeving.
URL:https://industrievandaag.nl/event/women-in-energy/
LOCATION:KIVI gebouw\, Prinsessegracht 23\, Den Haag\, 2514 AP\, Nederland
CATEGORIES:Congres
GEO:52.0843404;4.3162702
X-APPLE-STRUCTURED-LOCATION;VALUE=URI;X-ADDRESS=KIVI gebouw Prinsessegracht 23 Den Haag 2514 AP Nederland;X-APPLE-RADIUS=500;X-TITLE=Prinsessegracht 23:geo:4.3162702,52.0843404
END:VEVENT
BEGIN:VEVENT
DTSTART;TZID=Europe/Amsterdam:20250213T090000
DTEND;TZID=Europe/Amsterdam:20250213T160000
DTSTAMP:20260419T144726
CREATED:20241129T104849Z
LAST-MODIFIED:20250129T064549Z
UID:10001216-1739437200-1739462400@industrievandaag.nl
SUMMARY:Life Science
DESCRIPTION:Ben je benieuwd naar de nieuwste doorbraken en trends die de Life Science-industrie vormgeven?  Life Science is een motor van innovatie en vooruitgang\, waar baanbrekende ontdekkingen en revolutionaire technologieën de norm zijn. Ons evenement biedt jou de kans om deel uit te maken van deze opwindende wereld\, waar grensverleggende ideeën en baanbrekende ontwikkelingen samenkomen. \nOf je nu een onderzoeker\, een professional in de gezondheidszorg\, een innovator in de biotechnologie of een regulator bent\, ons FHI Life Science-evenement biedt een platform om te leren\, te delen en te groeien in deze snel evoluerende industrie. \nVerken de laatste trends\, ontmoet vooraanstaande experts en ontdek cutting-edge technologieën op onze dynamische conferentie en tentoonstelling. Neem deel aan inspirerende discussies\, interactieve workshops en netwerkmogelijkheden om jouw kennis uit te breiden en waardevolle connecties te leggen binnen de Life Science-gemeenschap.
URL:https://industrievandaag.nl/event/life-science/
LOCATION:FHI\, Leusderend 12\, Leusden\, 3832 RC\, Nederland
CATEGORIES:Congres
ORGANIZER;CN="FHI%2C federatie van technologiebranches":MAILTO:info@fhi.nl
GEO:52.1308;5.391672
X-APPLE-STRUCTURED-LOCATION;VALUE=URI;X-ADDRESS=FHI Leusderend 12 Leusden 3832 RC Nederland;X-APPLE-RADIUS=500;X-TITLE=Leusderend 12:geo:5.391672,52.1308
END:VEVENT
BEGIN:VEVENT
DTSTART;TZID=Europe/Amsterdam:20250204T143000
DTEND;TZID=Europe/Amsterdam:20250204T200000
DTSTAMP:20260419T144726
CREATED:20250129T064533Z
LAST-MODIFIED:20250129T064533Z
UID:10001296-1738679400-1738699200@industrievandaag.nl
SUMMARY:iMaintain
DESCRIPTION:iMaintain 2025 is hét congres over asset performance management. De 2025-editie wordt georganiseerd door vakblad Industrielinqs in samenwerking met MaxGrip en vindt plaats op 4 februari 2025 in Driebergen. \nHet thema ‘Game changers in asset performance management’ richt zich op de belangrijkste innovaties en strategieën die een blijvend effect hebben op het optimaliseren van asset performance. We behandelen hoe data\, systemen\, processen en mensen invloed hebben op langdurig succes. Dit kan zijn de inzet van slimme datagestuurde oplossingen\, de evolutie van EAM- en APM-systemen\, en de invloed van procesoptimalisatie. \nDoelgroep: plantmanagers\, assetmanagers\, maintenance-experts\nDatum: dinsdag 4 februari 2025\nLocatie: Landgoed de Horst in Driebergen
URL:https://industrievandaag.nl/event/imaintain-2/
LOCATION:Landgoed de Horst Driebergen\, De Horst 1\, Driebergen-Rijsenburg\, 3971 KR\, Netherlands
CATEGORIES:Congres
ORGANIZER;CN="Industrielinqs pers en platform":MAILTO:info@industrielinqs.nl
GEO:52.047084;5.2977663
X-APPLE-STRUCTURED-LOCATION;VALUE=URI;X-ADDRESS=Landgoed de Horst Driebergen De Horst 1 Driebergen-Rijsenburg 3971 KR Netherlands;X-APPLE-RADIUS=500;X-TITLE=De Horst 1:geo:5.2977663,52.047084
END:VEVENT
BEGIN:VEVENT
DTSTART;TZID=Europe/Amsterdam:20250130T090000
DTEND;TZID=Europe/Amsterdam:20250130T170000
DTSTAMP:20260419T144726
CREATED:20241129T104845Z
LAST-MODIFIED:20250129T064531Z
UID:10001212-1738227600-1738256400@industrievandaag.nl
SUMMARY:Medische Elektronica
DESCRIPTION:Ben jij klaar voor de gezondheidszorg van de toekomst? Tijdens het Medische Elektronica event ontdek je welke technologische ontwikkelingen de zorg van morgen bepalen. Of je nu arts\, ingenieur\, ondernemer of techliefhebber bent; dit event biedt jou in één dag diepgaand inzicht in het landschap van medische elektronica. Wat kan je verwachten? \n\nHightech innovaties: leer meer over elektronica die levens redt en verbetert.\nTopexperts aan het woord: laat je inspireren door de inhoudelijke lezingen.\nHanden uit de mouwen: neem deel aan interactieve workshops\nNetwerk met pioniers: wissel ideeën uit met vakgenoten en ontmoet potentiële klanten.
URL:https://industrievandaag.nl/event/medische-elektronica/
LOCATION:Radboudumc Nijmegen\, Geert Grooteplein Noord 15\, Nijmegen\, 6525 EZ\, Nederland
CATEGORIES:Congres
ORGANIZER;CN="FHI%2C federatie van technologiebranches":MAILTO:info@fhi.nl
END:VEVENT
BEGIN:VEVENT
DTSTART;TZID=Europe/Amsterdam:20250128T130000
DTEND;TZID=Europe/Amsterdam:20250128T180000
DTSTAMP:20260419T144726
CREATED:20241129T104844Z
LAST-MODIFIED:20250113T110312Z
UID:10001211-1738069200-1738087200@industrievandaag.nl
SUMMARY:Slimme oplossingen bij netcongestie in de Brainportregio
DESCRIPTION:De Brainportregio loopt in Nederland voorop als het gaat om economische groei\, innovatieve hightech oplossingen en verduurzaming. Daarbij is de infrastructuur voor elektriciteit steeds vaker een beperkende factor. Het huidige netwerk kan de toenemende vraag naar elektriciteit en het groeiende aanbod aan duurzaam opgewekte elektriciteit niet bijbenen. Netbeheerders werken hard aan de uitrol van het netwerk\, maar daarnaast zijn slimme oplossingen nodig om de infrastructuur beter te benutten. \nEvent slimme oplossingen bij netcongestie\nOp 28 januari 2025 organiseren Brainport Development\, VNO-NCW Brabant-Zeeland en de RES-Metropoolregio Eindhoven de tweede editie van het grootschalige event rondom slimme oplossingen bij netcongestie. Naast workshops over concrete bedrijfscasussen in de regio\, is er een bedrijvenmarkt waar ondernemers met een netcongestie-probleem en aanbieders van oplossingen elkaar kunnen ontmoeten. Ben jij een aanbieder van slimme oplossingen? Kun jij ondernemers helpen om netcongestie te tackelen? Meld je bedrijf dan aan voor het bedrijvenmarkt van het event. \nSelectie aanbieders slimme oplossingen\nHet aantal plekken op de bedrijvenmarkt is beperkt. Daarom hanteren we de volgende strikte criteria bij het selecteren van aanbieders: \n\nProducten en diensten dragen bij aan een of meerdere van de volgende thema’s:\n\nMeten en besparen van energie\nFlexibel benutten van bestaande aansluiting\nOpwekken van duurzame energie\nOpslaan en converteren van energie\nEnergiemanagementsysteem\n\n\nAanbieders hebben een vestiging (hoofd- of nevenvestiging) in de Brainportregio.\nJe hebt een innovatief product of dienst aan te bieden\, met een duidelijke meerwaarde voor de doelgroep.\n\nBij een groter aanbod dan het aantal beschikbare plekken\, maken de organisatoren een weloverwogen selectie\, waarbij alle hierboven genoemde thema’s in gelijke mate aan bod komen.https://brainporteindhoven.com/nl/evenementen/slimme-oplossingen-bij-netcongestie-in-de-brainportregio
URL:https://industrievandaag.nl/event/slimme-oplossingen-bij-netcongestie-in-de-brainportregio/
LOCATION:Conference Center The Strip High Tech Campus\, High Tech Campus 1 (The Strip)\, 5656 AE\, 5656 AE\, Nederland
CATEGORIES:Congres
ORGANIZER;CN="Brainport Development":MAILTO:info@brainportdevelopment.nl
END:VEVENT
BEGIN:VEVENT
DTSTART;TZID=Europe/Amsterdam:20250121T100000
DTEND;TZID=Europe/Amsterdam:20250121T173000
DTSTAMP:20260419T144726
CREATED:20250113T110255Z
LAST-MODIFIED:20250115T124952Z
UID:10001259-1737453600-1737480600@industrievandaag.nl
SUMMARY:NLSecure[ID]
DESCRIPTION:Hoe bereiden we ons voor op de onvoorspelbare digitale dreigingen van morgen? Die vraag is actueler dan ooit en staat dinsdag 21 januari 2025 centraal tijdens NLSecure[ID]. Het NBC Congrescentrum in Nieuwegein opent dan de deuren voor de 9e editie van hét security-evenement van Nederland. Het thema dit jaar: ‘The Future of Cyber’. \nEen toenemende complexiteit maakt het steeds moeilijker om weerbaar te blijven. Denk aan de impact van AI-gegenereerde dreigingen\, verschuivende verantwoordelijkheden binnen organisaties en de rol van strategische samenwerking. Tijdens NLSecure[ID] staat de vraag centraal hoe we de ‘BV Nederland’ weerbaarder maken tegen huidige én nog onbekende\, toekomstige cyberdreigingen. \nAfwachten geen optie\n“Hoewel de toekomst onzeker is\, is afwachten geen optie”\, zegt Chantal Vergouw\, lid van de Raad van Bestuur van KPN en verantwoordelijk voor de zakelijke markt. “Tijdens NLSecure[ID] komt de Nederlandse cybersecuritycommunity bijeen. Met een combinatie van visie\, kennisdeling en concrete oplossingen zorgen we ervoor dat organisaties sterker staan\, wat er ook op hen afkomt.” \n“We moeten niet alleen kijken naar de nieuwste securityoplossingen\, maar vooral ook verantwoordelijkheid nemen en samenwerkingen smeden binnen de securitycommunity”\, vult Vergouw aan. “Alleen dan zetten we stappen om Nederland veiliger te maken.” \nInspirerende keynotes bieden deelnemers unieke inzichten in de toekomst van cyberweerbaarheid:\n\nMeindert Kamphuis\, Head AI Safety & Security Lab bij de Rijksinspectie Digitale Infrastructuur\, deelt zijn visie op ethiek en veiligheid binnen AI-toepassingen.\nTom-Martijn Roelofs\, Global Head of Security Strategy and Data bij ING\, bespreekt hoe datasecurity strategisch wordt ingezet om operationele veerkracht te vergroten.\nEppo van Nispen tot Sevenaer\, algemeen directeur Beeld en Geluid en lid van de Cyber Security Raad (CSR)\, zorgt met een ‘energizer’ voor inspiratie en interactie.\n\nVerdieping en interactie: talks en break-outsessies\nNaast verschillende keynotes biedt NLSecure[ID] een breed programma met inspirerende talks en verdiepende sessies. Experts uit diverse sectoren delen hun kennis en praktijkervaringen: \n\nDuckDuckGoose laat zien welke impact AI-detectiediensten hebben op cybersecurity.\nTNO schetst een visie op het Security Operations Center (SOC) van de toekomst.\nSamen Digitaal Veilig benadrukt het belang van publiek-private samenwerking voor naleving van NIS2 en een veilig digitaal Nederland.\nNamens NCSC & Ministerie van Defensie bespreken Pauline Malek en Mietta Groeneveld de ingrijpende gevolgen van cyberoorlogen voor bedrijven.\nNS deelt een succesvolle case over Identity Management in samenwerking met KPN.\n\nNetwerken en inspiratie op het KPN Plein\nOp het KPN Plein staan praktische oplossingen centraal. Bezoekers kunnen in gesprek met experts en demonstraties bijwonen over actuele onderwerpen zoals compliance\, monitoring\, veilige connectiviteit en IoT. Daarnaast biedt het Partner Plein innovatieve oplossingen van toonaangevende bedrijven zoals Forescout\, Fortinet en Netskope. \nGratis deelname\nKPN zet zich in voor een veiliger digitaal Nederland. Deelname aan NLSecure[ID] is dan ook gratis. Aanmelden kan eenvoudig via de website van NLSecure[ID]. Let op: de capaciteit in Nieuwegein is beperkt\, dus schrijf je snel in! \nMeer informatie en aanmelden via https://www.kpn.com/nlsecure \nLaten we samen de toekomst van cybersecurity vormgeven. Mis deze kans niet om kennis\, inzichten en oplossingen op te doen voor een veiliger digitaal Nederland.
URL:https://industrievandaag.nl/event/nlsecureid/
LOCATION:Nieuwegein Business Centre (NBC)\, Blokhoeve 1\, Nieuwegein\, 3438 LC\, Nederland
CATEGORIES:Congres
GEO:52.0474613;5.0907268
X-APPLE-STRUCTURED-LOCATION;VALUE=URI;X-ADDRESS=Nieuwegein Business Centre (NBC) Blokhoeve 1 Nieuwegein 3438 LC Nederland;X-APPLE-RADIUS=500;X-TITLE=Blokhoeve 1:geo:5.0907268,52.0474613
END:VEVENT
BEGIN:VEVENT
DTSTART;TZID=Europe/Amsterdam:20241210T140000
DTEND;TZID=Europe/Amsterdam:20241210T173000
DTSTAMP:20260419T144726
CREATED:20241129T104832Z
LAST-MODIFIED:20241210T104943Z
UID:10001203-1733839200-1733851800@industrievandaag.nl
SUMMARY:High Tech Marketing Meet-up
DESCRIPTION:De High Tech Marketing Meet-up is dé plek voor marketing- en communicatieprofessionals uit de tech om elkaar te inspireren\, ervaringen uit te wisselen en nieuwe connecties te maken. Deze komende editie organiseren we samen met de marketeers van de High Tech Campus Eindhoven. Ben jij er ook bij op 10 december in het AI Innovation Center? Noteer deze datum dan alvast in je agenda! \nBelangrijke mededeling: de voertaal van deze editie is in het Engels \nThema aankomende editie: Maximale marketingimpact met events\nEen event is een krachtig middel om nieuwe leads te genereren\, bestaande klantrelaties te verdiepen en de naamsbekendheid van je bedrijf of merk(en) te vergroten. Hier bouw je (toevallige) connecties op met mensen die je op andere manieren (zelfs online) niet zou bereiken! Tijdens de nieuwste editie van de High Tech Marketing Meet-up ontdek je alles over: \n\nHoe een evenement je branding kan versterken\nHoe je social en video succesvol inzet in je eventcampagne\nHoe je rondom (een deelname aan) een event een succesvolle inbound marketingcampagne bouwt\nHoe je jouw merk succesvol presenteert op een beurs of netwerkevenement\n10 take aways om direct toe te passen\n\nLaat je inspireren tijdens de keynote\, kies uit 2 praktische workshops en leer van de praktijkervaringen van een ervaren marketeer in de tech. \nVoor wie is de High Tech Marketing Meet-up?\nDe High Tech Marketing Meet-up is bedoeld voor marketing- en communicatieprofessionals werkzaam bij hightech- en maakbedrijven en/of bij branche-\, kennis- of netwerkorganisaties binnen de hightech- en maakindustrie.
URL:https://industrievandaag.nl/event/high-tech-marketing-meet-up/
LOCATION:High Tech Campus Eindhoven\, High Tech Campus 1 The Strip\, Eindhoven\, Nederland
CATEGORIES:Congres
GEO:51.4231423;5.4622897
X-APPLE-STRUCTURED-LOCATION;VALUE=URI;X-ADDRESS=High Tech Campus Eindhoven High Tech Campus 1 The Strip Eindhoven Nederland;X-APPLE-RADIUS=500;X-TITLE=High Tech Campus 1 The Strip:geo:5.4622897,51.4231423
END:VEVENT
BEGIN:VEVENT
DTSTART;TZID=Europe/Amsterdam:20241210T100000
DTEND;TZID=Europe/Amsterdam:20241211T180000
DTSTAMP:20260419T144726
CREATED:20230909T114223Z
LAST-MODIFIED:20241210T104942Z
UID:10000935-1733824800-1733940000@industrievandaag.nl
SUMMARY:European Industry & Energy Summit
DESCRIPTION:Kom naar de Industry and Energy Summit in Antwerpen\, waar topbeslissers en experts samenkomen om de complexe uitdagingen van de industriële transformatie naar nuluitstoot aan te pakken. \nGrijp deze kans om u te verdiepen in de fijne kneepjes van deze monumentale puzzel. EIES24 biedt een platform om de verschillende stukjes van de oplossing te verkennen. Ontdek de kracht van het verbinden van industriële clusters\, het ontsluiten van het potentieel van groene en blauwe waterstof\, het benutten van circulaire en biogebaseerde bronnen\, het verkennen van groene ammoniak\, het verkennen van koolstofopslag en -gebruik\, het omarmen van hernieuwbare energieopwekking\, elektrificatie\, biotechnologische ontwikkelingen\, de rol van AI\, en nog veel meer.
URL:https://industrievandaag.nl/event/the-european-industry-energy-summit/
LOCATION:De Schiecentrale\, Sint-Jobsweg 116\, Rotterdam\, 3024 EA\, Netherlands
CATEGORIES:Congres
GEO:51.9039784;4.4590031
X-APPLE-STRUCTURED-LOCATION;VALUE=URI;X-ADDRESS=De Schiecentrale Sint-Jobsweg 116 Rotterdam 3024 EA Netherlands;X-APPLE-RADIUS=500;X-TITLE=Sint-Jobsweg 116:geo:4.4590031,51.9039784
END:VEVENT
BEGIN:VEVENT
DTSTART;TZID=Europe/Amsterdam:20241204T090000
DTEND;TZID=Europe/Amsterdam:20241204T170000
DTSTAMP:20260419T144726
CREATED:20241129T104828Z
LAST-MODIFIED:20241204T104938Z
UID:10001202-1733302800-1733331600@industrievandaag.nl
SUMMARY:Nationaal Waterstof Congres
DESCRIPTION:Om de volwassenheid van de waterstofmarkt een stap verder te brengen is samenwerking cruciaal. Maar hoe kom je in gesprek met de juiste partijen? En waar bevinden zij zich in de keten? \nEr zijn in Nederland de afgelopen jaren volop concrete projecten gerealiseerd. Succesvolle projecten\, maar ook projecten waarbij de uitkomst anders was dan verwacht. Deze lessons learned laten het hele verhaal zien\, van obstakels tot een succesvolle uitkomst. \nTijdens het Nationaal Waterstof congres word je geïnspireerd en bijgepraat door toonaangevende keynote speeches en interactieve sessies. Daarnaast ontmoet je partijen uit de gehele waterstofketen tijdens voldoende netwerkmomenten. \n  \n\n\nDe vier hoofdthema’s tijdens het congres:\n\n\n\nWet- en regelgeving\nVeiligheid\nIndustrie\n(zware) Mobiliteit\n\nMis deze kans niet om bij te dragen aan en te profiteren van de groeiende mogelijkheden in de waterstofindustrie. Schrijf je in en maak deel uit van de 3e editie van het Nationaal Waterstof Congres op 5 november 2024 in de Jaarbeurs Utrecht.
URL:https://industrievandaag.nl/event/nationaal-waterstof-congres/
LOCATION:Jaarbeurs – Utrecht\, Jaarbeursplein 6\, Utrecht\, 3521 AL\, Nederland
CATEGORIES:Congres
GEO:52.0858427;5.1033303
X-APPLE-STRUCTURED-LOCATION;VALUE=URI;X-ADDRESS=Jaarbeurs – Utrecht Jaarbeursplein 6 Utrecht 3521 AL Nederland;X-APPLE-RADIUS=500;X-TITLE=Jaarbeursplein 6:geo:5.1033303,52.0858427
END:VEVENT
BEGIN:VEVENT
DTSTART;TZID=Europe/Amsterdam:20241203T093000
DTEND;TZID=Europe/Amsterdam:20241203T170000
DTSTAMP:20260419T144726
CREATED:20240928T124336Z
LAST-MODIFIED:20241203T104813Z
UID:10001171-1733218200-1733245200@industrievandaag.nl
SUMMARY:MBD Solutions Event
DESCRIPTION:Het begint allemaal met het productontwerp. 3D-modellen worden bij MBD gebruikt als de bron voor alle ontwerpinformatie. Dit betekent dat deze informatie niet meer op een 2D tekening staat maar als digitale informatie in het 3D model. De Product & Manufacturing Information (PMI) maakt vervolgens de automatisering van processen in o.a. Design Engineering en Manufacturing mogelijk. Dit leidt tot minder prototypes en een kortere ontwikkeltijd voor producten doordat in een vroeg stadium de kwaliteit van het design gecontroleerd wordt. \nHoe haal je het maximale uit deze manier van werken en waar begin je? Ontdek tijdens het MBD Solutions Event alles wat je nodig hebt voor deze transformatie: \n\nDe roadmap voor MBD implementatie (design en manufacturing)\nPraktijkvoorbeelden\nBeschikbare software oplossingen\nMBD normen en standaarden
URL:https://industrievandaag.nl/event/mbd-solutions-event-2/
LOCATION:Mikrocentrum\, De Run 1115\, Veldhoven\, 5503 LB\, Nederland
CATEGORIES:Conferentie,Congres,Seminar
GEO:51.4186146;5.4229887
X-APPLE-STRUCTURED-LOCATION;VALUE=URI;X-ADDRESS=Mikrocentrum De Run 1115 Veldhoven 5503 LB Nederland;X-APPLE-RADIUS=500;X-TITLE=De Run 1115:geo:5.4229887,51.4186146
END:VEVENT
BEGIN:VEVENT
DTSTART;TZID=Europe/Amsterdam:20241127T093000
DTEND;TZID=Europe/Amsterdam:20241127T170000
DTSTAMP:20260419T144726
CREATED:20240928T124321Z
LAST-MODIFIED:20241127T104811Z
UID:10001167-1732699800-1732726800@industrievandaag.nl
SUMMARY:Lijm event
DESCRIPTION:Al 10 jaar lang is het Lijm event dé plek als je je licht wilt opsteken over alle aspecten van een goede en betrouwbare lijmverbinding. \nRuim 100 sprekers hebben in de afgelopen 10 jaar hun kennis gedeeld. Er is nog steeds veel onbekendheid over lijmen en het is van cruciaal belang om te weten lijmfacetten een rol spelen in jouw specifieke situatie. Welke functionele eisen worden er gesteld aan het ontwikkelproces? En hoe zit het met de regelgeving? \nLijmen 2024 geeft je de kans om gespecialiseerde bedrijven te ontmoeten en je kennis over lijmverbindingen uit te breiden.
URL:https://industrievandaag.nl/event/lijm-event/
LOCATION:Mikrocentrum\, De Run 1115\, Veldhoven\, 5503 LB\, Nederland
CATEGORIES:Congres,Seminar,Vakbeurs
GEO:51.4186146;5.4229887
X-APPLE-STRUCTURED-LOCATION;VALUE=URI;X-ADDRESS=Mikrocentrum De Run 1115 Veldhoven 5503 LB Nederland;X-APPLE-RADIUS=500;X-TITLE=De Run 1115:geo:5.4229887,51.4186146
END:VEVENT
BEGIN:VEVENT
DTSTART;TZID=Europe/Amsterdam:20241014T093000
DTEND;TZID=Europe/Amsterdam:20241017T170000
DTSTAMP:20260419T144726
CREATED:20240928T124159Z
LAST-MODIFIED:20241014T051457Z
UID:10001145-1728898200-1729184400@industrievandaag.nl
SUMMARY:AVEVA World
DESCRIPTION:Step into the realm of innovation at our premier event\, AVEVA World. \nEmbark on a journey where the convergence of data-driven insights and AI-powered solutions reshapes industries worldwide. Here’s why you won’t want to miss out: \n\nImmerse yourself in the wisdom of over 50 AVEVA customer presenters\, as they unveil innovative solutions to industry challenges.\nForge connections with fellow tech enthusiasts among the vibrant community of 1\,900 professionals in attendance.\nSharpen your technical prowess through immersive hands-on training sessions.\nDig deeper into the expansive AVEVA portfolio through engaging conversations with product experts and partner exhibitors.\nUnwind and network at our evening events\, where inspiration meets relaxation.\nWhether you’re a seasoned industry expert\, a visionary executive\, or a newcomer to the AVEVA family\, our diverse range of sessions promises to empower you and your business to achieve enduring impact.\n\nMore information
URL:https://industrievandaag.nl/event/aveva-world/
LOCATION:Conference venue – Le Palais des Congrès de Paris\, Parijs\, Frankrijk
CATEGORIES:Congres
ORGANIZER;CN="AVEVA Select Benelux":MAILTO:info@benelux.avevaselect.com
END:VEVENT
END:VCALENDAR