BEGIN:VCALENDAR
VERSION:2.0
PRODID:-//Industrievandaag - ECPv6.15.18//NONSGML v1.0//EN
CALSCALE:GREGORIAN
METHOD:PUBLISH
X-WR-CALNAME:Industrievandaag
X-ORIGINAL-URL:https://industrievandaag.nl
X-WR-CALDESC:Evenementen voor Industrievandaag
REFRESH-INTERVAL;VALUE=DURATION:PT1H
X-Robots-Tag:noindex
X-PUBLISHED-TTL:PT1H
BEGIN:VTIMEZONE
TZID:Europe/Amsterdam
BEGIN:DAYLIGHT
TZOFFSETFROM:+0100
TZOFFSETTO:+0200
TZNAME:CEST
DTSTART:20250330T010000
END:DAYLIGHT
BEGIN:STANDARD
TZOFFSETFROM:+0200
TZOFFSETTO:+0100
TZNAME:CET
DTSTART:20251026T010000
END:STANDARD
BEGIN:DAYLIGHT
TZOFFSETFROM:+0100
TZOFFSETTO:+0200
TZNAME:CEST
DTSTART:20260329T010000
END:DAYLIGHT
BEGIN:STANDARD
TZOFFSETFROM:+0200
TZOFFSETTO:+0100
TZNAME:CET
DTSTART:20261025T010000
END:STANDARD
BEGIN:DAYLIGHT
TZOFFSETFROM:+0100
TZOFFSETTO:+0200
TZNAME:CEST
DTSTART:20270328T010000
END:DAYLIGHT
BEGIN:STANDARD
TZOFFSETFROM:+0200
TZOFFSETTO:+0100
TZNAME:CET
DTSTART:20271031T010000
END:STANDARD
END:VTIMEZONE
BEGIN:VEVENT
DTSTART;TZID=Europe/Amsterdam:20260414T090000
DTEND;TZID=Europe/Amsterdam:20260414T170000
DTSTAMP:20260419T170149
CREATED:20250425T121253Z
LAST-MODIFIED:20250425T121253Z
UID:10001483-1776157200-1776186000@industrievandaag.nl
SUMMARY:Nationaal Congres AI Governance & Compliance
DESCRIPTION:Grip op AI: van juridische kaders naar praktische toepassingen & lessons learned\nSinds de AI Act op 1 augustus 2024 van kracht ging\, staan organisaties voor nieuwe uitdagingen in de AI-wetgeving. Het Nationaal Congres AI Governance & Compliance biedt u de gelegenheid om deze ervaringen en oplossingen te delen. Ontdek hoe toonaangevende bedrijven voldoen aan de vereisten van de AI Act en leer van hun strategieën en best practices voor veilige en verantwoorde AI-toepassingen. Laat u inspireren door de inzichten van vooroplopers op het gebied van AI-compliance\, governance en ethiek. \n\n\n\n\nBelangrijkste onderwerpen\, cases en discussies\n\n\n\n\n\n\n\n\n\nHoor van voorlopers hoe zij AI-vaardigheden (AI-literacy) binnen hun organisaties vergroten en meten\nOntdek hoe u geschikte AI-systemen vindt en en hier controle op houdt\, terwijl u omgaat met de nieuwe vereisten\nOntvang nieuwe praktische voorbeelden van structuren die AI-transparantie en ethiek waarborgen\, zoals impact assessments en besluitvormingsmodellen\nLeer van topbedrijven zoals NS\, ING\, Randstad en het Ministerie van Financiën wat zijn de lessons learned na de AI Act en wat zijn de best practices voor governance en compliance
URL:https://industrievandaag.nl/event/nationaal-congres-ai-governance-compliance/
LOCATION:Van der Valk Utrecht\, Winthontlaan 4\, Utrecht\, 3526 KV\, Netherlands
CATEGORIES:Conferentie
ORGANIZER;CN="Outvie":MAILTO:info@outvie.nl
GEO:52.0610791;5.1083622
X-APPLE-STRUCTURED-LOCATION;VALUE=URI;X-ADDRESS=Van der Valk Utrecht Winthontlaan 4 Utrecht 3526 KV Netherlands;X-APPLE-RADIUS=500;X-TITLE=Winthontlaan 4:geo:5.1083622,52.0610791
END:VEVENT
BEGIN:VEVENT
DTSTART;TZID=Europe/Amsterdam:20260420T093000
DTEND;TZID=Europe/Amsterdam:20260422T170000
DTSTAMP:20260419T170149
CREATED:20251205T135930Z
LAST-MODIFIED:20251205T135930Z
UID:10001544-1776677400-1776877200@industrievandaag.nl
SUMMARY:PIC International
DESCRIPTION:The 11th PIC International builds on the strengths of the event’s previous editions\, with around 40 leaders from industry and academia delivering presentations falling within four key themes: \n\nFoundations of PIC design: materials\, devices and processes\nConnectivity and scalability for secure\, high-speed data networks\nEmerging applications: photonics for sensing\, imaging and beyond\nFuture computing: PICs for photonic processing\, quantum computers\, and neural networks\n\nConference attendees will gain greater insights into device technologies while learning of the latest opportunities and trends within the PIC industry. Delegates will also discover significant advances in tools and processes that deliver enhanced performance and higher yields. \nAs the longest running PIC dedicated event\, PIC international hosts the key decision makers from the whole of the PIC supply chain\, from materials and equipment suppliers\, foundries and advanced packaging houses\, module and subsystem supplies\, all the way to OEM and equipment makers. \nPIC International is part of AngelTech\, bringing together an Innovation Summit\, four co-located conferences and an exhibition with more than 120 presentations\, more than 700 delegates and over 80 exhibitors. AngelTech is the only global event covering Compound Semiconductor\, PICs\, Power Electronics and Advanced Packaging technologies\, bringing the key executives all together under one roof for three days of networking and insight.
URL:https://industrievandaag.nl/event/pic-international/
LOCATION:Sheraton Brussels Airport Hotel\, Brussels National Airport\, Brussel\, 1930\, Belgium
CATEGORIES:Conferentie
END:VEVENT
BEGIN:VEVENT
DTSTART;TZID=Europe/Amsterdam:20260420T093000
DTEND;TZID=Europe/Amsterdam:20260422T170000
DTSTAMP:20260419T170149
CREATED:20251205T140120Z
LAST-MODIFIED:20251205T140120Z
UID:10001545-1776677400-1776877200@industrievandaag.nl
SUMMARY:CS International
DESCRIPTION:The 16th CS International builds on the strengths of its predecessors\, with around 40 leaders from industry and academia delivering presentations falling within 5 key themes: \n\nGrowing Revenues in GaN Power Electronics\nmicroLEDs: How to gain market traction\nRevitalising the SiC industry\nAdvancing surface-emitting optoelectronics\nUnlocking the potential of ultra-wide bandgap materials\n\nDelegates these sessions will gain greater insight into device technologies while learning of the latest opportunities and trends within the compound semiconductor industry. Those attending CS International will also be informed of significant advances in tools and processes that deliver enhanced yield and throughput. \nAttendees at this two-day conference will also meet a wide variety of key players within the community\, from investors and analysts to fab engineers and managers. \nCS International is part of AngelTech\, bringing together an Innovation Summit\, four co-located conferences and an exhibition with more than 120 presentations\, more than 700 delegates and over 80 exhibitors. AngelTech is the only global event covering Compound Semiconductor\, PICs\, Power Electronics and Advanced Packaging technologies\, bringing the key executives all together under one roof for three days of networking and insight.
URL:https://industrievandaag.nl/event/cs-international/
LOCATION:Sheraton Brussels Airport Hotel\, Brussels National Airport\, Brussel\, 1930\, Belgium
CATEGORIES:Conferentie
END:VEVENT
BEGIN:VEVENT
DTSTART;TZID=Europe/Amsterdam:20260712T090000
DTEND;TZID=Europe/Amsterdam:20260716T170000
DTSTAMP:20260419T170149
CREATED:20251205T151029Z
LAST-MODIFIED:20251205T151029Z
UID:10001553-1783846800-1784221200@industrievandaag.nl
SUMMARY:EuChemS Chemistry Congress
DESCRIPTION:The Royal Flemish Chemical Society (KVCV) is delighted and honoured to host the 10th EuChemS Chemistry Congress (ECC10)\, July 12-16 2026\, in Antwerp\, Belgium\, in the Flanders Meeting & Convention Center Antwerp (FMCCA).\nThe 10th EuChemS Chemistry Congress will have an exciting scientific programme with world-leading plenary speakers\, invited speakers and short oral presentations\, supplemented with a series of poster presentations. \nThis Congress is the 10th in a series that started in Budapest in 2006\, and since then has been held in several cities across Europe before reaching Antwerp. The EuChemS Congresses are noted for their excellent scientific level. They allow all the attendees and participants to listen to and interact with some of the most celebrated researchers in the world. \nAntwerp is a metropolis on a human scale\, situated in the heart of Europe\, and has a lot to offer. Despite its relatively small size\, it boasts the biggest port area in Europe and a vast offering of cultural\, historical\, and culinary delights enhanced by more than 170 nationalities. Antwerp is home to shopping centres\, boutiques\, museums\, start-up hubs\, premium hotels\, and the historical home of Rubens. Additionally\, the world’s largest diamond trade hub is within walking distance. Antwerp embraces heritage and innovation\, business and leisure\, global ambitions\, and a genuine concern for nurturing a highly enjoyable quality of life for all its residents and visitors.
URL:https://industrievandaag.nl/event/euchems-chemistry-congress/
LOCATION:Flanders Expo\, Gent\, Belgi
CATEGORIES:Conferentie
END:VEVENT
END:VCALENDAR