BEGIN:VCALENDAR
VERSION:2.0
PRODID:-//Industrievandaag - ECPv6.15.18//NONSGML v1.0//EN
CALSCALE:GREGORIAN
METHOD:PUBLISH
X-ORIGINAL-URL:https://industrievandaag.nl
X-WR-CALDESC:Evenementen voor Industrievandaag
REFRESH-INTERVAL;VALUE=DURATION:PT1H
X-Robots-Tag:noindex
X-PUBLISHED-TTL:PT1H
BEGIN:VTIMEZONE
TZID:Europe/Amsterdam
BEGIN:DAYLIGHT
TZOFFSETFROM:+0100
TZOFFSETTO:+0200
TZNAME:CEST
DTSTART:20250330T010000
END:DAYLIGHT
BEGIN:STANDARD
TZOFFSETFROM:+0200
TZOFFSETTO:+0100
TZNAME:CET
DTSTART:20251026T010000
END:STANDARD
BEGIN:DAYLIGHT
TZOFFSETFROM:+0100
TZOFFSETTO:+0200
TZNAME:CEST
DTSTART:20260329T010000
END:DAYLIGHT
BEGIN:STANDARD
TZOFFSETFROM:+0200
TZOFFSETTO:+0100
TZNAME:CET
DTSTART:20261025T010000
END:STANDARD
BEGIN:DAYLIGHT
TZOFFSETFROM:+0100
TZOFFSETTO:+0200
TZNAME:CEST
DTSTART:20270328T010000
END:DAYLIGHT
BEGIN:STANDARD
TZOFFSETFROM:+0200
TZOFFSETTO:+0100
TZNAME:CET
DTSTART:20271031T010000
END:STANDARD
END:VTIMEZONE
BEGIN:VEVENT
DTSTART;TZID=Europe/Amsterdam:20260326T100000
DTEND;TZID=Europe/Amsterdam:20260327T210000
DTSTAMP:20260419T165146
CREATED:20251209T142527Z
LAST-MODIFIED:20251209T142704Z
UID:10001577-1774519200-1774645200@industrievandaag.nl
SUMMARY:Machineering NextGen Experience
DESCRIPTION:Machineering NextGen Experience\, dat is de maakfabriek van de toekomst voor u in demo én op één locatie. Een netwerk- en demo evenement pur sang die de volledige keten van de maakindustrie samen brengt. Ontdek de verschillende partners\, innovaties & productievloer van de toekomst op donderdag 26 en vrijdag 27 maart 2026 in Kortrijk Xpo. \nDe exponentiële shift naar Industry 4.0 en digitalisering voltrekt zich in sneltempo. Alle business units (vroeger vaker standalone) van een toekomstgerichte maakorganisatie transformeren tot 1 interactief en wendbaar ecosysteem. \nU ontdekt en ervaart aan den lijve (a Nextgen Experience)\, op de met expertise gecombineerde productievloeren de gebundelde krachten van technologieleveranciers\, hoe uw productievloer morgen er vandaag al kan uitzien. Machineering NextGen Experience is de ideale plaats waar bezoekers\, investeerders\, technologieleveranciers met elkaar de dialoog aangaan\, sparren\, uitdagen\, netwerken en inspireren.
URL:https://industrievandaag.nl/event/machineering-nextgen-experience/
LOCATION:Kortrijk Xpo\, Doorniksesteenweg 216\, Kortrijk\, West-Vlaanderen\, 8500\, Belgium
CATEGORIES:Vakbeurs
ORGANIZER;CN="Industrial Fairs":MAILTO:info@industrialfairs.com
GEO:50.815474;3.2718398
X-APPLE-STRUCTURED-LOCATION;VALUE=URI;X-ADDRESS=Kortrijk Xpo Doorniksesteenweg 216 Kortrijk West-Vlaanderen 8500 Belgium;X-APPLE-RADIUS=500;X-TITLE=Doorniksesteenweg 216:geo:3.2718398,50.815474
END:VEVENT
BEGIN:VEVENT
DTSTART;TZID=Europe/Amsterdam:20260204T141500
DTEND;TZID=Europe/Amsterdam:20260204T153000
DTSTAMP:20260419T165146
CREATED:20260127T143824Z
LAST-MODIFIED:20260127T143824Z
UID:10001644-1770214500-1770219000@industrievandaag.nl
SUMMARY:Debat: What’s your next OT cybersecurity move?
DESCRIPTION:What’s your next OT cybersecurity move? Industrialfairs organiseert een debat over hoe mensen\, processen en technologie concreet schakelen naar efficiënte OT/IT cyberveiligheid. \nDebat op woensdag 4 februari in Kortrijk Xpo om 14u15. Toegang gratis mits registratie.\nCyberdreigingen stoppen niet aan de fabriekspoort. Tijdens Indumation wordt OT cybersecurity daarom niet herleid tot technologie alleen\, maar benaderd als een strategische verantwoordelijkheid voor bestuur\, management én operationele teams. In het debat “What’s Your Next OT Cybersecurity Move?” gaan industriële klanten en technologiepartners in open dialoog over de volgende noodzakelijke stappen voor een weerbare maakorganisatie. \nHet debat maakt deel uit van Indumation\, de toonaangevende vakbeurs voor industriële automatisering\, digitalisering en smart manufacturing. Naast de beursvloer met meer dan 250 technologiepartners biedt Indumation een uitgebreid inhoudelijk programma met sessies\, keynotes en debatten rond thema’s zoals OT en IT-integratie\, cybersecurity\, AI\, digitalisering en innovatie in de industrie. \nVan bewustzijn naar systemische vooruitgang\nDe centrale invalshoek van het debat is helder:\n“De gevaarlijkste persoon in je organisatie ben je zelf.” \nOnderwerpen die aan bod komen: \n\nOT Cybersecurity Strategy: blue pill or red pill\nHoe IT en OT elkaar ondersteunen\, maar ook gescheiden moeten blijven\nCybersecurity is People First\, then Process\, then Technology\nRekruteren en bouwen van een Champions Team\nThird Party Risk and Risk Zone Assessments\nNext up: Virtual Patching and AI\n\nWie deze stellingen herkent of bevestigend meeleest\, ontdekt waarom aanwezigheid geen optie maar een must is. \nGeen doemdenken\, geen verkooppraatjes \nAan tafel zitten twee grote industriële cyberconcerns\, Siemens en Palo Alto Networks\, aangevuld met een integrator namens Agoria CMIB\, vertegenwoordigd door Spotit\, en een wereldspeler uit de maakindustrie\, Unilin. De sessie wordt gemodereerd door technologie-expert IndustrialFairs. \nVertrekkend vanuit het standpunt van de industriële klant\, zowel grootbedrijf als kmo\, gaan zij in discussie over hoe C-level\, bestuur en management uit alle business units\, IT én OT\, samen systemisch kunnen groeien. Geen ‘cyber doomsday’ monoloog en geen ‘vendor pitched format’\, maar een praktisch én strategisch pad dat toepasbaar is voor elke maakorganisatie. \n  \nVoor wie? \n\nBestuur en beleidsmakers binnen maakorganisaties\, groot en klein\nManagement uit OT\, IT\, Operations\, Automation en Innovation\nIntegratoren en industriële klanten die elkaar willen inspireren in een technologie-neutrale setting\n\n  \nPraktisch \n\nWoensdag 4 februari om 14u15 tot 15u30\nKortrijk Xpo: Doorniksesteenweg 216\, 8500 Kortrijk\nDeelname: gratis\nVoorregistratie verplicht via www.indumation.be\nPlaatsen zijn beperkt\, first in first served\n\nMeer informatie
URL:https://industrievandaag.nl/event/debat-whats-your-next-ot-cybersecurity-move/
LOCATION:Kortrijk Xpo\, Doorniksesteenweg 216\, Kortrijk\, West-Vlaanderen\, 8500\, Belgium
CATEGORIES:Lezing
ORGANIZER;CN="Industrial Fairs":MAILTO:info@industrialfairs.com
GEO:50.815474;3.2718398
X-APPLE-STRUCTURED-LOCATION;VALUE=URI;X-ADDRESS=Kortrijk Xpo Doorniksesteenweg 216 Kortrijk West-Vlaanderen 8500 Belgium;X-APPLE-RADIUS=500;X-TITLE=Doorniksesteenweg 216:geo:3.2718398,50.815474
END:VEVENT
BEGIN:VEVENT
DTSTART;TZID=Europe/Amsterdam:20260204T100000
DTEND;TZID=Europe/Amsterdam:20260206T180000
DTSTAMP:20260419T165146
CREATED:20250404T084101Z
LAST-MODIFIED:20260109T110849Z
UID:10001466-1770199200-1770400800@industrievandaag.nl
SUMMARY:Indumation
DESCRIPTION:Indumation richt zich naar industriële professionals uit alle takken van de industrie (maak- en procesindustrie\, logistiek\, machinebouw\, aerospace\, energie- en nutsbedrijven\, etc.) en publieke sectoren (overheden voor infrastructuur en organisatie). \nIndumation richt zich zowel naar beslissers en eindverantwoordelijken (voor productie\, logistiek\, aankoop\, projecten en ontwikkeling)\, als naar voorschrijvers en adviserende stafmedewerkers. Ook hogeschoolstudenten technologisch onderwijs en derdegraads studenten (onder begeleiding) worden zijn toegelaten. Op de beursvloer van Indumation staan zowel de grootste industriële technologieproviders als de nieuwste techstartups die de industriële automatisering van morgen demonstreren : \n\n\nIndustriële apparatuur (elektrisch\, hydraulisch\, pneumatisch en mechanisch aangedreven)\nBesturings- en bewegingstechnologie\nProcess Control Systemen\nTest-\, Meet- en Controletechnologie\nIndustriële Software\, APPS en Business integratie softwareoplossingen of API’s (PLM\, ERP\, MES\, LES\, WMS\, LIMS\, EAM\, CMMS\, …)\nTechnologie en slimme componenten voor Engineering\, Systeemintegratie\, Servicing\, (Predictive) Maintenance\, Supply Chain\nIndumation of Things met o.m. Industrial Internet of Things (IioT)\, HMI\, Data Analytics\, AI\, ML\, Deep Learning\, Digital Twins & Blockchain\, 5 G & LoraWan\, drone inspection…
URL:https://industrievandaag.nl/event/indumation-be/
LOCATION:Kortrijk Xpo\, Doorniksesteenweg 216\, Kortrijk\, West-Vlaanderen\, 8500\, Belgium
CATEGORIES:Vakbeurs
ORGANIZER;CN="Industrial Fairs":MAILTO:info@industrialfairs.com
GEO:50.815474;3.2718398
X-APPLE-STRUCTURED-LOCATION;VALUE=URI;X-ADDRESS=Kortrijk Xpo Doorniksesteenweg 216 Kortrijk West-Vlaanderen 8500 Belgium;X-APPLE-RADIUS=500;X-TITLE=Doorniksesteenweg 216:geo:3.2718398,50.815474
END:VEVENT
END:VCALENDAR