BEGIN:VCALENDAR
VERSION:2.0
PRODID:-//Industrievandaag - ECPv6.15.18//NONSGML v1.0//EN
CALSCALE:GREGORIAN
METHOD:PUBLISH
X-ORIGINAL-URL:https://industrievandaag.nl
X-WR-CALDESC:Evenementen voor Industrievandaag
REFRESH-INTERVAL;VALUE=DURATION:PT1H
X-Robots-Tag:noindex
X-PUBLISHED-TTL:PT1H
BEGIN:VTIMEZONE
TZID:Europe/Amsterdam
BEGIN:DAYLIGHT
TZOFFSETFROM:+0100
TZOFFSETTO:+0200
TZNAME:CEST
DTSTART:20240331T010000
END:DAYLIGHT
BEGIN:STANDARD
TZOFFSETFROM:+0200
TZOFFSETTO:+0100
TZNAME:CET
DTSTART:20241027T010000
END:STANDARD
BEGIN:DAYLIGHT
TZOFFSETFROM:+0100
TZOFFSETTO:+0200
TZNAME:CEST
DTSTART:20250330T010000
END:DAYLIGHT
BEGIN:STANDARD
TZOFFSETFROM:+0200
TZOFFSETTO:+0100
TZNAME:CET
DTSTART:20251026T010000
END:STANDARD
BEGIN:DAYLIGHT
TZOFFSETFROM:+0100
TZOFFSETTO:+0200
TZNAME:CEST
DTSTART:20260329T010000
END:DAYLIGHT
BEGIN:STANDARD
TZOFFSETFROM:+0200
TZOFFSETTO:+0100
TZNAME:CET
DTSTART:20261025T010000
END:STANDARD
BEGIN:DAYLIGHT
TZOFFSETFROM:+0100
TZOFFSETTO:+0200
TZNAME:CEST
DTSTART:20270328T010000
END:DAYLIGHT
BEGIN:STANDARD
TZOFFSETFROM:+0200
TZOFFSETTO:+0100
TZNAME:CET
DTSTART:20271031T010000
END:STANDARD
END:VTIMEZONE
BEGIN:VEVENT
DTSTART;TZID=Europe/Amsterdam:20260414T090000
DTEND;TZID=Europe/Amsterdam:20260414T170000
DTSTAMP:20260419T144516
CREATED:20250425T121253Z
LAST-MODIFIED:20250425T121253Z
UID:10001483-1776157200-1776186000@industrievandaag.nl
SUMMARY:Nationaal Congres AI Governance & Compliance
DESCRIPTION:Grip op AI: van juridische kaders naar praktische toepassingen & lessons learned\nSinds de AI Act op 1 augustus 2024 van kracht ging\, staan organisaties voor nieuwe uitdagingen in de AI-wetgeving. Het Nationaal Congres AI Governance & Compliance biedt u de gelegenheid om deze ervaringen en oplossingen te delen. Ontdek hoe toonaangevende bedrijven voldoen aan de vereisten van de AI Act en leer van hun strategieën en best practices voor veilige en verantwoorde AI-toepassingen. Laat u inspireren door de inzichten van vooroplopers op het gebied van AI-compliance\, governance en ethiek. \n\n\n\n\nBelangrijkste onderwerpen\, cases en discussies\n\n\n\n\n\n\n\n\n\nHoor van voorlopers hoe zij AI-vaardigheden (AI-literacy) binnen hun organisaties vergroten en meten\nOntdek hoe u geschikte AI-systemen vindt en en hier controle op houdt\, terwijl u omgaat met de nieuwe vereisten\nOntvang nieuwe praktische voorbeelden van structuren die AI-transparantie en ethiek waarborgen\, zoals impact assessments en besluitvormingsmodellen\nLeer van topbedrijven zoals NS\, ING\, Randstad en het Ministerie van Financiën wat zijn de lessons learned na de AI Act en wat zijn de best practices voor governance en compliance
URL:https://industrievandaag.nl/event/nationaal-congres-ai-governance-compliance/
LOCATION:Van der Valk Utrecht\, Winthontlaan 4\, Utrecht\, 3526 KV\, Netherlands
CATEGORIES:Conferentie
ORGANIZER;CN="Outvie":MAILTO:info@outvie.nl
GEO:52.0610791;5.1083622
X-APPLE-STRUCTURED-LOCATION;VALUE=URI;X-ADDRESS=Van der Valk Utrecht Winthontlaan 4 Utrecht 3526 KV Netherlands;X-APPLE-RADIUS=500;X-TITLE=Winthontlaan 4:geo:5.1083622,52.0610791
END:VEVENT
BEGIN:VEVENT
DTSTART;TZID=Europe/Amsterdam:20251202T090000
DTEND;TZID=Europe/Amsterdam:20251202T170000
DTSTAMP:20260419T144516
CREATED:20250425T120404Z
LAST-MODIFIED:20250827T122024Z
UID:10001480-1764666000-1764694800@industrievandaag.nl
SUMMARY:Dag van de Chief Data Officer (CDO)
DESCRIPTION:Het nationale kennis- en netwerkevent voor de strategische aanjagers van de datagedreven organisatie  \n\n\n\n\nOp de tweede editie van het jaarlijkse platform Dag van de Chief Data Officer gaat u in gesprek met experts en voorlopers uit private\, publieke en gereguleerde sector. U krijgt kennis en concrete handvatten om uw organisatie naar een hoger niveau van data volwassenheid en datagedreven werken te tillen. \nIn 1 dag alle ins & outs over de Chief Data Officer\, CDO-office en digitale transformatie naar een data centrische organisatie. \n\n\n\n\nWaarom deze conferentie?\n\n\n\n\n\n\n\n\n\nPositionering van de CDO: succesfactoren voor een sterke en invloedrijke CDO.\nData in de bestuurskamer: wat is nodig voor commitment en hoe voert u als CDO het gesprek?\nData excellence: het borgen van data governance met technieken\, stakeholder en tooling.
URL:https://industrievandaag.nl/event/dag-van-de-chief-data-officer-cdo/
LOCATION:Van der Valk Utrecht\, Winthontlaan 4\, Utrecht\, 3526 KV\, Netherlands
CATEGORIES:Conferentie
ORGANIZER;CN="Outvie":MAILTO:info@outvie.nl
GEO:52.0610791;5.1083622
X-APPLE-STRUCTURED-LOCATION;VALUE=URI;X-ADDRESS=Van der Valk Utrecht Winthontlaan 4 Utrecht 3526 KV Netherlands;X-APPLE-RADIUS=500;X-TITLE=Winthontlaan 4:geo:5.1083622,52.0610791
END:VEVENT
BEGIN:VEVENT
DTSTART;TZID=Europe/Amsterdam:20251107T090000
DTEND;TZID=Europe/Amsterdam:20251107T170000
DTSTAMP:20260419T144516
CREATED:20250425T120332Z
LAST-MODIFIED:20250827T121831Z
UID:10001477-1762506000-1762534800@industrievandaag.nl
SUMMARY:CDPO Actualiteiten- en Netwerkdag
DESCRIPTION:Ontmoet uw collega CDPO-ers\, wissel kennis en expertise uit en leer van uw vakgenoten! \n\n\n\n\n\n\nDit event biedt u een unieke gelegenheid om uw kennis over de nieuwste ontwikkelingen in privacy en gegevensbescherming bij te werken\, te netwerken met vakgenoten én waardevolle inzichten te verkrijgen van toonaangevende experts. \nWe hebben een gevarieerd programma met sessies geleid door experts. Met verschillende breakout-sessies krijgt u de kans om diepgaand te leren over onderwerpen die specifiek relevant zijn voor uw werk en interesses. \n\n\n\n\nWaarom deze conferentie?\n\n\n\n\n\n\n\n\n\nKEYNOTE: Waar liggen de grenzen in het gebruik van persoonsgegevens bij het gebruik van nieuwe technologieën?\nDe impact van een datalek met openbare persoonsgegevens\nOntmoet uw collega CDPO-ers\, wissel kennis en expertise uit en leer van uw vakgenoten!
URL:https://industrievandaag.nl/event/cdpo-actualiteiten-en-netwerkdag/
LOCATION:Van der Valk Utrecht\, Winthontlaan 4\, Utrecht\, 3526 KV\, Netherlands
CATEGORIES:Conferentie
ORGANIZER;CN="Outvie":MAILTO:info@outvie.nl
GEO:52.0610791;5.1083622
X-APPLE-STRUCTURED-LOCATION;VALUE=URI;X-ADDRESS=Van der Valk Utrecht Winthontlaan 4 Utrecht 3526 KV Netherlands;X-APPLE-RADIUS=500;X-TITLE=Winthontlaan 4:geo:5.1083622,52.0610791
END:VEVENT
BEGIN:VEVENT
DTSTART;TZID=Europe/Amsterdam:20251002T090000
DTEND;TZID=Europe/Amsterdam:20251003T170000
DTSTAMP:20260419T144516
CREATED:20250425T120243Z
LAST-MODIFIED:20250827T121742Z
UID:10001475-1759395600-1759510800@industrievandaag.nl
SUMMARY:Dataprotectie & Privacy
DESCRIPTION:Oplossingen voor vraagstukken rondom privacy en verantwoord datagebruik in het AI-tijdperk \n\n\n\n\nDe recente uitdagingen\, zoals de snelle groei van AI\, cybersecurityrisico’s en de (internationale) uitwisseling van gegevens tussen organisaties\, vereisen nieuwe regelgeving. De EU streeft naar een balans tussen innovatie en de bescherming van burgers (met name hun privacy) door middel van een uitgebreid pakket wetgeving tot 2030. Nu de EU-regels steeds concreter worden\, zult u als privacy-expert waarschijnlijk steeds complexere vragen krijgen. \nHet is hoog tijd voor nieuwe benaderingen en inzichten met betrekking tot privacy en verantwoord gebruik van gegevens in het tijdperk van AI. In 2 dagen klaar voor de uitdagingen tijdens het Dataprotectie & Privacy congres. \n\n\n\n\nWaarom deze conferentie?\n\n\n\n\n\n\n\n\n\nHotline uit Brussel: update EU-datastrategie tot 2030 en implicaties voor privacy en dataprotectie\nKey-notes\, cases en discussies sectorbrede bijdragen van experts\nNieuwste ontwikkelingen en privacyvraagstukken rondom quantumtechnologie\, synthetische data en surveillancetechnologie\nHet programma van het Dataprotectie & Privacy congres wordt vakkundig samengesteld door experts uit de praktijk
URL:https://industrievandaag.nl/event/dataprotectie-privacy/
LOCATION:Van der Valk Utrecht\, Winthontlaan 4\, Utrecht\, 3526 KV\, Netherlands
CATEGORIES:Congres
ORGANIZER;CN="Outvie":MAILTO:info@outvie.nl
GEO:52.0610791;5.1083622
X-APPLE-STRUCTURED-LOCATION;VALUE=URI;X-ADDRESS=Van der Valk Utrecht Winthontlaan 4 Utrecht 3526 KV Netherlands;X-APPLE-RADIUS=500;X-TITLE=Winthontlaan 4:geo:5.1083622,52.0610791
END:VEVENT
BEGIN:VEVENT
DTSTART;TZID=Europe/Amsterdam:20250207T093000
DTEND;TZID=Europe/Amsterdam:20250207T173000
DTSTAMP:20260419T144516
CREATED:20241129T104849Z
LAST-MODIFIED:20250129T064548Z
UID:10001215-1738920600-1738949400@industrievandaag.nl
SUMMARY:NWO NERA Energy Symposium
DESCRIPTION:De nieuwste ontwikkelingen in de wetenschap van de energietransitie komen aan bod bij de derde editie van het NWO NERA Energy Symposium. Wil jij jouw netwerk in de energiesector uitbreiden en op de hoogte blijven van inspirerende wetenschap voor de energietransitie? Kom dan 7 februari naar Utrecht! \n\n\n\n\n\nMet een overvol stroomnet\, geopolitieke onrust en een andere wind die waait door Den Haag (en elders) lijkt de energietransitie stil te vallen. Hoe kunnen we de energietransitie weer energie geven en welke rol speelt wetenschappelijk onderzoek hierin? Het thema van deze editie van het NWO NERA Energy Symposium is dan ook: ‘Recharging the energy transition’ \nMet inspirerende presentaties\, workshops\, en posters worden de nieuwste resultaten gepresenteerd. Uiteraard is er volop de ruimte om te netwerken met bedrijven\, beleidsmakers en wetenschappers uit verschillende disciplines. Allemaal om die ene vraag te beantwoorden: ‘hoe krijgen we de energietransitie weer op gang?’ \nDit symposium biedt een platform voor wetenschappers uit alle disciplines die met de energietransitie te maken hebben. Voor bedrijven die zich met de energietransitie bezighouden. En voor beleidsmakers uit alle lagen van de overheid om kennis te delen\, te inspireren en informeren\, en te netwerken. https://www.nwo.nl/bijeenkomsten/nwo-nera-energy-symposium-2025
URL:https://industrievandaag.nl/event/nwo-nera-energy-symposium-2/
LOCATION:Van der Valk Utrecht\, Winthontlaan 4\, Utrecht\, 3526 KV\, Netherlands
CATEGORIES:Symposium
ORGANIZER;CN="NWO":MAILTO:nwo@nwo.nl
GEO:52.0610791;5.1083622
X-APPLE-STRUCTURED-LOCATION;VALUE=URI;X-ADDRESS=Van der Valk Utrecht Winthontlaan 4 Utrecht 3526 KV Netherlands;X-APPLE-RADIUS=500;X-TITLE=Winthontlaan 4:geo:5.1083622,52.0610791
END:VEVENT
END:VCALENDAR