BEGIN:VCALENDAR
VERSION:2.0
PRODID:-//Industrievandaag - ECPv6.15.18//NONSGML v1.0//EN
CALSCALE:GREGORIAN
METHOD:PUBLISH
X-WR-CALNAME:Industrievandaag
X-ORIGINAL-URL:https://industrievandaag.nl
X-WR-CALDESC:Evenementen voor Industrievandaag
REFRESH-INTERVAL;VALUE=DURATION:PT1H
X-Robots-Tag:noindex
X-PUBLISHED-TTL:PT1H
BEGIN:VTIMEZONE
TZID:Europe/Amsterdam
BEGIN:DAYLIGHT
TZOFFSETFROM:+0100
TZOFFSETTO:+0200
TZNAME:CEST
DTSTART:20240331T010000
END:DAYLIGHT
BEGIN:STANDARD
TZOFFSETFROM:+0200
TZOFFSETTO:+0100
TZNAME:CET
DTSTART:20241027T010000
END:STANDARD
BEGIN:DAYLIGHT
TZOFFSETFROM:+0100
TZOFFSETTO:+0200
TZNAME:CEST
DTSTART:20250330T010000
END:DAYLIGHT
BEGIN:STANDARD
TZOFFSETFROM:+0200
TZOFFSETTO:+0100
TZNAME:CET
DTSTART:20251026T010000
END:STANDARD
BEGIN:DAYLIGHT
TZOFFSETFROM:+0100
TZOFFSETTO:+0200
TZNAME:CEST
DTSTART:20260329T010000
END:DAYLIGHT
BEGIN:STANDARD
TZOFFSETFROM:+0200
TZOFFSETTO:+0100
TZNAME:CET
DTSTART:20261025T010000
END:STANDARD
END:VTIMEZONE
BEGIN:VEVENT
DTSTART;TZID=Europe/Amsterdam:20250924T093000
DTEND;TZID=Europe/Amsterdam:20250924T170000
DTSTAMP:20260419T162324
CREATED:20250718T065550Z
LAST-MODIFIED:20250924T114357Z
UID:10001494-1758706200-1758733200@industrievandaag.nl
SUMMARY:✅ Smart Industry: Kennis\, keten\, kilowatt
DESCRIPTION:De industrie staat niet stil – beweegt\, verandert en innoveert in rap tempo. Dat vraagt om inzicht\, sterke verbindingen en actie. Daarom organiseren wij voor de vierde keer de Beurs Smart Industry. Dit jaar staan drie krachtige thema’s centraal: Keten\, kennis en kilowatt. \nMeld je hier gratis aan: Aanmelden Beurs Smart Industry 2025 \nKennis\nIn een wereld waarin geopolitiek de boventoon voert en internationale handelsstromen en grondstoffenprijzen voortdurend in beweging zijn\, is het essentieel om grip te houden op de keten. Rabobank biedt tijdens de beurs waardevolle inzichten in financiële marktontwikkelingen en deelt toekomstscenario’s die ons helpen wendbaar te blijven in een dynamische wereld. \nKeten\nWet- en regelgeving verandert\, en wie vooruit wil\, moet bijblijven. De Europese Machineverordening 2027 staat voor de deur en heeft impact op ontwerp\, veiligheid en CE-markering van machines. We nemen je mee in de praktische consequenties en wat je nú al kunt doen om straks compliant te zijn. \nKilowatt\nDe energietransitie is volop gaande\, maar toegang tot betaalbare\, betrouwbare energie is geen vanzelfsprekendheid meer. Tijdens de beurs krijg je concrete handvatten om om te gaan met stijgende energiekosten\, netcongestie en de groeiende druk om te verduurzamen. Want zonder kilowatt geen productie! \nInspirerende breakout-sessies\nTijdens deze beurs organiseren wij drie inspirerende breakout-sessies van elk 45 minuten\, van Rabobank (de markt)\, NEN (Europese machineverordening 2027) en Technische Unie (netcongestie). \nNatuurlijk zijn onze strategische partners ook aanwezig: \n\nAalberts Piping Systems\nABB\nDraka\nEaton\nGeberit\nGrundfos\nLapp\nLegrand\nOmron\nPhoenix Contact\nRittal\nSiemens\nSchneider Electric\nSMC\n\nProgramma\n10.30-11.15 uur | Rabobank | Waar staan we over 15 jaar in de industrie? En hoe komen we daar?(keten) \n12.45-13.30 uur | NEN | Europese machineverordening 2027 (kennis) \n14.30-15.15 uur | Technische Unie | Iddo Schenk | Netcongestie bestaat niet? (kilowatt \nMeld je gratis aan: Aanmelden Beurs Smart Industry 2025 \nMeer informatie over deze beurs\nBeurs Smart Industry: Keten\, kennis\, kilowatt | Technische Unie \nNieuwsbrief Industrie\nSchrijf je hier nu in voor onze maandelijkse nieuwsbrief en blijf op de hoogte van alle ontwikkelingen op het gebied van Industrie.
URL:https://industrievandaag.nl/event/%e2%9c%85-smart-industry-kennis-keten-kilowatt/
LOCATION:Technische Unie – Inspiratiecentrum Smart Industry Eindhoven\, De Schakel 14\, Eindhoven\, Eindhoven\, 5651 GH
CATEGORIES:Vakbeurs
ORGANIZER;CN="Technische Unie":MAILTO:l.lampe@technischeunie.com
GEO:51.4688407;5.4162675
X-APPLE-STRUCTURED-LOCATION;VALUE=URI;X-ADDRESS=Technische Unie – Inspiratiecentrum Smart Industry Eindhoven De Schakel 14 Eindhoven Eindhoven 5651 GH;X-APPLE-RADIUS=500;X-TITLE=De Schakel 14:geo:5.4162675,51.4688407
END:VEVENT
END:VCALENDAR