BEGIN:VCALENDAR
VERSION:2.0
PRODID:-//Industrievandaag - ECPv6.15.18//NONSGML v1.0//EN
CALSCALE:GREGORIAN
METHOD:PUBLISH
X-ORIGINAL-URL:https://industrievandaag.nl
X-WR-CALDESC:Evenementen voor Industrievandaag
REFRESH-INTERVAL;VALUE=DURATION:PT1H
X-Robots-Tag:noindex
X-PUBLISHED-TTL:PT1H
BEGIN:VTIMEZONE
TZID:Europe/Amsterdam
BEGIN:DAYLIGHT
TZOFFSETFROM:+0100
TZOFFSETTO:+0200
TZNAME:CEST
DTSTART:20250330T010000
END:DAYLIGHT
BEGIN:STANDARD
TZOFFSETFROM:+0200
TZOFFSETTO:+0100
TZNAME:CET
DTSTART:20251026T010000
END:STANDARD
BEGIN:DAYLIGHT
TZOFFSETFROM:+0100
TZOFFSETTO:+0200
TZNAME:CEST
DTSTART:20260329T010000
END:DAYLIGHT
BEGIN:STANDARD
TZOFFSETFROM:+0200
TZOFFSETTO:+0100
TZNAME:CET
DTSTART:20261025T010000
END:STANDARD
BEGIN:DAYLIGHT
TZOFFSETFROM:+0100
TZOFFSETTO:+0200
TZNAME:CEST
DTSTART:20270328T010000
END:DAYLIGHT
BEGIN:STANDARD
TZOFFSETFROM:+0200
TZOFFSETTO:+0100
TZNAME:CET
DTSTART:20271031T010000
END:STANDARD
END:VTIMEZONE
BEGIN:VEVENT
DTSTART;TZID=Europe/Amsterdam:20260324T090000
DTEND;TZID=Europe/Amsterdam:20260325T170000
DTSTAMP:20260419T144759
CREATED:20251205T134158Z
LAST-MODIFIED:20251205T134158Z
UID:10001542-1774342800-1774458000@industrievandaag.nl
SUMMARY:Future of Energy
DESCRIPTION:Op 24 en 25 maart 2026 organiseren FMO en Solarplaza opnieuw de ‘Future of Energy’-top in Amsterdam. Dit evenement van hoog niveau brengt een wereldwijde mix van topprojectontwikkelaars\, financiële instellingen\, investeerders\, dienstverleners en vermogensbezitters samen om de cruciale strategische uitdagingen en kansen aan te pakken die verband houden met het versnellen van de transitie naar hernieuwbare energie in opkomende markten. \n‘Future of Energy’ is een onmisbaar evenement voor iedereen die de uitdaging aangaat van de ontwikkeling en financiering van projecten op het gebied van hernieuwbare energie in Afrika\, Latijns-Amerika en Centraal- en Zuidoost-Azië. Met de nadruk op netwerkmogelijkheden\, interactieve paneldiscussies en keynotes van wereldklasse\, vat ‘Future of Energy’ een jaar aan bedrijfsontwikkeling samen in twee dagen vol leren\, netwerken en plezier!
URL:https://industrievandaag.nl/event/future-of-energy/
LOCATION:Muziekgebouw aan ’t IJ\, Piet Heinkade 1\, Amsterdam\, 1019 BR\, Netherlands
CATEGORIES:Congres
END:VEVENT
END:VCALENDAR