BEGIN:VCALENDAR
VERSION:2.0
PRODID:-//Industrievandaag - ECPv6.15.18//NONSGML v1.0//EN
CALSCALE:GREGORIAN
METHOD:PUBLISH
X-ORIGINAL-URL:https://industrievandaag.nl
X-WR-CALDESC:Evenementen voor Industrievandaag
REFRESH-INTERVAL;VALUE=DURATION:PT1H
X-Robots-Tag:noindex
X-PUBLISHED-TTL:PT1H
BEGIN:VTIMEZONE
TZID:Europe/Amsterdam
BEGIN:DAYLIGHT
TZOFFSETFROM:+0100
TZOFFSETTO:+0200
TZNAME:CEST
DTSTART:20240331T010000
END:DAYLIGHT
BEGIN:STANDARD
TZOFFSETFROM:+0200
TZOFFSETTO:+0100
TZNAME:CET
DTSTART:20241027T010000
END:STANDARD
BEGIN:DAYLIGHT
TZOFFSETFROM:+0100
TZOFFSETTO:+0200
TZNAME:CEST
DTSTART:20250330T010000
END:DAYLIGHT
BEGIN:STANDARD
TZOFFSETFROM:+0200
TZOFFSETTO:+0100
TZNAME:CET
DTSTART:20251026T010000
END:STANDARD
BEGIN:DAYLIGHT
TZOFFSETFROM:+0100
TZOFFSETTO:+0200
TZNAME:CEST
DTSTART:20260329T010000
END:DAYLIGHT
BEGIN:STANDARD
TZOFFSETFROM:+0200
TZOFFSETTO:+0100
TZNAME:CET
DTSTART:20261025T010000
END:STANDARD
END:VTIMEZONE
BEGIN:VEVENT
DTSTART;TZID=Europe/Amsterdam:20250408T090000
DTEND;TZID=Europe/Amsterdam:20250408T130000
DTSTAMP:20260419T165854
CREATED:20250403T142026Z
LAST-MODIFIED:20250404T044713Z
UID:10001341-1744102800-1744117200@industrievandaag.nl
SUMMARY:Bescherm je legacy OT-systemen en applicaties: Ontdek hoe je risico’s in kaart brengt
DESCRIPTION:Een nieuw event in Arnhem op dinsdag 8 april 2025 focust op de groeiende behoefte aan robuuste cybersecurity maatregelen binnen Operational Technology (OT) en Industrial Automation and Control Systems (IACS). Het event behandelt de volgende vragen: \n\nWaarom is het beveiligen van OT/IACS essentieel?\nHoe breng je de risico’s in kaart en pak je ze aan?\nWat is de effectieve OT-aanpak om zowel legacy als moderne OT-systemen te beschermen?\n\nInhoud \nDe complexiteit van OT/IACS-omgevingen\, in combinatie met de toenemende dreiging van cyberaanvallen en de opkomst van nieuwe regelgeving zoals de NIS2-richtlijn\, plaatst organisaties voor aanzienlijke uitdagingen. Veel bedrijven worstelen met het beveiligen van legacy systemen\, die vaak cruciaal zijn voor de bedrijfsvoering\, maar tegelijkertijd kwetsbaar zijn voor aanvallen. \n  \nDit evenement biedt een platform waar experts en professionals samenkomen om kennis en best practices te delen op het gebied van: \n\nRisico-inventarisatie en impactanalyse in OT/IACS-omgevingen.\nHet beveiligen van legacy systemen\, inclusief netwerkhardening\, patching en anti-malware strategieën.\nHet implementeren van segmentatie en intrusion detection/prevention systemen.\nDe toepassing van OT Zero Trust principes voor een verbeterde beveiligingspositie.\nDe implicaties van de NIS2-richtlijn en de stappen die organisaties moeten nemen om compliant te zijn.\n\nLive demonstraties en klantcase \nHet event omvat live demonstraties van OT-specifieke cybersecurity oplossingen en een presentatie van een klantcase\, waarin stapsgewijs het proces om risico’s in kaart te brengen wordt toegelicht. Een van de gedemonstreerde oplossingen is TXOne StellarProtect\, een anti-malware oplossing die ontworpen is voor OT-omgevingen en ondersteuning biedt voor oudere besturingssystemen. \nPraktische Informatie \n\nDatum: Dinsdag 8 april 2025\nTijd: 09:00 – 13:00 uur\nLocatie: Hotel Haarhuis\, Arnhem\n\nAanmelding \nGeïnteresseerden kunnen zich aanmelden via https://www.modelec.nl/bescherm-je-legacy-ot-systemen-en-applicaties-ontdek-hoe-je-risicos-in-kaart-brengt/. Vanwege de beperkte beschikbaarheid wordt vroege registratie aanbevolen. \n 
URL:https://industrievandaag.nl/event/bescherm-je-legacy-ot-systemen-en-applicaties-ontdek-hoe-je-risicos-in-kaart-brengt/
LOCATION:Hotel Haarhuis\, Stationsplein 1\, Arnhem\, 6811 KG\, Nederland
CATEGORIES:Seminar
ORGANIZER;CN="MODELEC Data-Industrie":MAILTO:contact@modelec.nl
END:VEVENT
END:VCALENDAR