BEGIN:VCALENDAR
VERSION:2.0
PRODID:-//Industrievandaag - ECPv6.15.18//NONSGML v1.0//EN
CALSCALE:GREGORIAN
METHOD:PUBLISH
X-WR-CALNAME:Industrievandaag
X-ORIGINAL-URL:https://industrievandaag.nl
X-WR-CALDESC:Evenementen voor Industrievandaag
REFRESH-INTERVAL;VALUE=DURATION:PT1H
X-Robots-Tag:noindex
X-PUBLISHED-TTL:PT1H
BEGIN:VTIMEZONE
TZID:Europe/Amsterdam
BEGIN:DAYLIGHT
TZOFFSETFROM:+0100
TZOFFSETTO:+0200
TZNAME:CEST
DTSTART:20240331T010000
END:DAYLIGHT
BEGIN:STANDARD
TZOFFSETFROM:+0200
TZOFFSETTO:+0100
TZNAME:CET
DTSTART:20241027T010000
END:STANDARD
BEGIN:DAYLIGHT
TZOFFSETFROM:+0100
TZOFFSETTO:+0200
TZNAME:CEST
DTSTART:20250330T010000
END:DAYLIGHT
BEGIN:STANDARD
TZOFFSETFROM:+0200
TZOFFSETTO:+0100
TZNAME:CET
DTSTART:20251026T010000
END:STANDARD
BEGIN:DAYLIGHT
TZOFFSETFROM:+0100
TZOFFSETTO:+0200
TZNAME:CEST
DTSTART:20260329T010000
END:DAYLIGHT
BEGIN:STANDARD
TZOFFSETFROM:+0200
TZOFFSETTO:+0100
TZNAME:CET
DTSTART:20261025T010000
END:STANDARD
END:VTIMEZONE
BEGIN:VEVENT
DTSTART;TZID=Europe/Amsterdam:20251109T090000
DTEND;TZID=Europe/Amsterdam:20251115T170000
DTSTAMP:20260419T145500
CREATED:20250404T083808Z
LAST-MODIFIED:20250827T121831Z
UID:10001449-1762678800-1763226000@industrievandaag.nl
SUMMARY:Agritechnica
DESCRIPTION:Agritechnica is unique among all exhibitions of agricultural machinery and equipment. This is where all the agricultural machinery companies operating throughout Europe and globally are represented directly. Agritechnica offers altogether the most comprehensive and broad-based exhibition programme for arable farming and plant production. \nTopics: Software\, Electronics\, Regenerating raw materials\, Fuel\, Tractors\, Fertilizer\, Fertilizer Technology\, Seeds\, Plant Protection\, Replacement Parts\, Landscape Preservation\, Irrigation Plants\, Second hand machine exchange\, Soil Cultivation Machines\, regenerative energies\, Lubricants\, Gears and Drives Technology\, Forestry Engineering\, Components\, Information Technology\, Harvesting Machines\, Transport Technology
URL:https://industrievandaag.nl/event/agritechnica/
LOCATION:Hannover Messe\, Hanover\, Duitsland
CATEGORIES:Vakbeurs
END:VEVENT
BEGIN:VEVENT
DTSTART;TZID=Europe/Amsterdam:20250922T093000
DTEND;TZID=Europe/Amsterdam:20250927T170000
DTSTAMP:20260419T145500
CREATED:20250404T083313Z
LAST-MODIFIED:20250827T121711Z
UID:10001408-1758533400-1758992400@industrievandaag.nl
SUMMARY:EMO
DESCRIPTION:EMO Hannover is the world’s leading trade fair for production technology. \nAt EMO Hannover the following joint stands are available: Open Space Cobot Solutions Area\, Future of Connectivity Area\, Additive Manufacturing Area\, Future of Sustainability in Production Area. Your benefits in a nutshell: \n\nlow planning and organization expenses\nlow overall and staff expenses\nprofessional support and advice\ncomprehensive press relations for your area\nchoice of various stand sizes\nattractive advertising material package for your visitor approach\nunlimited free admission codes to EMO Hannover for your customers\n\nThe Future of Connectivity Area focuses on the networking of production processes. This is where the relevant decision-makers from international companies will find out about innovative data-based connectivity: new applications\, automation processes\, smart production\, Industry 4.0\, machine learning\, predictive maintenance\, Industrial Internet of Things (IIoT) – and much more. \nThe Additive Manufacturing Area is well established at EMO Hannover. It is the place to go for all trade visitors who are interested in the latest developments in additive manufacturing processes at the world’s leading trade show for production technology. Here\, companies showcase innovative concepts: direct and indirect 3D printing technologies\, materials\, rapid product development (RPD). In addition\, they provide answers to the question of how additive manufacturing can be integrated into the production process. \nThe Open Space Cobot Solutions Area is the thematic section dedicated to collaborative robots\, their applications and possible uses. Here\, companies present automation solutions through cobots and their innovative applications to the international trade audience: grippers\, image processing\, measuring systems\, software\, industrial electronics\, feeding systems – and much more. \nEnergy-efficient and sustainable production processes: the Future of Sustainability in Production Area is the ideal place to go to experience cutting-edge solutions for tomorrow’s green production. Here\, exhibitors provide information on trends in energy efficiency\, the integration of renewable energies\, recycling management and life cycle concepts – a highlight of the world’s leading trade fair for production technology\, not only with a view to climate protection and lowering production costs in times of persistent energy and raw material shortages. \nMore information about EMO Hannover
URL:https://industrievandaag.nl/event/emo/
LOCATION:Hannover Messe\, Hanover\, Duitsland
CATEGORIES:Vakbeurs
END:VEVENT
BEGIN:VEVENT
DTSTART;TZID=Europe/Amsterdam:20250520T090000
DTEND;TZID=Europe/Amsterdam:20250522T170000
DTSTAMP:20260419T145500
CREATED:20250403T142117Z
LAST-MODIFIED:20250516T044713Z
UID:10001369-1747731600-1747933200@industrievandaag.nl
SUMMARY:Labvolution
DESCRIPTION:Digitalization and sustainability – those are today’s key trends for the lab industry\, and LABVOLUTION shines a spotlight on them. As the flagship European trade show for innovative laboratory equipment and the optimization of laboratory workflows\, LABVOLUTION covers the entire spectrum of lab technology and highlights the new directions and developments relevant to all user sectors. The winning LABVOLUTION combo focuses on innovative products and services\, “Laboratory 4.0” and digitalization. Together\, the two shows provide a highly effective platform for developing new business\, and learning about the latest products\, ideas and innovations
URL:https://industrievandaag.nl/event/labvolution/
LOCATION:Hannover Messe\, Hanover\, Duitsland
CATEGORIES:Vakbeurs
END:VEVENT
END:VCALENDAR