BEGIN:VCALENDAR
VERSION:2.0
PRODID:-//Industrievandaag - ECPv6.15.18//NONSGML v1.0//EN
CALSCALE:GREGORIAN
METHOD:PUBLISH
X-WR-CALNAME:Industrievandaag
X-ORIGINAL-URL:https://industrievandaag.nl
X-WR-CALDESC:Evenementen voor Industrievandaag
REFRESH-INTERVAL;VALUE=DURATION:PT1H
X-Robots-Tag:noindex
X-PUBLISHED-TTL:PT1H
BEGIN:VTIMEZONE
TZID:Europe/Amsterdam
BEGIN:DAYLIGHT
TZOFFSETFROM:+0100
TZOFFSETTO:+0200
TZNAME:CEST
DTSTART:20240331T010000
END:DAYLIGHT
BEGIN:STANDARD
TZOFFSETFROM:+0200
TZOFFSETTO:+0100
TZNAME:CET
DTSTART:20241027T010000
END:STANDARD
BEGIN:DAYLIGHT
TZOFFSETFROM:+0100
TZOFFSETTO:+0200
TZNAME:CEST
DTSTART:20250330T010000
END:DAYLIGHT
BEGIN:STANDARD
TZOFFSETFROM:+0200
TZOFFSETTO:+0100
TZNAME:CET
DTSTART:20251026T010000
END:STANDARD
BEGIN:DAYLIGHT
TZOFFSETFROM:+0100
TZOFFSETTO:+0200
TZNAME:CEST
DTSTART:20260329T010000
END:DAYLIGHT
BEGIN:STANDARD
TZOFFSETFROM:+0200
TZOFFSETTO:+0100
TZNAME:CET
DTSTART:20261025T010000
END:STANDARD
END:VTIMEZONE
BEGIN:VEVENT
DTSTART;TZID=Europe/Amsterdam:20250416T090000
DTEND;TZID=Europe/Amsterdam:20250416T173000
DTSTAMP:20260419T151024
CREATED:20250403T142028Z
LAST-MODIFIED:20250411T044714Z
UID:10001348-1744794000-1744824600@industrievandaag.nl
SUMMARY:Kooy Symposium – Weerbaarder door Technologie
DESCRIPTION:Onze samenleving wordt geconfronteerd met diverse dreigingen\, zoals militaire en hybride dreigingen en maatschappelijke onrust. De rode draad is dat onze samenleving voorbereid en weerbaar(der) moet zijn tegen deze dreigingen. Militaire capaciteiten staan de samenleving bij in het versterken van de weerbaarheid. Technologische ontwikkelingen helpen Defensie om zowel zelf weerbaarder te worden als bij te dragen aan een weerbare samenleving. Andersom kan een weerbare samenleving Defensie ondersteunen indien er een militair conflict is. Ook daarbij speelt technologie een belangrijke rol. \nTijdens het Kooy symposium 2025 gaan we in op verschillende technologische ontwikkelingen die nu\, maar zeker ook in de (nabije) toekomst Defensie en de samenleving helpen om de diverse dreigingen het hoofd te bieden. Denk daarbij aan slimme sensoren voor het bewaken en beveiligen van vitale infrastructuur\, autonome systemen om taken van mensen over te nemen\, kwantum-technologie om gevoelige (civiele en militaire) data te beschermen en lasersystemen om ‘ongewenste’ drones uit te schakelen. \nDoor de steeds grotere aantallen deelnemers en stijgende cateringkosten kunnen we het symposium helaas niet meer helemaal kosteloos organiseren. Daarom vragen we dit keer een bijdrage van € 15\,- voor de lunch en koffiebuffetten en optioneel nog € 15\,- voor het Indonesische buffet na afloop.
URL:https://industrievandaag.nl/event/kooy-symposium-weerbaarder-door-technologie/
LOCATION:Gen. Maj. Koot kazern in Stroe\, Wolweg 100\, Stroe\, 3776 LR\, Netherlands
CATEGORIES:Symposium
END:VEVENT
END:VCALENDAR