BEGIN:VCALENDAR
VERSION:2.0
PRODID:-//Industrievandaag - ECPv6.15.18//NONSGML v1.0//EN
CALSCALE:GREGORIAN
METHOD:PUBLISH
X-WR-CALNAME:Industrievandaag
X-ORIGINAL-URL:https://industrievandaag.nl
X-WR-CALDESC:Evenementen voor Industrievandaag
REFRESH-INTERVAL;VALUE=DURATION:PT1H
X-Robots-Tag:noindex
X-PUBLISHED-TTL:PT1H
BEGIN:VTIMEZONE
TZID:Europe/Amsterdam
BEGIN:DAYLIGHT
TZOFFSETFROM:+0100
TZOFFSETTO:+0200
TZNAME:CEST
DTSTART:20250330T010000
END:DAYLIGHT
BEGIN:STANDARD
TZOFFSETFROM:+0200
TZOFFSETTO:+0100
TZNAME:CET
DTSTART:20251026T010000
END:STANDARD
BEGIN:DAYLIGHT
TZOFFSETFROM:+0100
TZOFFSETTO:+0200
TZNAME:CEST
DTSTART:20260329T010000
END:DAYLIGHT
BEGIN:STANDARD
TZOFFSETFROM:+0200
TZOFFSETTO:+0100
TZNAME:CET
DTSTART:20261025T010000
END:STANDARD
BEGIN:DAYLIGHT
TZOFFSETFROM:+0100
TZOFFSETTO:+0200
TZNAME:CEST
DTSTART:20270328T010000
END:DAYLIGHT
BEGIN:STANDARD
TZOFFSETFROM:+0200
TZOFFSETTO:+0100
TZNAME:CET
DTSTART:20271031T010000
END:STANDARD
END:VTIMEZONE
BEGIN:VEVENT
DTSTART;TZID=Europe/Amsterdam:20260601T090000
DTEND;TZID=Europe/Amsterdam:20260601T163000
DTSTAMP:20260419T145554
CREATED:20260313T125546Z
LAST-MODIFIED:20260313T125926Z
UID:10001657-1780304400-1780331400@industrievandaag.nl
SUMMARY:COMSOL Day Eindhoven
DESCRIPTION:Modeling and simulation is used for innovation across a range of industries\, and this COMSOL Day will highlight some of its many applications. \nKeynote speakers from leading Dutch organizations will present real-world examples of multiphysics modeling in research\, development\, and product design. COMSOL-led sessions will demonstrate the capabilities of COMSOL Multiphysics® for structural mechanics\, electromagnetics\, CFD\, and coupled multiphysics phenomena such as fluid–structure interaction and electromagnetic heating with thermal expansion. There will also be demonstrations of surrogate modeling based on deep neural networks and integration into digital twins. \nAdditionally\, there will be opportunities at this free 1-day event to ask questions and interact with COMSOL applications engineers and simulation experts in the Netherlands. \nComplimentary lunch\, snacks\, and refreshments will be included. \nSchedule\n9:00 Registration & Welcome Coffee \n9:30 Modeling Trends in the Netherlands\n \n9:45 Introduction to COMSOL Multiphysics®\n \n  \n10:30 Keynote Talks \n\nUsing COMSOL Multiphysics® at ASML\n\nDesign & Optimization of Magnetic Systems Using COMSOL® at Goudsmit Magnetics\n\n\n  \n11:45 Parallel Session \n\nGuided Modeling Exercise\n\nSimulation Apps & Digital Twins\n\n\n12:30 Break for Lunch \n  \n13:30 Parallel Session \n\nSolvers & GPU Acceleration\n\nFluid Flow & Heat Transfer\n\n\n  \n14:30 Parallel Session \n\nElectromagnetics\n\nStructural Mechanics\n\n\n  \n15:30 Keynote Talk — Vignesh Murali\, Smit Thermal Solutions \n\nMore information about this event
URL:https://industrievandaag.nl/event/comsol-day-eindhoven/
LOCATION:Conference Center The Strip High Tech Campus\, High Tech Campus 1 (The Strip)\, 5656 AE\, 5656 AE\, Nederland
CATEGORIES:Seminar
ORGANIZER;CN="COMSOL":MAILTO:info@comsol.nl
END:VEVENT
END:VCALENDAR