BEGIN:VCALENDAR
VERSION:2.0
PRODID:-//Industrievandaag - ECPv6.15.18//NONSGML v1.0//EN
CALSCALE:GREGORIAN
METHOD:PUBLISH
X-ORIGINAL-URL:https://industrievandaag.nl
X-WR-CALDESC:Evenementen voor Industrievandaag
REFRESH-INTERVAL;VALUE=DURATION:PT1H
X-Robots-Tag:noindex
X-PUBLISHED-TTL:PT1H
BEGIN:VTIMEZONE
TZID:Europe/Amsterdam
BEGIN:DAYLIGHT
TZOFFSETFROM:+0100
TZOFFSETTO:+0200
TZNAME:CEST
DTSTART:20250330T010000
END:DAYLIGHT
BEGIN:STANDARD
TZOFFSETFROM:+0200
TZOFFSETTO:+0100
TZNAME:CET
DTSTART:20251026T010000
END:STANDARD
BEGIN:DAYLIGHT
TZOFFSETFROM:+0100
TZOFFSETTO:+0200
TZNAME:CEST
DTSTART:20260329T010000
END:DAYLIGHT
BEGIN:STANDARD
TZOFFSETFROM:+0200
TZOFFSETTO:+0100
TZNAME:CET
DTSTART:20261025T010000
END:STANDARD
BEGIN:DAYLIGHT
TZOFFSETFROM:+0100
TZOFFSETTO:+0200
TZNAME:CEST
DTSTART:20270328T010000
END:DAYLIGHT
BEGIN:STANDARD
TZOFFSETFROM:+0200
TZOFFSETTO:+0100
TZNAME:CET
DTSTART:20271031T010000
END:STANDARD
END:VTIMEZONE
BEGIN:VEVENT
DTSTART;TZID=Europe/Amsterdam:20261029T090000
DTEND;TZID=Europe/Amsterdam:20261029T170000
DTSTAMP:20260419T164738
CREATED:20250404T083753Z
LAST-MODIFIED:20251211T143216Z
UID:10001445-1793264400-1793293200@industrievandaag.nl
SUMMARY:✅ ABISS Nederland
DESCRIPTION:The next intersection 4 innovative industrial interconnection. Een succesvolle summit/ netwerkbeurs voor digital\, smart & connected industry. \nIn 2016 lanceerde team Industrialfairs\, organisator van meerdere techno-industriële vakbeurzen\, het project ABISS. Een kleine summit met 32 technologiepartners\, 260 deelnemers en 14 high-end keynotes omtrent industriële digitalisering\, industry 4.0 en IoT. Een schot in de roos dat resulteerde in jaarlijks groeiende edities in bezoekers en technologiepartners. Dit met een strenge bewaking van de content : apps\, software en oplossingen voor de slimme en geconnecteerde fabriek(en) van morgen. \nIn 2024 mocht de 9de editie ABISS in België maarliefst 1303 fysieke én digitale bezoekers verwelkomen. Nu is de tijd aangebroken om\, naast de jaarlijke ABISS BE-editie\, ook ABISS in Nederland te organiseren. Na een grondige marktbevraging & aftoetsing bij diverse stakeholders werd duidelijk dat dergelijk evenement op het nodige draagvlak en enthousiasme kan rekenen voor een eerste editie. \nBreepark\, Breda \nDeze unieke eventlocatie wordt het decor van deze eerste ABISS NL op donderdag 30 oktober 2025. ABISS NL wordt “the place to be” voor management en OT-IT -teams uit de Benelux industrie\, op zoek naar oplossingen voor digitale processen in hun organisatie. De opzet van een 1-dagsevent waar je de gebundelde kennis van 14 IoT-experten en future factories onmiddellijk kan testen op een beursvloer is de essentie. Het aanbod in kennis van experten\, alsook het aanbod van technologieën en partners wordt onderverdeeld in 3 hoofdthema’s\, nl.: Industry of Things\, Intelligence of Things en Security of Things. \nSamen met een mooi aantal technologiepartners zijn wij klaar om ook ABISS in Nederland tot een succesvol netwerkconcept uit te bouwen! \nABISS dat is … \n\nSoftware en applicaties voor partiële of totale digitalisering van processen : ERP\, MES\, PLM\, ERP\, CAD/CAE/CAM\, WMS…\nIoT Big Data\, Analytics\, AI\, Deep Learning\, Machine Learning\, AR/VR/XR\, Blockchain\,\nDigital Twin\, Man-Machine Interfaces\, Cloud/Edge en 4G/5G/Lifi \, Industrial Cybersecurity\nSpecifieke apps\, dashboards\, devices\, integraties en technologie voor monitoring\, IoT en Mobile\n\n… voor C-levels en afdelingshoofden (OT en IT) verantwoordelijk voor diverse processen \nEngineering & design / onderzoek & ontwikkeling / productie & assemblage / maintenance & asset management / supply chain / kwaliteit & planning / logistiek\, opslag & distributie / verkoop & dienst na verkoop. \n… en dit uit alle takken van de industrie (discrete & process) \n\nAutomotive\, Aerospace\, defense\nMicro-electronica\nProductie\, assemblage\, transformatie van metalen\, PVC\, hout\, aluminium\, composiet\, hybride materialen\nHaven en Logistiek\nMachine- en apparatenbouw – Elektronica – Mechatronica\nMaakindustrie\nPetro/Chemie/Farma\nFood & Foodprocessing\nEnergy\, Power\, Water Supply & Industrial Infrastructures\n\nABISS in Nederland en in Belgie\n\nDonderdag 8 oktober: vakbeurs ABISS in Kortrijk Expo (meer informatie)\nDonderdag 29 oktober: vakbeurs ABISS in Breda (meer informatie)
URL:https://industrievandaag.nl/event/%e2%9c%85-abiss-nederland/
LOCATION:Breepark Breda\, Bavelseparklaan\, Breda\, 4817 ZX\, Nederland
CATEGORIES:Vakbeurs
ORGANIZER;CN="Industrial Fairs":MAILTO:info@industrialfairs.com
END:VEVENT
END:VCALENDAR